BEGIN:VCALENDAR
VERSION:2.0
PRODID:-//Rock This Town - ECPv6.10.2//NONSGML v1.0//EN
CALSCALE:GREGORIAN
METHOD:PUBLISH
X-WR-CALNAME:Rock This Town
X-ORIGINAL-URL:https://rockthistown-pau.fr
X-WR-CALDESC:Évènements pour Rock This Town
REFRESH-INTERVAL;VALUE=DURATION:PT1H
X-Robots-Tag:noindex
X-PUBLISHED-TTL:PT1H
BEGIN:VTIMEZONE
TZID:Europe/Paris
BEGIN:DAYLIGHT
TZOFFSETFROM:+0100
TZOFFSETTO:+0200
TZNAME:CEST
DTSTART:20240331T010000
END:DAYLIGHT
BEGIN:STANDARD
TZOFFSETFROM:+0200
TZOFFSETTO:+0100
TZNAME:CET
DTSTART:20241027T010000
END:STANDARD
END:VTIMEZONE
BEGIN:VEVENT
DTSTART;TZID=Europe/Paris:20240505T100000
DTEND;TZID=Europe/Paris:20240505T180000
DTSTAMP:20260420T124829
CREATED:20200220T153818Z
LAST-MODIFIED:20240327T070000Z
UID:1381-1714903200-1714932000@rockthistown-pau.fr
SUMMARY:13e Salon du Disque de Pau / Billère
DESCRIPTION:13e Salon Du Disque de Pau / Billère\nOrganisé par Ampli & Rock This Town festival. \nOrganisé à la Halle de Billère grâce au soutien de la Ville de Billère et la Communauté d’Agglomération \nLe rendez-vous incontournable des mélomanes amateurs et collectionneurs ! \nStands professionnels et particuliers + labels indépendants / Vinyls\, CD\, cassettes\, produits dérivés… \nToutes les époques\, tous les styles\, tous les prix \nSur place : restauration rapide\, buvette\, mini exposition\, toilettes\, parking gratuit\, accès de plein pied \nContact / réservation stand : Xavier au 06 03 42 37 70 / xlefalher@hotmail.com \nHalle de Billère / route de Bayonne / de 10h à 18h00 / entrée libre \n  \nANIMATIONS \nConcert à 11h30 & 18h00 / Programmation à venir\n \nFood Truck Blandice French Street Food / Sur place toute la journée\n \n  
URL:https://rockthistown-pau.fr/event/salon-disque-13e-edition/
LOCATION:Halle de Billère\, 31 route de Bayonne\, Billère\, 64140\, France
CATEGORIES:Salon du Disque
ATTACH;FMTTYPE=image/jpeg:https://rockthistown-pau.fr/wp-content/uploads/2020/02/SalonDuDisque5mai2024-copie-scaled.jpg
ORGANIZER;CN="Ampli":MAILTO:contact@ampli.asso.fr
END:VEVENT
END:VCALENDAR