BEGIN:VCALENDAR
VERSION:2.0
PRODID:-//Rock This Town - ECPv6.10.2//NONSGML v1.0//EN
CALSCALE:GREGORIAN
METHOD:PUBLISH
X-ORIGINAL-URL:https://rockthistown-pau.fr
X-WR-CALDESC:Évènements pour Rock This Town
REFRESH-INTERVAL;VALUE=DURATION:PT1H
X-Robots-Tag:noindex
X-PUBLISHED-TTL:PT1H
BEGIN:VTIMEZONE
TZID:Europe/Paris
BEGIN:DAYLIGHT
TZOFFSETFROM:+0100
TZOFFSETTO:+0200
TZNAME:CEST
DTSTART:20250330T010000
END:DAYLIGHT
BEGIN:STANDARD
TZOFFSETFROM:+0200
TZOFFSETTO:+0100
TZNAME:CET
DTSTART:20251026T010000
END:STANDARD
END:VTIMEZONE
BEGIN:VEVENT
DTSTART;TZID=Europe/Paris:20250501T200000
DTEND;TZID=Europe/Paris:20250501T200000
DTSTAMP:20260419T213108
CREATED:20250323T105324Z
LAST-MODIFIED:20250404T080256Z
UID:4974-1746129600-1746129600@rockthistown-pau.fr
SUMMARY:PURPLE RAIN - WARM UP FESTIVAL
DESCRIPTION:Au Café Méliès – dès 19h : DJ Ewing (funk/disco/house et Prince) \nProjection des bandes annonces des films du festival\, stand info & merchandising Festival \n20h – Film : Purple Rain \nAlbert Magnoli / Etats-Unis / 1985 / 1h48 / VOSTF / Fiction \nPrésenté en before de Rock This Town à l’occasion de ses 40 ans (le film est sorti en France en 1985)\, ce véritable délire visuel\, proche d’un clip géant\, est devenu culte en majeure partie grâce à sa musique. \nIntransigeant et mégalomane\, le « Kid »\, musicien de génie\, se cloître dans un isolement protecteur. Le leader d’un groupe funk\, Morris Day\, lui dispute une notoriété grandissante et le cœur de la belle et mystérieuse Apollonia. Les personnages de ce film interprètent pratiquement tous leur propre rôle\, à commencer par Prince\, la star des années quatre-vingts. C’est ce film qui propulse Prince\, un chanteur de 1 mètre 57\, d’une énergie à couper le souffle et qui fait connaître ses compositions à ceux qui ne les avaient pas encore entendues\, à travers un autre média que les radios et les télévisions. Succès planétaire\, la sortie du film est assortie d’un matraquage des titres de l’album « Purple Rain » sur toutes les radios\, ainsi que d’une tournée Purple Rain Tour. Mais le film est devenu avec le temps un témoignage unique sur la scène funk rock des eighties \n22h15 : DJ Ewing (funk/disco/house et Prince)
URL:https://rockthistown-pau.fr/event/purple-rain-bobine-du-jeudi-soiree-presentation-festival/
LOCATION:Cinéma Le Méliès\, 15 Place du Foirail\, Pau\, 64000\, France
CATEGORIES:Séances spéciales
ATTACH;FMTTYPE=image/jpeg:https://rockthistown-pau.fr/wp-content/uploads/2025/03/PURPLE-RAIN.jpg
ORGANIZER;CN="Cin%C3%A9ma Le M%C3%A9li%C3%A8s":MAILTO:contact@lemelies.net
END:VEVENT
BEGIN:VEVENT
DTSTART;TZID=Europe/Paris:20250502T180000
DTEND;TZID=Europe/Paris:20250502T180000
DTSTAMP:20260419T213108
CREATED:20250409T054508Z
LAST-MODIFIED:20250412T082747Z
UID:5555-1746208800-1746208800@rockthistown-pau.fr
SUMMARY:Open Air Party - Rock This Town 2025
DESCRIPTION:OPEN AIR PARTY\nVendredi 2 mai – Place du Foirail \nDJ SET – CONCERT – CINÉMA PLEIN AIR\nGRATUIT !!!\n\nDès 18h : DJ set rock\, electro\, soul\, post punk…\nUn mix d’univers musicaux pour annoncer le festival international du film musical ! \n  \nSur Place : Buvette\, Terrasses\, Restaurant\, Street Food…\n\n \nLa Café Méliès + la buvette du Méliès \nEt tous nos amis du Foirail : Chez Laurette\, l’Alguazil\, le Hong Chang\, les Amants du Marché\, O’ Nachos\, La Station Gourmande\, le Labo Street Food\, \, la Tireuse\, Le Bar du Foirail … \n\n\n\n\n\n\n\n\n20h45 : concert Flanagan\n \n  \n(Indie Rock / Bordeaux) \n\n\n\n\nS’il a choisit Flanagan comme nom de scène\, c’est car ce nom lui inspirait la vie de pirate\, synonyme de liberté. Ayant choisi finalement la scène à l’océan\, Flanagan garde son désir de liberté et le retranscrit dans sa musique. Des univers qu’il imagine\, aux mélodies rock teintées de blues\, funk et même de rap\, il ne se fixe aucune limite et jongle avec ses influences : Les Beatles\, Otis Redding\, Le Wu-Tang… une palette musicale qu’il assume et nous fait découvrir au fil de ses morceaux. \nFlanagan s’essaie à tout\, il joue\, distille\, expérimente\, compose. Ses textes sont honnêtes\, sa musique efficace\, du rock bien sûr\, agrémenté de riffs tantôt psychédéliques\, tantôt garage. Des mélodies pop et parfois trap\, le compositeur/interprète n’a peur de rien\, et marie la franchise musicale des débuts à une voix singulière et une composition maîtrisée. Flanagan\, Clément Pichou de son vrai nom\, a toujours baigné dans la musique\, sa mère écoutait du jazz\, son père du rock\, son frère du rap. Il commence la guitare à quatorze ans et rapidement\, trouve un groupe pour monter son projet Flanagan : compositeur\, auteur\, interprète\, il expérimente derrière son micro\, sa guitare et son clavier. \n\n\nEn parallèle de compositions imposantes Flanagan étend sa composition et son univers à des productions davantage intimistes\, où il invite son cercle d’amis et musiciens à reprendre avec lui ses compositions en acoustique\, en formation minimale. Le projet intitulé “Rough Sessions”\, se place entre blues et folk. \nSon tout premier album THE KIDS AND THE WARM GUN est disponible depuis le 4 octobre 2024\, un retour aux sources pour Flanagan\, un retour au rock. Il le fait habilement en tordant des codes vieillissants et usés\, en s’affranchissant de leurs rails polis et en modernisant des sonorités profondément rentre- dedans. \n\n\n\n\n\n21h30 : séance plein air gratuite\nRoad Diary\, Bruce Springsteen and the E Street Band\n \nThom Zimny / Etats-Unis / 2024 / 1h39 / VOSTF / Documentaire / avec l’aimable autorisation de Disney  \nUne tournée aux côtés du Boss\, entre séquences de répétition et scènes live explosives à vivre devant le grand écran !  \nCe documentaire de Thom Zimny\, collaborateur historique de l’artiste\, offre un accès inégalé au processus créatif qui entoure les concerts légendaires de Bruce Springsteen et son groupe\, avec des séquences intimistes filmées lors des répétitions\, des moments forts en coulisse\, et le point de vue du Boss lui-même. Découvrez les images officielles de la tournée 2023-2024\, depuis les préparatifs jusqu’aux chansons qu’ils ont jouées sur tous les continents devant des dizaines de milliers de personnes ! En 2022\, en sortie de pandémie\, Bruce Springsteen et le E Street Band ont donc enfin commencé à répéter pour leur première tournée depuis six ans. Ils n’ont rien enregistré en studio depuis Letter to You\, sorti en 2019\, et c’est cette préparation méticuleuse de ce retour à la scène que nous sommes invités à observer\, avec Springsteen en personne dans le rôle de directeur musical. Le film\, produit par Bruce Springsteen\, également auteur et narrateur\, se déroule comme un journal intime de tournée explorant la fraternité qui lie tout le groupe\, en même temps que les coulisses de cette tournée hors norme. Un témoignage captivant et inestimable sur le rockeur et sa vie sur la route. \n 
URL:https://rockthistown-pau.fr/event/open-air-party-warm-up-rock-this-town-2025/
LOCATION:Cinéma Le Méliès\, 15 Place du Foirail\, Pau\, 64000\, France
CATEGORIES:Concert,DJ set,Séances spéciales
ATTACH;FMTTYPE=image/jpeg:https://rockthistown-pau.fr/wp-content/uploads/2025/04/489922850_1256039673195861_2287411190209616428_n.jpg
ORGANIZER;CN="Cin%C3%A9ma Le M%C3%A9li%C3%A8s":MAILTO:contact@lemelies.net
END:VEVENT
BEGIN:VEVENT
DTSTART;TZID=Europe/Paris:20250502T213000
DTEND;TZID=Europe/Paris:20250502T213000
DTSTAMP:20260419T213108
CREATED:20250406T075724Z
LAST-MODIFIED:20250411T090929Z
UID:5340-1746221400-1746221400@rockthistown-pau.fr
SUMMARY:Road Diary : Bruce Springsteen And The E Street Band
DESCRIPTION:Road Diary : Bruce Springsteen And The E Street Band \nThom Zimny / Etats-Unis / 2024 / 1h39 / VOSTF / Documentaire  \nAvec l’aimable autorisation de Disney + \nUne tournée aux côtés du Boss\, entre séquences de répétition et scènes live explosives à vivre devant le grand écran !  \nCe documentaire de Thom Zimny\, collaborateur historique de l’artiste\, offre un accès inégalé au processus créatif qui entoure les concerts légendaires de Bruce Springsteen et son groupe\, avec des séquences intimistes filmées lors des répétitions\, des moments forts en coulisse\, et le point de vue du Boss lui-même. Découvrez les images officielles de la tournée 2023-2024\, depuis les préparatifs jusqu’aux chansons qu’ils ont jouées sur tous les continents devant des dizaines de milliers de personnes ! En 2022\, en sortie de pandémie\, Bruce Springsteen et le E Street Band ont donc enfin commencé à répéter pour leur première tournée depuis six ans. Ils n’ont rien enregistré en studio depuis Letter to You\, sorti en 2019\, et c’est cette préparation méticuleuse de ce retour à la scène que nous sommes invités à observer\, avec Springsteen en personne dans le rôle de directeur musical. Le film\, produit par Bruce Springsteen\, également auteur et narrateur\, se déroule comme un journal intime de tournée explorant la fraternité qui lie tout le groupe\, en même temps que les coulisses de cette tournée hors norme. Un témoignage captivant et inestimable sur le rockeur et sa vie sur la route. \nVen. 2 mai à 21h30 Séance plein air place du Foirail.  \nEn cas de mauvais temps\, repli au cinéma le Méliès\, 21h30 – Salle 300\, dans la limite des places disponibles
URL:https://rockthistown-pau.fr/event/road-diary-bruce-springsteen-and-the-e-street-band/
LOCATION:Cinéma Le Méliès\, 15 Place du Foirail\, Pau\, 64000\, France
CATEGORIES:Film hors compétition,Séances spéciales
ATTACH;FMTTYPE=image/jpeg:https://rockthistown-pau.fr/wp-content/uploads/2025/04/Bruce-Springsteen.jpg
ORGANIZER;CN="Cin%C3%A9ma Le M%C3%A9li%C3%A8s":MAILTO:contact@lemelies.net
END:VEVENT
BEGIN:VEVENT
DTSTART;TZID=Europe/Paris:20250503T203000
DTEND;TZID=Europe/Paris:20250503T203000
DTSTAMP:20260419T213108
CREATED:20250323T110008Z
LAST-MODIFIED:20250501T054613Z
UID:4978-1746304200-1746304200@rockthistown-pau.fr
SUMMARY:Brian Jones & Les Rolling Stones + Philippe Manœuvre
DESCRIPTION:Billetterie en ligne\n  \n18h : @Méliès / Rencontre dédicace avec Philippe Manœuvre  \nen partenariat avec la Librairie l’Escampette \n19h – Café Méliès : DJ set 60’s / Dj Hellvis & Paul Memphis\n \n20h – Brian Jones et les Rolling Stones \nNick Broomfield / Royaume-Uni / 2025 / 1h38 / VOSTF / Documentaire \nBrian Jones et les Rolling Stones \nNick Broomfield / Royaume Uni 2025 / 1h38 / VOSTF \nLe nouveau film de Nick Broomfield qui pose la question du rôle essentiel qu’a joué le musicien dans l’histoire du groupe. La biographie d’une icône du rock\, racontée via des entretiens inédits et des archives sonores étonnantes. \nQui se souvient vraiment de Brian Jones ? Pourtant\, il est le visionnaire à l’origine des Rolling Stones. À travers des interviews exclusives de proches\, des membres du groupe et grâce à des archives rares et inédites\, ce documentaire retrace l’incroyable parcours de ce musicien de génie. Célébrant son rôle fondamental dans la naissance et le succès des Rolling Stones\, le film plonge au cœur des tensions internes qui ont conduit à son éviction tragique\, révélant une histoire fascinante et bouleversante sur l’ascension du plus grand groupe de rock de tous les temps. On doit à Nick Broomfield bien des films musicaux : KURT AND COURTNEY\, BIGGIE AND TUPAC\, WHITNEY\, CAN I BE ME\, et le plus récent : MARIANNE AND LEONARD\, WORDS OF LOVE. En s’attaquant au mythe Rolling Stones\, par le prisme de son fantôme Brian Jones\, il rend hommage aux visionnaires\, aux marginaux du rock\, aux légendes mises de côté qui n’en finissent pas de fasciner. Comme le Syd Barrett de Pink Floyd\, Brian Jones est ici montré comme un insaisissable personnage\, et une icône mythique du Swinging London. \n \n\nPHILIPPE MANŒUVRE À PAU ! ROCK THIS TOWN FEST.\n\n\n\nPhilippe Manœuvre\, né le 19 juin 1954 à Sainte-Menehould (Marne)\, est un critique musical\, éditorialiste et journaliste dans la presse écrite\, un animateur d’émissions de télévision et de radio francophones et un scénariste de bandes dessinées. Connu comme journaliste spécialisé dans le rock\, Philippe Manoeuvre\, diplômé de l’Ecole française des attachés de presse\, publie pour la première fois dans Rock & Folk en 1973. Il devient rédacteur en chef de la revue de bande dessinée de fiction «Métal hurlant » de 1979 à 1984 puis travaille aux Humanoïdes associés. Il y anime la collection «Speed 17». Changement de décor\, le journaliste fait son apparition à la télévision aux côtés de Jean-Pierre Dionnet dans plusieurs émissions devenues cultes notamment « Les Enfants du rock ». Toujours en quête de nouveauté\, il anime l’émission radio « La Voix du lézard » avec son complice Jean-Pierre Dionnet puis « Les Grandes manoeuvres » sur France Inter. Il réalise plusieurs documentaires sur le rock et le blues pour Canal + et anime « Rock Press Club » sur Canal Jimmy. Il officie comme directeur de collection aux éditions Albin Michel\, est rédacteur en chef du magazine Rock & Folk depuis 1993 et a été chargé de la programmation musicale du « Bol d’or » pendant dix ans. Le journaliste passionné de rock a publié de nombreux ouvrages notamment « James Brown »\, « Michael Jackson »\, « Rock’n’Roll : la discothèque idéale : 101 disques qui ont changé le monde »\, « Stoned – Vingt ans de confidences’ et une autobiographie ‘L’Enfant du rock ». En 2008\, il arrive là où personne ne l’attendait : à la Nouvelle Star en tant que membre du jury. Philippe Manœuvre prête aussi sa voix au dernier jeu vidéo Guitar Hero. Auteur d’ouvrages incontournables sur la musique\, comme la Discothèque Rock Ultime (Le livre de référence pour tout amateur de rock)\, ressorti récemment\, il sort son autobiographie ROCK\, en 2018\, racontant 30 ans d’histoire du rock! Une histoire du rock en 202 vinyles cultes sort en 2020. Personnage original\, incontournable\, Philippe Manoeuvre est sans conteste un des plus grands spécialistes du rock en France et un connaisseurs hors pair de la carrière des Rolling Stones.
URL:https://rockthistown-pau.fr/event/brian-jones-les-rolling-stones-philippe-manoeuvre/
LOCATION:Cinéma Le Méliès\, 15 Place du Foirail\, Pau\, 64000\, France
CATEGORIES:Film hors compétition,Séances spéciales
ATTACH;FMTTYPE=image/jpeg:https://rockthistown-pau.fr/wp-content/uploads/2025/03/BrianJonesRollingStones8-scaled.jpg
ORGANIZER;CN="Cin%C3%A9ma Le M%C3%A9li%C3%A8s":MAILTO:contact@lemelies.net
END:VEVENT
BEGIN:VEVENT
DTSTART;TZID=Europe/Paris:20250507T190000
DTEND;TZID=Europe/Paris:20250507T190000
DTSTAMP:20260419T213108
CREATED:20250323T112648Z
LAST-MODIFIED:20250404T063039Z
UID:4985-1746644400-1746644400@rockthistown-pau.fr
SUMMARY:INDIE ROCK PARTY / Omar & Cedric (film) + Basic Partner
DESCRIPTION:INDIE ROCK PARTY / FILM & CONCERT  \nTarif unique > 12 € (Foodtruck\, CB OK) \n19h – Ouverture des portes \n19h30 – Film : Omar And Cedric : If This Ever Gets Weird \nNicolas Jack Davies / Allemagne / 2023 / 2h07 / VOSTF \n« Si jamais ça devient bizarre\, promets-moi qu’on peut arrêter\, car rien n’est plus important que de t’aimer ». Ce sont les mots qu’Omar Rodríguez-López a adressés à son ami d’enfance Cedric Bixler-Zavala en janvier 2000\, à la veille de l’enregistrement d’un album qui allait changer leur vie à jamais. Pendant une décennie\, ils sont restés fidèles à ce pacte\, jusqu’à ce qu’il soit rompu dans un brouillard de tromperie\, de scientologie\, de mort et de trahison. Les amis ont alors passé les dix années suivantes à essayer de guérir ces blessures. Le film se base sur la relation artistique et personnelle entre Omar Rodríguez-López et Cedric Bixler-Zavala (At the Drive-In / The Mars Volta). C’est aussi l’histoire de deux immigrants marginaux et de leur désir de créer leur propre place dans le monde. Raconté presque entièrement à travers des centaines d’heures d’images intimes filmées par Omar Rodríguez-López au cours des 40 dernières années\, le documentaire retrace le parcours intense et profond du duo : amitié\, fraternité\, amour\, célébrité\, découverte de soi et sacrifice. On y aborde sans détour les grands thèmes du succès\, de l’addiction\, de la mort\, du deuil\, de la tragédie\, de la trahison\, du pardon et de la rédemption. \n \n  \n22h30 Concert : Basic Partner (Post-Punk Indie Rock / Nantes) Inspiré par les atmosphères obscures et cinématographiques de David Lynch\, ainsi que par les couleurs pop et lumineuses de Shame\, Basic Partner sème le trouble entre le pesant et le doux\, telle une relation entre deux partenaires. Avec des sonorités qui mélangent la mélancolie du post-punk et la vivacité de la pop moderne\, le groupe crée un univers sonore autour de textures électroniques et de riffs incisifs\, dévoilant les tensions et les complexités de la vie moderne.  « Fédérateur dans les mélodies\, monstrueux dans la dynamique de ses morceaux\, ample et généreux dans le propos\, Basic Partner s’est révélé comme le groupe français à surveiller de très près en 2025. » (Mowno)
URL:https://rockthistown-pau.fr/event/indie-rock-party-film-concert/
LOCATION:La Ferronnerie\, 10 rue de l'Artisanat\, Jurançon\, 64110
CATEGORIES:Concert,Film en compétition,Séances spéciales
ATTACH;FMTTYPE=image/jpeg:https://rockthistown-pau.fr/wp-content/uploads/2025/03/Basic-Partner-Portrait-@marine.bouteiller-scaled.jpg
ORGANIZER;CN="A Tant R%C3%AAver du Roi":MAILTO:stephane@atrdr.net
END:VEVENT
BEGIN:VEVENT
DTSTART;TZID=Europe/Paris:20250508T151500
DTEND;TZID=Europe/Paris:20250508T151500
DTSTAMP:20260419T213108
CREATED:20250404T080739Z
LAST-MODIFIED:20250409T051302Z
UID:5312-1746717300-1746717300@rockthistown-pau.fr
SUMMARY:Twist and Short / Séance courts-métrages
DESCRIPTION:TWIST AND SHORT ! / LES COURTS-MÉTRAGES \nUne séance exceptionnelle qui présent 4 courts métrages internationaux (France\, Etats-Unis\, Japon\, Canada) qui chacun à leur façon\, raconte la musique. Documentaire\, animation\, comédie… les films s’enchainent et compose une belle partition en quatre temps \n  \nInstruments Of A Beating Heart \nEma Ryan Yamazaki / Japon / 2024 / 23’ / VOSTF / Documentaire / \nLes élèves de première année d’une école primaire publique de Tokyo se voient proposer un défi pour le dernier semestre : interpréter l' »Hymne à la joie » lors de la cérémonie d’entrée des nouveaux élèves de première année. Ayame\, qui a souvent du mal à suivre le groupe\, est déterminée à jouer un rôle important : celui du grand tambour. Un périple à hauteur d’enfant\, une éducation à la japonaise\, un hymne à l’entrainement et à la résilience ! \n  \nHarpo’s blues \nSally Eckhoff / Etats-Unis / 2025 / 6’ / Musical / Music by Phoebe Snow \nFilm d’animation qui évoque la carrière et la vie de la chanteuse et guitariste américaine Phoebe Snow. Illustré par le titre Harpo’s Blues\, le film est un poème en forme d’hommage\, un délice visuel fait à la main\, qui nous emporte par son rythme et son originalité. \n  \n  \n  \nA toi les oreilles \nAlexandre Isabelle / Canada / 2024 / 13’ / Fiction \nÀ l’occasion de la parade anniversaire de son patelin\, Étienne tente l’impossible : prouver au village la beauté de la cacophonie de sa famille. Une comédie musicale un brin déjantée\, où la musique illustre l’impossibilité de communiquer. \n  \n  \nBarking In The Dark / The Residents \nMarie Losier / France / 2025 / 41’ / Documentaire \nMarie Losier nous invite dans l’univers mystérieux et inclassable des Residents\, figures emblématiques de l’avant-garde musicale américaine depuis plus de 50 ans. Ce collectif culte\, caché derrière son anonymat et ses costumes iconiques\, a révolutionné l’underground avec ses expérimentations sonores et son esthétique visuelle audacieuse. Ce portrait ludique et intime célèbre l’extraordinaire liberté d’un groupe qui n’a jamais suivi les règles. Ce film a été créé en résidence à la Villa Albertine et bénéficie du soutien post-résidence de la Villa Albertine\, en partenariat avec Albertine Foundation. \n  \nSéance 4 court-métrages (durée totale 1h20) : Jeu. 8 mai à 15h15 en présence de la réalisatrice de Barking In The Dark\, Marie Losier (France) et de la réalisatrice de Harpo’s Blues\, Sally Eckhoff (Etats-Unis)
URL:https://rockthistown-pau.fr/event/twist-and-short-seance-courts-metrages/
LOCATION:Cinéma Le Méliès\, 15 Place du Foirail\, Pau\, 64000\, France
CATEGORIES:Court métrage,Film hors compétition,Séances spéciales
ATTACH;FMTTYPE=image/jpeg:https://rockthistown-pau.fr/wp-content/uploads/2025/04/Poster-BARKING_IN_THE_DARK_40x60_FR_LIGHT.jpg
ORGANIZER;CN="Cin%C3%A9ma Le M%C3%A9li%C3%A8s":MAILTO:contact@lemelies.net
END:VEVENT
BEGIN:VEVENT
DTSTART;TZID=Europe/Paris:20250510T201500
DTEND;TZID=Europe/Paris:20250510T201500
DTSTAMP:20260419T213108
CREATED:20250404T081743Z
LAST-MODIFIED:20250408T030435Z
UID:5324-1746908100-1746908100@rockthistown-pau.fr
SUMMARY:Becoming Led Zeppelin + Moundrag en concert
DESCRIPTION:SOIRÉE LED ZEPPELIN / MOUNDRAG \nSam. 10 mai 20h30 @Le Méliès \nPartenaires : Ampli / ACP \nTarif unique : 16 € – Préventes ACP Concerts\, Ampli\, Cinéma le Méliès\n \n19h30 : DJ set Rock 70’s – Samantha Simmons \n20h15 – Remise des prix Rock This Town 2025 \n  \nBecoming Led Zeppelin \nBernard MacMahon / Royaume-Uni / 2024 / 2h02 / VOSTF / Documentaire \nUne plongée au cœur des débuts du groupe mythique Led Zeppelin\, juste avant le décollage. \nBecoming Led Zeppelin explore les origines du groupe iconique ainsi que son ascension fulgurante et inattendue\, en à peine un an. Avec des images d’archives et des performances musicales psychédéliques inédites\, l’odyssée cinématographique de Bernard MacMahon explore l’histoire créative\, musicale et personnelle de Led Zeppelin. Le film est raconté par ses membres : il s’agit du premier documentaire autorisé par le groupe. En évitant d’emblée le récit hagiographique et l’enchainement de témoins qui plombent bien des documentaires musicaux\, ce documentaire insiste plutôt sur le son\, la scène\, l’audace\, la démesure parfois d’un quatuor légendaire. BECOMING LED ZEPPELIN est cependant l’occasion d’entendre enfin parler les trois survivants du groupe – une parole rare qu’a réussi à obtenir le documentariste Bernard MacMahon. Inutile de vous préciser que ce film se déguste sur grand écran\, en salle\, pour apprécier à sa juste valeur ce spectaculaire show électrique ! \n \n22h45 : Concert – Moundrag \nCamille et Colin Goellaën Duvivier sont frères. L’un joue de la batterie\, l’autre du clavier\, tous deux chantent. Ensemble ils démontrent qu’il n’est pas besoin de guitare pour jouer du rock’n’roll. Passés par le groupe Smooth Motion\, les deux musiciens jouent du heavy psych\, cette musique hybride née à la fin des années 1960\, quand hard rock embryonnaire et rock progressif n’avaient pas encore établi leurs codes. Quelque part entre Uriah Heep et Black Diamond Heavies\, Moundrag proposent un show puissant et énergique\, dans lequel l’improvisation tient une place importante. \nSortie 2eme album fin 2025 sur stolen body records (UK) spinda records (ESP) \n \n  \nTarif Unique film + concert : 16 euros
URL:https://rockthistown-pau.fr/event/becoming-led-zeppelin-moundrag-en-concert/
LOCATION:Cinéma Le Méliès\, 15 Place du Foirail\, Pau\, 64000\, France
CATEGORIES:Concert,Film hors compétition,Séances spéciales
ATTACH;FMTTYPE=image/jpeg:https://rockthistown-pau.fr/wp-content/uploads/2025/04/BecomingLedZeppelin_1Sheet-RGB_FR_26FEV-scaled.jpg
ORGANIZER;CN="ACP Concert":MAILTO:CONTACT@ACP-CONCERTS.COM
END:VEVENT
END:VCALENDAR