BEGIN:VCALENDAR
VERSION:2.0
PRODID:-//Rock This Town - ECPv6.10.2//NONSGML v1.0//EN
CALSCALE:GREGORIAN
METHOD:PUBLISH
X-ORIGINAL-URL:https://rockthistown-pau.fr
X-WR-CALDESC:Évènements pour Rock This Town
REFRESH-INTERVAL;VALUE=DURATION:PT1H
X-Robots-Tag:noindex
X-PUBLISHED-TTL:PT1H
BEGIN:VTIMEZONE
TZID:Europe/Paris
BEGIN:DAYLIGHT
TZOFFSETFROM:+0100
TZOFFSETTO:+0200
TZNAME:CEST
DTSTART:20230326T010000
END:DAYLIGHT
BEGIN:STANDARD
TZOFFSETFROM:+0200
TZOFFSETTO:+0100
TZNAME:CET
DTSTART:20231029T010000
END:STANDARD
END:VTIMEZONE
BEGIN:VEVENT
DTSTART;TZID=Europe/Paris:20230427T093000
DTEND;TZID=Europe/Paris:20230427T093000
DTSTAMP:20260420T210947
CREATED:20230311T101727Z
LAST-MODIFIED:20230311T101803Z
UID:3718-1682587800-1682587800@rockthistown-pau.fr
SUMMARY:La Danza de Los Mirlos / Séance Scolaire
DESCRIPTION:Séance scolaire en présence du réalisateur Alvaro Luque \nNiveau collège et lycée / cours d’espagnol \nRéservation au 05 59 27 60 52 (demander le secteur Jeune Public / Scolaire) \nTarif : 3 € par élève\, gratuit pour les accompagnateurs \nPass culture OK \n  \nLa Danza de Los Mirlos \nAlvaro Luque / Pérou / 2022 / 1h24 / Documentaire / VOSTF / Première française \nL’histoire de la Cumbia\, racontée par le biais d’un des groupes péruviens fondateurs : Los Mirlos. Moyobamba\, la capitale de la région de San Martín au nord du Pérou. Dans la chaleur de la jungle\, un groupe de jeunes se rassemble chez les Rodríguez Grández pour un événement qui va changer l’histoire de la musique latino-américaine : la naissance de Los Mirlos et de la cumbia amazonienne. À travers une grande quantité d’images d’archives – des premiers spectacles dans les soirées locales des années 1960 à leurs tournées récentes et réussies à travers l’Europe -\, La danza de Los Mirlos relate la carrière d’un des groupes pionniers du genre mais retrace également une généalogie des musiques tropicales et populaires de tout un continent. Sans oublier les disputes habituelles entre ses membres\, les aventures farfelues et la vénération de tout un peuple\, le documentaire d’Álvaro Luque devient aussi inextinguible que la mélodie de l’hymne international de la cumbia dont il tire son nom. C’est à travers l’histoire de cette musique et de ce groupe culte qu’on découvre aussi une Histoire du Pérou et de son peuple. \n \nProjection suivie d’une rencontre avec le réalisateur Alvaro Luque (Lima\, Pérou)  \nInvité : Álvaro Luque a étudié en Argentine à la Fundación Universidad del Cine (FUC). Au Pérou\, il développe sa carrière de réalisateur. Il a créé la société de production Saturno avec son frère Alonso. Son premier court métrage\, « LUX » (2014)\, a reçu le Prix Spécial du Jury du Curta Cinema de Rio de Janeiro et a été sélectionné dans divers festivals internationaux. La Danza de Los Mirlos est son premier long métrage documentaire qui raconte l’histoire du mythique groupe de cumbia amazonien. \n \nSéance suivie du concert de Kumbia Boruka \n  \n  \n 
URL:https://rockthistown-pau.fr/event/la-danza-de-los-mirlos-seance-scolaire/
LOCATION:Cinéma Le Méliès\, 15 Place du Foirail\, Pau\, 64000\, France
CATEGORIES:Projets scolaires
ATTACH;FMTTYPE=image/jpeg:https://rockthistown-pau.fr/wp-content/uploads/2022/03/Los-Mirlos-afiche-baja-scaled-e1676394863958.jpg
ORGANIZER;CN="Cin%C3%A9ma Le M%C3%A9li%C3%A8s":MAILTO:contact@lemelies.net
END:VEVENT
BEGIN:VEVENT
DTSTART;TZID=Europe/Paris:20230428T140000
DTEND;TZID=Europe/Paris:20230428T140000
DTSTAMP:20260420T210947
CREATED:20230311T100810Z
LAST-MODIFIED:20230311T100817Z
UID:3713-1682690400-1682690400@rockthistown-pau.fr
SUMMARY:Ciné-Concert Le Piano Magique (Séance Scolaire)
DESCRIPTION:Ciné-concert le Piano Magique – vendredi 28 avril à 14h (Scolaires)\n \nTarif : 6 € par élève\, gratuit pour les accompagnateurs \nRéservation au 05 59 27 60 52 (demander le secteur Jeune Public et Scolaire) \nLe Piano Magique est un programme de 3 courts métrages mis en musique par John Trap et Delgado Jones ! Crée à l’origine sur bande son 100% Beethoven et Chopin\, John Trap et Delgado Jones revisitent ces 3 petits films\, à leur manière… rock\, électro\, sons étranges\, tambours et cymbales. Le court métrage principal\, Le Piano Magique\, raconte l’histoire d’Anna\, qui découvre un piano brisé. Celui-ci se transforme\, comme par enchantement\, en un engin volant. Accompagné de son cousin\, elle grimpe sur le piano magique qui les emmène en voyage aux quatre coins de l’Europe. Accompagné de deux autres courts métrages ayant pour sujet la musique : Les démons de Ludwig\, et Pl.ink !. \n \nLES MUSICIENS \n\n\n\nDelgado Jones / musicien\naprès des débuts lo sur cassettes\, où s’entend déjà l’urgence de créer et de composer\, après une première vie discographique sous le nom de Poor Boy\, Jacques creignou se réinvente en del gado Jones\, songwriter habité et lumineux. en attendant la sortie de son nouvel album n 2021\, tourné vers un psychédélisme inti miste\, delgado participe à l’aventure des spectacles jeunes pu blics du studio Fantôme\, chansons dragon et Pirate Patate. \nJohn trap / musicien \ncompositeur et arrangeur\, musicien multi instrumentiste\, John a publié une myriade de disques et collaborations. on reconnaît immédiatement sa patte : sa science du sampling et de l’arran gement est au service d’un onirisme très personnel. sa musique évoque les fantômes de John Williams et de la musique de lm\, mais peu importe les références… John trap seul détient la clef de ce monde sonore sensible et marqué par l’enfance\, ses om bres\, ses blessures et ses révélations\, et par l’univers magique du cinéma. \n\n  \nLES FILMS \n\n\n\n\n\nLes Demons de Ludwig \nde Gabriel Jacquel France/Belgique\, animation 2d\, 9’42’’ \nun homme monte sur scène\, s’assied sur son tabouret face au piano\,\net s’apprête à jouer. c’est Beethoven. les deux compères recto et Verso viennent très vite prendre possession du clavier et perturber la prestation du grand maestro…. \n \nPl.ink! \nd’anne Kristin Berge norvege/Pologne\, animation 2d\, 3’20’ \nun peintre d’art abstrait ressent le besoin de se détendre. son jeune enfant l’aide en l’entraînant\, comme dans une montagne russe\, à l’intérieur de ses propres tableaux. compositeur et arrangeur\, musicien multi instrumentiste\, John a publié une myriade de disques et collaborations. \n \nLe Piano magique \nde martin clapp Pologne\, animation marionnette\, 33’\nalors qu’elle souhaite rejoindre son père\, anna découvre un piano brisé\nqui se transforme\, comme par enchantement\, en un engin volant. accompa gnée de son cousin\, elle grimpe sur le piano magique qui les emmène en voyage aux quatre coins de l’europe. \n\n\n\n \n  \n  \n 
URL:https://rockthistown-pau.fr/event/cine-concert-le-piano-magique-seance-scolaire/
LOCATION:Cinéma Le Méliès\, 15 Place du Foirail\, Pau\, 64000\, France
CATEGORIES:Ciné Concert,Projets scolaires
ATTACH;FMTTYPE=image/jpeg:https://rockthistown-pau.fr/wp-content/uploads/2022/03/Affiche-e1677339246151.jpg
ORGANIZER;CN="Cin%C3%A9ma Le M%C3%A9li%C3%A8s":MAILTO:contact@lemelies.net
END:VEVENT
END:VCALENDAR