BEGIN:VCALENDAR
VERSION:2.0
PRODID:-//Rock This Town - ECPv6.10.2//NONSGML v1.0//EN
CALSCALE:GREGORIAN
METHOD:PUBLISH
X-ORIGINAL-URL:https://rockthistown-pau.fr
X-WR-CALDESC:Évènements pour Rock This Town
REFRESH-INTERVAL;VALUE=DURATION:PT1H
X-Robots-Tag:noindex
X-PUBLISHED-TTL:PT1H
BEGIN:VTIMEZONE
TZID:Europe/Paris
BEGIN:DAYLIGHT
TZOFFSETFROM:+0100
TZOFFSETTO:+0200
TZNAME:CEST
DTSTART:20240331T010000
END:DAYLIGHT
BEGIN:STANDARD
TZOFFSETFROM:+0200
TZOFFSETTO:+0100
TZNAME:CET
DTSTART:20241027T010000
END:STANDARD
END:VTIMEZONE
BEGIN:VEVENT
DTSTART;TZID=Europe/Paris:20240503T183000
DTEND;TZID=Europe/Paris:20240503T183000
DTSTAMP:20260419T215646
CREATED:20240310T140844Z
LAST-MODIFIED:20240310T140947Z
UID:4291-1714761000-1714761000@rockthistown-pau.fr
SUMMARY:Soirée électro : Film + DJ set
DESCRIPTION:SOIRÉE ELECTRO – AMPLI \nPartenaire  : Ampli \n18h30 : FILM  @ Le Méliès\nFree Party : A Folk History \nAaron Trinder / 1h47 / 2023 / Grande-Bretagne / VOSTF \nEn compétition \nFREE PARTY : UNE HISTOIRE POPULAIRE  retrace la naissance du mouvement des free party\, son essor rapide et la manière dont l’État a tenté de l’écraser\, en s’appuyant sur les personnes qui l’ont vécu et sur l’héritage mondial qu’il laisse aujourd’hui. Après 3 ans de travail acharné\, le réalisateur Aaron Trinder peut être fier de ses recherches. Trois longues années à chercher le budget nécessaire pour aller au bout de son beau projet\, ce qui a été rendu possible grâce aux dons financiers de sa communauté. L’objectif maintenant atteint\, le documentaire peut accéder aux écrans. Ce film est un regard unique sur la façon dont une culture de jeunesse unificatrice radicale pré-Internet a explosé entièrement par le bouche-à-oreille et en dehors du grand public commercial\, et comment cette énergie créative et radicale continue de faire des ondulations en ces temps difficiles. Dans ce but et pour retranscrire au mieux la réalité de ce milieu\, le réalisateur s’est entretenu avec des acteurs clés tels que DiY\, Spiral Tribe\, Sugarlump\, Bedlam\, Circus Warp\, ainsi qu’avec des DJ’s et des producteurs comme Chris Liberator\, Charlie Hall\, Colin Dale\, 69db et Yout. \nEn présence du réalisateur Aaron Trinder (Royaume-Uni) et du DJ 69db \n \n  \n  \n  \n  \n  \n  \n  \n  \n  \n \n  \n21H30 DJ SET @ Ampli \nOvnam (Techno  – Pau) \nOVNAM sous sa forme humaine\, est un artiste palois passionné de musique depuis toujours ! Plus jeune\, attiré par des courants plutôt punk rock / métal\, il finit par tomber amoureux de la musique électronique et plus particulièrement du monde de la techno. \nTrès vite\, il se met au mix et à la composition puis commence à organiser des soirées Techno dans sa ville natale avec son collectif Owls Vision (anciennement Owls Nation) dont il est le co-fondateur. Fusionnant des sonorités venues d’autres planètes avec des rythmes cosmiques\, Ovnam vous propulsera vers un voyage auditif interdimensionnel \n69DB (Techno – France) \n69DB \, également connu sous le nom de Seb\, est un pionnier anglais de la scène free party bercé dans les sonorités jungle\, drum’n’bass\, break\, scratches et hardtek. Ancien membre du Sound System Spiral Tribe\, il a notamment contribué à développer l’art de l’improvisation en live. Tous ses sets sont 100% improvisés et servent depuis plus de 32 ans les besoins de chaque rassemblement ou événement techno. \n \n  \nVendredi 03 Mai – La Route du Son – 21h00 – Billère  \nAmpli  Tarifs : 5/8/10€
URL:https://rockthistown-pau.fr/event/soiree-electro-film-dj-set/
LOCATION:Cinéma Le Méliès\, 15 Place du Foirail\, Pau\, 64000\, France
CATEGORIES:Concert,DJ set,Film en compétition
ATTACH;FMTTYPE=image/jpeg:https://rockthistown-pau.fr/wp-content/uploads/2024/03/Free-Party.jpg
ORGANIZER;CN="Ampli":MAILTO:contact@ampli.asso.fr
END:VEVENT
BEGIN:VEVENT
DTSTART;TZID=Europe/Paris:20240503T193000
DTEND;TZID=Europe/Paris:20240503T193000
DTSTAMP:20260419T215646
CREATED:20240312T041944Z
LAST-MODIFIED:20240411T072344Z
UID:4388-1714764600-1714764600@rockthistown-pau.fr
SUMMARY:El arte de perder + rencontre
DESCRIPTION:El arte de perder \nSebastien Saam / Chili\, Allemagne / 2022 / 1h11 / VOSTF / Première française \nEn compétition \n \nAndrés Godoy est un musicien très improbable. A 14 ans\, alors qu’il est déjà un guitariste accompli\, il perd son bras droit alors qu’il travaille dans le moulin à fleurs de ses parents. Après des années de dépression\, il se reconstruit en créant sa propre technique de jeu. Au moment où la dictature militaire chilienne commence\, il est contraint à la clandestinité\, puis à l’exil argentin. Après un long voyage et de nombreuses défaites dans la vie\, il se lance finalement dans une carrière solo très tardive et voyage à travers le monde. Ce dernier est plein de nouveaux obstacles à sa condition\, y compris lui-même. Mais au-delà des ces obstacles\, Andrès comprend également que la société n’est pas tout à fait prête à faire face à ceux qui ne sont pas « normaux ». En filmant la résilience et le handicap\, Sebastien Saam touche le spectateur par cette leçon de vie pleine d’espoir et de moments forts. Faire de son handicap une force\, faire de sa différence un atout\, voilà les enjeux de ce parcours hors norme. On est vite ébahi par ce jeu de guitare\, cette aptitude à jouer\, malgré les difficultés. Cette vision du monde qu’un musicien chilien nous apporte. \n \n 
URL:https://rockthistown-pau.fr/event/el-arte-de-perder-rencontre/
LOCATION:Cinéma Le Méliès\, 15 Place du Foirail\, Pau\, 64000\, France
CATEGORIES:Film en compétition
ATTACH;FMTTYPE=image/jpeg:https://rockthistown-pau.fr/wp-content/uploads/2024/03/El-Arte-De-Perder.jpg
ORGANIZER;CN="Cin%C3%A9ma Le M%C3%A9li%C3%A8s":MAILTO:contact@lemelies.net
END:VEVENT
END:VCALENDAR