BEGIN:VCALENDAR
VERSION:2.0
PRODID:-//Rock This Town - ECPv6.10.2//NONSGML v1.0//EN
CALSCALE:GREGORIAN
METHOD:PUBLISH
X-WR-CALNAME:Rock This Town
X-ORIGINAL-URL:https://rockthistown-pau.fr
X-WR-CALDESC:Évènements pour Rock This Town
REFRESH-INTERVAL;VALUE=DURATION:PT1H
X-Robots-Tag:noindex
X-PUBLISHED-TTL:PT1H
BEGIN:VTIMEZONE
TZID:Europe/Paris
BEGIN:DAYLIGHT
TZOFFSETFROM:+0100
TZOFFSETTO:+0200
TZNAME:CEST
DTSTART:20230326T010000
END:DAYLIGHT
BEGIN:STANDARD
TZOFFSETFROM:+0200
TZOFFSETTO:+0100
TZNAME:CET
DTSTART:20231029T010000
END:STANDARD
END:VTIMEZONE
BEGIN:VEVENT
DTSTART;TZID=Europe/Paris:20230501T110000
DTEND;TZID=Europe/Paris:20230501T123000
DTSTAMP:20260420T170537
CREATED:20230315T144847Z
LAST-MODIFIED:20230321T175944Z
UID:3803-1682938800-1682944200@rockthistown-pau.fr
SUMMARY:The Sound Of The Surf - Première française
DESCRIPTION:The Sound Of The Surf – En compétition \nThomas Duncan / Etats-Unis / 1h10 / Documentaire / VOSTF / Première française \n  \nLe premier documentaire historique à raconter l’histoire vraie de la Surf Music en tant que mouvement de musique pop venue de Californie\, avant qu’il ne devienne une exploitation hollywoodienne déformée de la culture adolescente. Il est produit par John Blair\, guitariste de Jon And The Nightriders et spécialiste du genre. À travers des interviews intimes\, des archives médiatiques\, des photos d’albums et des films amateurs\, le film présente l’histoire des musiciens qui ont vécu le phénomène\, en regardant à travers eux\, les hauts et les bas de cette musique qui n’en finit pas de renaitre. Ce phénomène culturel\, né de la rencontre entre les guitares électriques et le sport de surf au début des années 60\, a inspiré largement la musique moderne. On y croise : les Bal-Airs\, Dick Dale\, The Chantays\, The Surfaris\, Kathy Marshall\, The Challengers\, Eddie And The Showmen\, Jon And The Nightriders. Les nombreux revivals sont également racontés et le film permet de recadrer les néophytes qui n’oseront plus\, après avoir vu ce film\, appeler cette musique « la musique de Pulp Fiction ». On met la réverb à fond\, on affute son médiator\, on prépare les cocktails et les bikinis et on plonge dans une vague musicale instrumentale fun\, fun\, fun qui n’a pas encore dit son dernier mot ! Let’s Go Surfing ! \nProduction : Surf Films
URL:https://rockthistown-pau.fr/event/the-sound-of-the-surf-premiere-francaise/
LOCATION:Cinéma Le Méliès\, 15 Place du Foirail\, Pau\, 64000\, France
CATEGORIES:Film en compétition
ATTACH;FMTTYPE=image/jpeg:https://rockthistown-pau.fr/wp-content/uploads/2023/03/The-SOund-Of-The-Surf--e1678891668721.jpg
ORGANIZER;CN="Cin%C3%A9ma Le M%C3%A9li%C3%A8s":MAILTO:contact@lemelies.net
END:VEVENT
BEGIN:VEVENT
DTSTART;TZID=Europe/Paris:20230501T161500
DTEND;TZID=Europe/Paris:20230501T180000
DTSTAMP:20260420T170537
CREATED:20230315T131646Z
LAST-MODIFIED:20230321T182358Z
UID:3757-1682957700-1682964000@rockthistown-pau.fr
SUMMARY:Studio 17 : The Lost Reggae Tapes
DESCRIPTION:Studio 17 : The Lost Reggae Tapes – Compétition \nMark James / Royaume-Uni / 2019 / 1h25 / Documentaire / VOSTF / Première française \n  \nFans de reggae\, inconditionnels de Bob Marley\, Peter Tosh et autres légendes jamaïcaines\, ce film est fait pour vous ! Studio 17 : The Lost Reggae Tapes est sorti à l’occasion du 60e anniversaire de l’indépendance de la Jamaïque ! Et reste inédit en France. Un trésor de bandes magnétiques est découvert et fait revivre l’âge d’or du reggae en révélant l’histoire fascinante de l’un des studios d’enregistrement les plus légendaires de la Jamaïque\, Randy’s Studio 17. L’histoire commence avec l’indépendance le 6 août 1962 et se déroule comme une enquête passionnante où les rencontres avec les grands témoins de cette histoire défilent pour notre plus grand bonheur. Le film dévoile des interviews originales et inédites de personnalités emblématiques comme Jimmy Cliff\, Lee « Scratch » Perry\, Sly Dunbar\, Maxi Priest\, Ali Campbell de UB40\, King Jammy\, Lord Creator\, Ernest Ranglin\, le tromboniste Rico Rodriguez\, et le producteur Bunny Lee. On y rappelle les humbles débuts du reggae\, né dans des studios faits de bric et de broc\, avant de devenir un phénomène musical mondial. Mais c’est aussi toute une industrie du disque qui nous est décrite\, sans oublier l’évolution technique des enregistrements musicaux. Un pur régal ! \nProduction : Widestream Films (Belgique) \n \n 
URL:https://rockthistown-pau.fr/event/studio-17-the-lost-reggae-tapes/
LOCATION:Cinéma Le Méliès\, 15 Place du Foirail\, Pau\, 64000\, France
CATEGORIES:Film en compétition
ATTACH;FMTTYPE=image/jpeg:https://rockthistown-pau.fr/wp-content/uploads/2023/03/Studio-17-scaled-e1678886190477.jpg
ORGANIZER;CN="Cin%C3%A9ma Le M%C3%A9li%C3%A8s":MAILTO:contact@lemelies.net
END:VEVENT
BEGIN:VEVENT
DTSTART;TZID=Europe/Paris:20230501T163000
DTEND;TZID=Europe/Paris:20230501T173000
DTSTAMP:20260420T170537
CREATED:20230315T144259Z
LAST-MODIFIED:20230328T093313Z
UID:3797-1682958600-1682962200@rockthistown-pau.fr
SUMMARY:Sirens
DESCRIPTION:Sirens – en compétition \nRita Baghdadi / Liban\, Etats-Unis / 2022 / 1h18 / Documentaire / VOSTF \nCéder au chant des sirènes n’est pas toujours un signe de faiblesse : preuve en est avec Slave to Sirens\, groupe d’extrême thrash death metal libanais 100% féminin. Loin de la culture Rotana et des mélodies doucereuses\, le groupe fondé par Lilas et Shery en 2015 déconstruit les clichés. Premier groupe de metal féminin du Moyen-Orient\, les Slave to Sirens s’imposent dans un univers essentiellement masculin et donnent de la voix pour des causes qui leur tiennent à cœur ou des sujets qui nourrissent leur musique : la nature humaine\, la guerre dans la région\, les contradictions de la société\, la quête de liberté\, vivre et rêver en étant femme… Aux abords de Beyrouth\, Lilas et ses acolytes de thrash metal\, Shery\, Maya\, Alma et Tatyana ont de grands rêves mais peu d’opportunités. Leur participation à un grand festival anglais ne leur apporte pas le changement de vie qu’elles espéraient. Lilas rentre au Liban\, effondrée. Parallèlement\, la relation compliquée entre Lilas et sa guitariste Shery commence à se fracturer. L’avenir de son groupe\, de son pays\, et ses rêves : tout est remis en jeu. Elle doit décider quel genre de leader elle sera\, non seulement pour son groupe\, mais aussi en tant que jeune femme luttant pour exister librement au Liban\, une région du Moyen-Orient aussi complexe que chacune des Sirens elles-mêmes. C’est aussi l’histoire d’un pays\, d’une région du Monde et d’un choc des cultures. \nProduction : Lady & Bird Films (Etats-Unis)
URL:https://rockthistown-pau.fr/event/sirens/
LOCATION:Cinéma Le Méliès\, 15 Place du Foirail\, Pau\, 64000\, France
CATEGORIES:Film en compétition
ATTACH;FMTTYPE=image/jpeg:https://rockthistown-pau.fr/wp-content/uploads/2023/03/SIRENS_REG_1300-e1678891264287.jpg
ORGANIZER;CN="Cin%C3%A9ma Le M%C3%A9li%C3%A8s":MAILTO:contact@lemelies.net
END:VEVENT
END:VCALENDAR