BEGIN:VCALENDAR
VERSION:2.0
PRODID:-//Rock This Town - ECPv6.10.2//NONSGML v1.0//EN
CALSCALE:GREGORIAN
METHOD:PUBLISH
X-WR-CALNAME:Rock This Town
X-ORIGINAL-URL:https://rockthistown-pau.fr
X-WR-CALDESC:Évènements pour Rock This Town
REFRESH-INTERVAL;VALUE=DURATION:PT1H
X-Robots-Tag:noindex
X-PUBLISHED-TTL:PT1H
BEGIN:VTIMEZONE
TZID:Europe/Paris
BEGIN:DAYLIGHT
TZOFFSETFROM:+0100
TZOFFSETTO:+0200
TZNAME:CEST
DTSTART:20230326T010000
END:DAYLIGHT
BEGIN:STANDARD
TZOFFSETFROM:+0200
TZOFFSETTO:+0100
TZNAME:CET
DTSTART:20231029T010000
END:STANDARD
END:VTIMEZONE
BEGIN:VEVENT
DTSTART;TZID=Europe/Paris:20230428T160000
DTEND;TZID=Europe/Paris:20230428T173000
DTSTAMP:20260420T184608
CREATED:20230315T141154Z
LAST-MODIFIED:20230326T165440Z
UID:3771-1682697600-1682703000@rockthistown-pau.fr
SUMMARY:Cesaria Evora
DESCRIPTION:Césaria Evora – En compétition \nAna Sofia Fonseca / Portugal / 2022 / 1h34 / Documentaire / VOSTF \nCesária Évora\, la « diva aux pieds nus ». Des images inédites racontent les luttes\, les déboires et les succès de la première voix africaine jusqu’à son triomphe mondial. Sa voix l’a fait passer de la pauvreté à la célébrité\, mais son seul rêve était d’être libre. Le documentaire d’Ana Sofia Fonseca sur la légendaire chanteuse capverdienne Cesária Évora révèle la femme complexe qui se cache derrière la voix riche et profondément résonnante qui l’a catapultée vers la gloire internationale à l’âge de 50 ans. À l’aide de films d’archives\, de photographies historiques\, d’anciens enregistrements et de séquences de concerts\, le film rend compte de l’incroyable ascension d’Évora et n’élude pas son enfance difficile\, ses décennies de pauvreté\, ses problèmes d’alcool et ses longues périodes de dépression. Au contraire\, il présente ces défis avec tendresse et attention. \nDistribution France : Epicentre Films
URL:https://rockthistown-pau.fr/event/cesaria-evora-2/
LOCATION:Cinéma Le Méliès\, 15 Place du Foirail\, Pau\, 64000\, France
CATEGORIES:Film en compétition
ATTACH;FMTTYPE=image/jpeg:https://rockthistown-pau.fr/wp-content/uploads/2023/03/Cesaria-Evora-e1678889420501.jpg
ORGANIZER;CN="Cin%C3%A9ma Le M%C3%A9li%C3%A8s":MAILTO:contact@lemelies.net
END:VEVENT
BEGIN:VEVENT
DTSTART;TZID=Europe/Paris:20230428T190000
DTEND;TZID=Europe/Paris:20230428T210000
DTSTAMP:20260420T184608
CREATED:20230315T142042Z
LAST-MODIFIED:20230317T084452Z
UID:3773-1682708400-1682715600@rockthistown-pau.fr
SUMMARY:CAN And Me + Rencontre avec le réalisateur
DESCRIPTION:En partenariat avec l’Institut Heinrich Mann \nCan And Me – En compétition \n Michael P. Aust / Allemagne / 2021 / 1h25 / Documentaire / VOSTF \nEn 1968\, le musicien Irmin Schmidt fonde avec des amis le groupe avant-gardiste Can\, qui connaîtra un succès mondial grâce à des tubes comme Vitamin C et She Brings The Rain. Ces artistes allemands seront rapidement considérés comme des musiciens révolutionnaires et inspireront des générations entières d’artistes avec leurs sons expérimentaux\, leurs compositions instantanées et leur structure exempte de toute hiérarchie. Le cinéma (Wim Wenders\, apparait dans le film) fera appel au groupe pour quelques bandes originales restées cultes. Le documentaire Can And me présente la musique de Can comme une symphonie visuelle et crée\, à partir des souvenirs du charismatique Irmin Schmidt\, une ode au non-conformisme\, à la spontanéité et à la vision d’un groupe hors du commun. Irmin y décrit sa jeunesse\, sa passion pour la musique classique\, sa relation à l’art. C’est bouleversant et magique. Yes We Can !  Distribution internationale : The Festival Agency \n  \nProjection suivie d’une rencontre avec le réalisateur Michael P. Aust\n \nMichael P. Aust est un organisateur d’événements culturels et producteur de films. Son centre d’intérêt réside dans l’intersectionnalité des formes d’art\, en particulier dans la relation entre la musique et les images animées. Il dirige le festival de film SoundTrack_Cologne qu’il a fondé en 2004\, ainsi que SoundTrack_Zurich depuis 2020. Il organise des expositions\, des conférences et des festivals de musique et a été directeur du Festival international du film de Braunschweig de 2014 à 2019. Aust a travaillé dans l’industrie cinématographique pendant plus de 25 ans en tant que producteur de nombreux longs métrages de fiction et documentaire\, dont 101 Reykjavik\, Stumbling Block\, Low Lights\, Parallax Sounds Chicago\, Eva Hesse et The Sound of Cologne\, axés sur la musique et l’art. Son premier film en tant que réalisateur\, Can and Me\, sortira au cinéma au printemps 2023.
URL:https://rockthistown-pau.fr/event/can-and-me-rencontre-avec-le-realisateur/
LOCATION:Cinéma Le Méliès\, 15 Place du Foirail\, Pau\, 64000\, France
CATEGORIES:Film en compétition
ATTACH;FMTTYPE=image/jpeg:https://rockthistown-pau.fr/wp-content/uploads/2023/03/Can-And-Me-e1678890161746.jpg
ORGANIZER;CN="Cin%C3%A9ma Le M%C3%A9li%C3%A8s":MAILTO:contact@lemelies.net
END:VEVENT
BEGIN:VEVENT
DTSTART;TZID=Europe/Paris:20230428T213000
DTEND;TZID=Europe/Paris:20230428T233000
DTSTAMP:20260420T184608
CREATED:20230315T142935Z
LAST-MODIFIED:20230321T183527Z
UID:3782-1682717400-1682724600@rockthistown-pau.fr
SUMMARY:The Sound Of Cologne + Rencontre avec la réalisatrice
DESCRIPTION:En partenariat avec l’Institut Heinrich Mann\nThe Sound Of Cologne – En compétition \nKristina Schippling / Allemagne / 2022 / 1h33 / Documentaire / VOSTF \n \nPartons à la découverte de Cologne\, accompagnés d’artistes tels que Irmin Schmidt (CAN)\, Gregor Schwellenbach\, Niobe et Wolfgang Voigt\, responsable du label Kompakt\, et plongeons dans la relation inextricable entre musique\, images et architecture. The Sound Of Cologne présente Cologne sous un angle différent et vibrant. Des artistes du monde entier se sont rencontrés à Cologne depuis les années 50 et dans les décennies suivantes jusqu’à aujourd’hui\, créant ensemble – grâce au studio électronique du WDR – une scène artistique qui est devenue et est restée l’une des scènes musicales les plus influentes au monde. Les héros de la scène musicale électronique\, des années 70 à aujourd’hui\, nous racontent cette histoire en visitant des lieux de la ville qui ont été vitaux pour leur épanouissement personnel et artistique. Une promenade sonore et urbaine qui revisite tous les lieux underground où la légende s’est construite. \nDistribution internationale : The Festival Agency \n \n  \nProjection suivie d’une rencontre avec la réalisatrice Kristina Schippling\n \nKRISTINA SCHIPPLING (Allemagne) \n \nThe Sound Of Cologne Kristina Schippling / Allemagne / 2022 / 1h33 / Documentaire / Vost Après des études en allemand\, littérature\, philosophie\, éducation\, psychologie et arts du spectacle à MLU Halle-Wittenberg\, HBK Braunschweig et UDK Berlin\, Kristina Schippling a terminé avec succès sa thèse à MLU Halle-Wittenberg sur un sujet interdisciplinaire « L’éducation cinématographique dans les manuels ». Depuis 2014\, elle est chargée de cours en philosophie\, pédagogie et psychologie à l’Académie des arts du spectacle de Bavière à Ratisbonne. Après de nombreuses expériences de mise en scène au théâtre\, les projets cinématographiques de Kristina explorent la relation entre film\, théâtre\, mise en scène et improvisation. The Sound of Cologne est son premier long métrage documentaire en tant que réalisatrice et directrice de la photographie. Elle a aussi collaboré à l’écriture du film Can and Me. \n  \n  \n  \n+ DJ set electro / house au Café Durango (entrée libre).
URL:https://rockthistown-pau.fr/event/the-sound-of-cologne-rencontre-avec-la-realisatrice/
LOCATION:Cinéma Le Méliès\, 15 Place du Foirail\, Pau\, 64000\, France
CATEGORIES:Film en compétition
ATTACH;FMTTYPE=image/jpeg:https://rockthistown-pau.fr/wp-content/uploads/2023/03/TheSoundofCologne-FRIDAY-DUNARD-links-DJ-BROM-e1678890711994.jpg
ORGANIZER;CN="Cin%C3%A9ma Le M%C3%A9li%C3%A8s":MAILTO:contact@lemelies.net
END:VEVENT
END:VCALENDAR