BEGIN:VCALENDAR
VERSION:2.0
PRODID:-//Rock This Town - ECPv6.10.2//NONSGML v1.0//EN
CALSCALE:GREGORIAN
METHOD:PUBLISH
X-WR-CALNAME:Rock This Town
X-ORIGINAL-URL:https://rockthistown-pau.fr
X-WR-CALDESC:Évènements pour Rock This Town
REFRESH-INTERVAL;VALUE=DURATION:PT1H
X-Robots-Tag:noindex
X-PUBLISHED-TTL:PT1H
BEGIN:VTIMEZONE
TZID:Europe/Paris
BEGIN:DAYLIGHT
TZOFFSETFROM:+0100
TZOFFSETTO:+0200
TZNAME:CEST
DTSTART:20240331T010000
END:DAYLIGHT
BEGIN:STANDARD
TZOFFSETFROM:+0200
TZOFFSETTO:+0100
TZNAME:CET
DTSTART:20241027T010000
END:STANDARD
END:VTIMEZONE
BEGIN:VEVENT
DTSTART;TZID=Europe/Paris:20240429T181500
DTEND;TZID=Europe/Paris:20240429T181500
DTSTAMP:20260419T213342
CREATED:20240312T042133Z
LAST-MODIFIED:20240411T074444Z
UID:4390-1714414500-1714414500@rockthistown-pau.fr
SUMMARY:Dusty And Stones
DESCRIPTION:Dusty And Stones \nJesse Rudoy / 2022 / Etats-Unis / 1h23 / Première française \n  \nEn compétition \nL’improbable destin de Dusty And Stones\, un duo de country music de musiciens noirs originaire d’un petit royaume d’Afrique\, en route vers le Texas ! Le documentaire retrace le parcours remarquable des cousins Gazi « Dusty » Simelane et Linda « Stones » Msibi\, un duo de chanteurs de country originaires du minuscule royaume africain d’Eswatini (connu sous le nom de Swaziland à l’époque du tournage)\, qui aspirent au succès… Lorsqu’ils sont invités contre toute attente à enregistrer leurs chansons à Nashville et à participer à une Battle of the Bands au Texas\, Dusty et Stones entament leur premier pèlerinage tant attendu au cœur ancestral de la musique country. Au cours d’un voyage de dix jours à travers le sud des États-Unis\, Dusty et Stones donnent vie à leur musique dans un des meilleurs studios d’enregistrement de Nashville\, explorent les lieux historiques de leurs chansons country préférées et s’engagent avec enthousiasme dans la culture dont ils se sont longtemps sentis à distance. Mais ce sentiment de parenté est brusquement remis en question lorsque Dusty et Stones arrivent dans la petite ville de Jefferson\, au Texas\, pour participer à la compétition. Là\, le leader hostile du groupe local menace de faire dérailler la première prestation américaine des cousins. Alors que leur famille et leurs amis attendent de bonnes nouvelles\, Dusty et Stones\, sous le choc\, doivent monter sur scène et se battre pour ramener un prix au Swaziland. Inutile de vous préciser que les scènes d’anthologie s’enchaînent dans ce road-movie documentaire attachant de bout en bout. \n \n  \nAutre séance : Sam. 4 mai 16h
URL:https://rockthistown-pau.fr/event/dusty-and-stones/
LOCATION:Cinéma Le Méliès\, 15 Place du Foirail\, Pau\, 64000\, France
CATEGORIES:Film en compétition
ATTACH;FMTTYPE=image/jpeg:https://rockthistown-pau.fr/wp-content/uploads/2024/03/dusty_and_stones_poster_under5MB-scaled.jpg
ORGANIZER;CN="Cin%C3%A9ma Le M%C3%A9li%C3%A8s":MAILTO:contact@lemelies.net
END:VEVENT
BEGIN:VEVENT
DTSTART;TZID=Europe/Paris:20240429T201500
DTEND;TZID=Europe/Paris:20240429T201500
DTSTAMP:20260419T213342
CREATED:20240312T041058Z
LAST-MODIFIED:20240411T074151Z
UID:4373-1714421700-1714421700@rockthistown-pau.fr
SUMMARY:Mo'Zar (mon style)
DESCRIPTION:Mo’Zar (mon style)\nSébastien Petretti / 1h10 / Belgique / 2023 / Première française \nEn compétition \nC’est à l’Île Maurice que se déroule cette histoire incroyable d’une école de musique pas comme les autres. Au bout de dix années passées au Danemark\, José Thérèse revient dans sa terre natale\, l’Île Maurice\, après avoir entendu que celle-ci est devenue la première puissance de l’Océan Indien. Sceptique et voulant se faire sa propre idée\, il arrive sur place\, sillonne ces rues qu’il a tant connues\, pour finalement constater que la situation sanitaire et sociale n’a fait que s’aggraver au fil des années. Marqué par la douleur et l’indignation\, il décide de créer un atelier de musique\, Mo’Zar\, destiné entre autres à favoriser l’intégration par l’éducation et la pratique des arts. Le réalisateur Sébastien Petretti suit le parcours d’une jeune adolescente issue des quartiers défavorisés de Port-Louis\, Nolwenn\, qui fait ses premiers pas dans cet atelier à la suite d’un épisode de harcèlement et de violences scolaires. De cours de piano en leçons de chants\, Nolwenn finit par accueillir cet atelier comme un exutoire\, un lieu d’expérimentations sociales et artistiques. On y apprend\, avec elle et les autres jeunes inscrits à cet atelier\, certains grands classiques de jazz et de blues réarrangés avec les influences du Séga\, musique et danse traditionnelle mauricienne. Et quand la jeune Nolwenn se met à chanter\, d’une voix envoûtante et candide à la fois\, l’émotion est difficile à retenir. Un parcours touchant qui prône l’émancipation par la musique\, mais raconte également les relations familiales et la persévérance. Un film musical pour tous ! \n \nAutre séance : Dim. 5 mai 17h45 en présence du réalisateur Sébastien Petretti
URL:https://rockthistown-pau.fr/event/4373/
LOCATION:Cinéma Le Méliès\, 15 Place du Foirail\, Pau\, 64000\, France
CATEGORIES:Film en compétition
ATTACH;FMTTYPE=image/jpeg:https://rockthistown-pau.fr/wp-content/uploads/2024/03/MOZAR-copie.jpg
ORGANIZER;CN="Cin%C3%A9ma Le M%C3%A9li%C3%A8s":MAILTO:contact@lemelies.net
END:VEVENT
BEGIN:VEVENT
DTSTART;TZID=Europe/Paris:20240430T180000
DTEND;TZID=Europe/Paris:20240430T180000
DTSTAMP:20260419T213342
CREATED:20240312T033928Z
LAST-MODIFIED:20240411T074008Z
UID:4343-1714500000-1714500000@rockthistown-pau.fr
SUMMARY:Louder Than You Think
DESCRIPTION:Louder Than You Think\nJed L. Rosenberg / 2023 / Etats-Unis / 1h30 / VOSTF \nEn compétition \nLe film propose une promenade cinématographique à travers la vie de Gary Young\, le batteur original (et très improbable) du groupe Pavement\, l’un des groupes majeurs du rock indépendant américain des 90’s . Ses frasques alimentées par l’alcool et la drogue (numéros d’équilibriste sur scène\, don de légumes aux fans) et ses méthodes de production hasardeuses (il a accidentellement contribué à lancer l’esthétique lo-fi) ont été à la fois le moteur de l’ascension du groupe et la cause de son éventuel atterrissage en catastrophe. Laissant un sillage de joie et/ou de destruction à chaque tournant\, Gary oscille entre l’expression libre et l’autodestruction chaotique. Trente ans plus tard\, avec une scoliose\, des caillots de sang et un foie ratatiné\, Gary joue toujours de la batterie\, sans aucun regret. Cet anti-documentaire rock réalise un véritable pied-de-nez au star system en choisissant de suivre non pas le leader d’un groupe\, mais la brebis galeuse\, totalement dingue\, loufoque et ahurissante. En racontant ainsi les hauts et les bas d’une carrière\, Jed L. Rosenberg rend hommage aux loosers magnifiques\, aux musiciens tourmentés et ingérables qui égayent l’histoire du rock. \n  \n  \n 
URL:https://rockthistown-pau.fr/event/louder-than-you-think-2/
LOCATION:Cinéma Le Méliès\, 15 Place du Foirail\, Pau\, 64000\, France
CATEGORIES:Film en compétition
ATTACH;FMTTYPE=image/jpeg:https://rockthistown-pau.fr/wp-content/uploads/2024/03/Louder_Than_You_Think_R-scaled.jpg
ORGANIZER;CN="Cin%C3%A9ma Le M%C3%A9li%C3%A8s":MAILTO:contact@lemelies.net
END:VEVENT
BEGIN:VEVENT
DTSTART;TZID=Europe/Paris:20240430T201500
DTEND;TZID=Europe/Paris:20240430T201500
DTSTAMP:20260419T213342
CREATED:20240310T150814Z
LAST-MODIFIED:20240411T073926Z
UID:4328-1714508100-1714508100@rockthistown-pau.fr
SUMMARY:Scream Of My Blood\, a Gogol Bordello Story
DESCRIPTION:Scream Of My Blood\, a Gogol Bordello Story\nNate Pommer / 1h30 / 2022 / Etats-Unis\, Ukraine / VOSTF – Première française \nEn compétition \nAlors que la souveraineté et l’identité culturelle de l’Ukraine sont menacées\, les icônes du punk Gogol Bordello (qui ont rempli et fait vibrer le théâtre de Verdure lors d’un été à Pau de 2018) utilisent leur musique comme cri de ralliement pour une nation. Grâce à des archives photo et vidéo inédites couvrant deux décennies – y compris des concerts\, des moments en coulisses et des interviews intimes – SCREAM OF MY BLOOD : A GOGOL BORDELLO STORY suit l’épopée d’Eugene Hütz\, leader du groupe Gogol Bordello et l’un des plus grands conteurs de notre époque. Romanichel né en Ukraine\, Hütz a fui sa patrie lors de la catastrophe de Tchernobyl. Aujourd’hui\, après des années passées à exorciser des démons à travers sa musique\, il rentre chez lui pour affronter le plus grand d’entre eux. Un film punk-rock sauvage qui explose à l’écran\, SCREAM OF MY BLOOD est un témoignage du pouvoir de dire sa vérité\, quel qu’en soit le prix. Ambiance festive assurée\, musique balkane matinée de rock’n’roll\, c’est un voyage enivrant dont on ne voudrait jamais sortir. \n \n  \n  \n  \n  \n  \n  \n 
URL:https://rockthistown-pau.fr/event/scream-of-my-blood-a-gogol-bordello-story/
LOCATION:Cinéma Le Méliès\, 15 Place du Foirail\, Pau\, 64000\, France
CATEGORIES:Film en compétition
ATTACH;FMTTYPE=image/jpeg:https://rockthistown-pau.fr/wp-content/uploads/2024/03/SCream-OMB_KEY_ART_FINAL_A1.jpg
ORGANIZER;CN="Cin%C3%A9ma Le M%C3%A9li%C3%A8s":MAILTO:contact@lemelies.net
END:VEVENT
BEGIN:VEVENT
DTSTART;TZID=Europe/Paris:20240430T221500
DTEND;TZID=Europe/Paris:20240430T234500
DTSTAMP:20260419T213342
CREATED:20240312T032429Z
LAST-MODIFIED:20240411T073809Z
UID:4321-1714515300-1714520700@rockthistown-pau.fr
SUMMARY:Mutiny In heaven\, The Birthday Party
DESCRIPTION:Mutiny In heaven\, The Birthday Party \nIan White / 2023 / 1h38 / Australie / VOSTF \nEn compétition \n \nFormés à Melbourne\, en Australie\, à la fin des années 1970\, les Birthday Party ont été l’un des groupes les plus influents de leur époque. Après des débuts modestes dans la banlieue de Melbourne\, ils ont acquis un respect mondial qui ne s’est jamais démenti jusqu’à aujourd’hui. Alimenté par la relation incendiaire entre le chanteur Nick Cave et le guitariste Rowland S. Howard\, The Birthday Party a souvent été décrit comme le groupe le plus dangereux du monde. Racontée avec les propres mots du groupe\, MUTINY IN HEAVEN porte l’histoire du groupe à l’écran pour la première fois. Il s’agit d’une histoire tordue d’ascension\, d’extase et d’implosion\, qui aborde les questions de la muse artistique\, de la créativité\, de l’addiction\, de la célébrité\, des conflits interpersonnels et de la relation unique entre la vision créative et l’autodestruction\, le tout étayé par l’humour noir et ironique de chacun des membres du groupe. Grâce à des interviews exclusives et une multitude d’archives rares et inédites\, le film captivant\, pose un regard révélateur sur les origines\, les rêves\, les espoirs et les motivations de ses principaux membres bien avant l’avènement international de Nick Cave et de ses Bad Seeds.  \nNick Cave and the Birthday Party in a pub in Kilburn\, London\, UK on 22 October 1981. (Photo by David Corio/Redferns)
URL:https://rockthistown-pau.fr/event/mutiny-in-heaven-the-birthday-party-2/
LOCATION:Cinéma Le Méliès\, 15 Place du Foirail\, Pau\, 64000\, France
CATEGORIES:Film en compétition
ATTACH;FMTTYPE=image/jpeg:https://rockthistown-pau.fr/wp-content/uploads/2024/03/Mutiny-In-Heaven.jpg
ORGANIZER;CN="Cin%C3%A9ma Le M%C3%A9li%C3%A8s":MAILTO:contact@lemelies.net
END:VEVENT
END:VCALENDAR