BEGIN:VCALENDAR
VERSION:2.0
PRODID:-//Rock This Town - ECPv6.10.2//NONSGML v1.0//EN
CALSCALE:GREGORIAN
METHOD:PUBLISH
X-WR-CALNAME:Rock This Town
X-ORIGINAL-URL:https://rockthistown-pau.fr
X-WR-CALDESC:Évènements pour Rock This Town
REFRESH-INTERVAL;VALUE=DURATION:PT1H
X-Robots-Tag:noindex
X-PUBLISHED-TTL:PT1H
BEGIN:VTIMEZONE
TZID:Europe/Paris
BEGIN:DAYLIGHT
TZOFFSETFROM:+0100
TZOFFSETTO:+0200
TZNAME:CEST
DTSTART:20240331T010000
END:DAYLIGHT
BEGIN:STANDARD
TZOFFSETFROM:+0200
TZOFFSETTO:+0100
TZNAME:CET
DTSTART:20241027T010000
END:STANDARD
END:VTIMEZONE
BEGIN:VEVENT
DTSTART;TZID=Europe/Paris:20240504T183000
DTEND;TZID=Europe/Paris:20240504T183000
DTSTAMP:20260419T213107
CREATED:20240323T094708Z
LAST-MODIFIED:20240327T170205Z
UID:4693-1714847400-1714847400@rockthistown-pau.fr
SUMMARY:MARKUS SCHMIDT / DJ SET AFRIQUE
DESCRIPTION:@Café Méliès / DJ SET spécial AFRIQUE par Markus Schmidt (Allemagne) \nUn voyage en Afrique\, à grand coup de Brass-Section\, de Fela Kuti vers l’Afrique de l’Ouest (Mali\, Guinée\, Benin\, Ghana) avec un centre de gravité autour des années 70 au Mali (en écho avec le film Le MALI 70 réalisé par Markus Schmidt lui-même) en passant par des tendances plus modernes qui trouvent racines dans cette époque (Tony Allen\, Santrofi). \n \nMarkus Schmidt (Allemagne) \nDepuis 1994\, MARKUS CM SCHMIDT travaille principalement comme monteur et preneur de son sur des films documentaires pour le cinéma et la télévision et a réalisé de nombreux clips musicaux. Pendant ses études de montage à la HFF Konrad Wolf de Potsdam Babelsberg\, il a réalisé son premier documentaire\, DIE KINDER VON SACHSENHAUSEN (1994)\, suivi de VOLLES ROHR (1996). En 2003\, année de la guerre du Golfe\, Markus a fondé une association de cinéastes dont est issu le film critique anti-guerre FREEDOM2SPEAK\, qui a tourné dans des festivals internationaux. Il a ensuite développé et réalisé le long métrage MONSTRES DORMANTS au Congo oriental\, qui a été diffusé pour la première fois sur Arte en 2008. Pour son film DER LETZTE FANG (2012)\, Markus a fait des recherches approfondies auprès des pêcheurs du sud de la France et a ainsi pu tourner sur un bateau de thon. Le film a été récompensé par le premier prix à Turin et à Ludwigsburg. Les films réalisés par Markus Schmidt ont également été récompensés à de nombreuses reprises. Ainsi\, THE OTHER CHELSEA (Jakob Preuss\, 2010) a remporté le prix du meilleur documentaire au Max-Ophüls-Preis (2011) et le Grimme-Preis (2012). MALI BLUES (Lutz Gregor\, 2016) a reçu le prix du documentaire allemand. \nMarkus Schmidt présentera son film LE MALI 70 qu’il accompagnera d’un DJ set spécial autour de la musique malienne. \n  \n  \n  \n  \n  \n 
URL:https://rockthistown-pau.fr/event/markus-schmidt-dj-set-afrique/
LOCATION:Cinéma Le Méliès\, 15 Place du Foirail\, Pau\, 64000\, France
CATEGORIES:DJ set
ATTACH;FMTTYPE=image/jpeg:https://rockthistown-pau.fr/wp-content/uploads/2024/03/MagusTuaregStyle.jpg
ORGANIZER;CN="Cin%C3%A9ma Le M%C3%A9li%C3%A8s":MAILTO:contact@lemelies.net
END:VEVENT
BEGIN:VEVENT
DTSTART;TZID=Europe/Paris:20240504T211500
DTEND;TZID=Europe/Paris:20240504T211500
DTSTAMP:20260419T213107
CREATED:20240316T081321Z
LAST-MODIFIED:20240411T080500Z
UID:4445-1714857300-1714857300@rockthistown-pau.fr
SUMMARY:"Little Richard : I'm Everything" + remise des prix du Festival + DJ Set
DESCRIPTION:SOIRÉE DE REMISE DES PRIX – ROCK THIS TOWN  \nSAMEDI 4 MAI – 21h : REMISE DES PRIX  \nLittle Richard : I’m Everything\nLisa Cortes / Etats-Unis / 2023 / 1h38 / VOSTF / Documentaire \nLittle Richard : I’m Everything \nLisa Cortes / Etats-Unis / 2023 / 1h38 / VOSTF / Documentaire \nBXXBCN LITTLE RICHARD at Wrigley Fields\, Los Angeles\, 2 September 1956 \nCe portrait de Little Richard révèle les origines black queer du rock’n’roll\, faisant exploser le canon blanchi à la chaux de la musique pop américaine. Décédé le 9 mai 2020 des suites d’un cancer des os à l’âge de 87 ans\, Little Richard a laissé une empreinte culturelle indélébile dans la musique\, et au-delà. Trois ans après sa mort\, le pionnier du rock’n’roll est à l’honneur de ce nouveau documentaire. Réalisé par Lisa Cortés\, le film propose une plongée dans la vie et l’œuvre de Little Richard\, à travers une myriade d’images d’archives et d’interviews inédites de sa famille\, d’universitaires noirs & queer\, et de musiciens qui ont été influencés par sa musique – David Bowie\, Mick Jagger\, Prince et bien d’autres – “Tout le monde lui était redevable” ! La vie de l’icône révolutionnaire se déroule avec tous ses revirements et ses contradictions. Plus qu’un hommage\, le film rend justice à cet artiste hors norme dont les hymnes rock’n’roll sont gravés à jamais dans la mémoire collective : Tutti Frutti\, Good Golly\, Miss Molly\, Long Tall Sally\, Lucille. Qu’aurait-été l’histoire du rock’n’roll sans ses hits d’une puissance indéniable ? \nSam. 4 mai 21h – Séance précédée de la remise des Prix Rock This Town 2024 \n \n\nPremière partie : REMISE DES PRIX ROCK THIS TOWN 2024\nPrix du Jury 2024  \nRemise des prix le samedi 27 avril à 21h – Cinéma le Méliès / Salle 300 avant la projection du film LITTLE RICHARD : I ‘M EVERYTHING \nLe Jury Professionnel 2024 est composé de Benjamin Barouh\, David Perrault\, Vicentia Aholoukpé\, Aurore Durand-Mirouze\, Johannes Klein \nUne dotation de 1 000 euros sera décernée au film gagnant \nPrix du Jury jeune 2024  \nLe Jury jeune est composé de spectateurs 15-25 ans appartenant au club Bande à Part\, initié par le cinéma Le Méliès. \nLe Jury Jeune sera composé de Apolline\, Giovanna\, Iman\, Samantha et Yona. \nPrix du public 2024 \nDélibération après le dimanche 5 mai et annonce du prix du Public Mercredi 8 mai sur le site du cinéma le Méliès : www. lemelies.net\, sur le site du festival : www.rockthistown-pau. fr ainsi que sur les réseaux sociaux \nAvant les séances des films en compétition\, les spectateurs recevront un petit bulletin d’appréciation à remettre dans l’urne au Café Méliès à l’issue de la projection. Le vote sera calculé au prorata du nombre de spectateurs par film en tenant compte des appréciations qui vont de 1 à 5 étoiles. \nUne dotation de 500 euros sera décernée au film gagnant \nAprès le film : DJ Set 100% Rock’n’roll @ Café Méliès
URL:https://rockthistown-pau.fr/event/little-richard-im-everything-remise-des-prix-du-festival-dj-set/
LOCATION:Cinéma Le Méliès\, 15 Place du Foirail\, Pau\, 64000\, France
CATEGORIES:DJ set,Séances spéciales
ATTACH;FMTTYPE=image/jpeg:https://rockthistown-pau.fr/wp-content/uploads/2024/03/Little-Richard_MAGNOLIA_KA_R04_26-copie.jpg
ORGANIZER;CN="Cin%C3%A9ma Le M%C3%A9li%C3%A8s":MAILTO:contact@lemelies.net
END:VEVENT
END:VCALENDAR