BEGIN:VCALENDAR
VERSION:2.0
PRODID:-//Rock This Town - ECPv6.10.2//NONSGML v1.0//EN
CALSCALE:GREGORIAN
METHOD:PUBLISH
X-WR-CALNAME:Rock This Town
X-ORIGINAL-URL:https://rockthistown-pau.fr
X-WR-CALDESC:Évènements pour Rock This Town
REFRESH-INTERVAL;VALUE=DURATION:PT1H
X-Robots-Tag:noindex
X-PUBLISHED-TTL:PT1H
BEGIN:VTIMEZONE
TZID:Europe/Paris
BEGIN:DAYLIGHT
TZOFFSETFROM:+0100
TZOFFSETTO:+0200
TZNAME:CEST
DTSTART:20240331T010000
END:DAYLIGHT
BEGIN:STANDARD
TZOFFSETFROM:+0200
TZOFFSETTO:+0100
TZNAME:CET
DTSTART:20241027T010000
END:STANDARD
END:VTIMEZONE
BEGIN:VEVENT
DTSTART;TZID=Europe/Paris:20240427T183000
DTEND;TZID=Europe/Paris:20240427T183000
DTSTAMP:20260419T212847
CREATED:20240323T092718Z
LAST-MODIFIED:20240323T092727Z
UID:4680-1714242600-1714242600@rockthistown-pau.fr
SUMMARY:DJ MOTH / DJ SET 100% ROCK ANGLAIS
DESCRIPTION:@Café Méliès Soirée d’ouverture de la 17e édition / Samedi 27 avril 18h30 avant et après la projection du film PETE DOHERTY : STRANGER IN MY OWN SKIN \nDJ set spécial rock anglais : des 60’s à nos jours / sélection spéciale Made In Britain : rock\, mods\, pop\, punk\, noisy pop\, 60’s beat ! \nPlongée dans le rock britannique avant la rencontre avec Peter Doherty !
URL:https://rockthistown-pau.fr/event/dj-moth-dj-set-100-rock-anglais/
LOCATION:Cinéma Le Méliès\, 15 Place du Foirail\, Pau\, 64000\, France
CATEGORIES:DJ set
ATTACH;FMTTYPE=image/jpeg:https://rockthistown-pau.fr/wp-content/uploads/2024/03/Moth-2-scaled.jpg
ORGANIZER;CN="Cin%C3%A9ma Le M%C3%A9li%C3%A8s":MAILTO:contact@lemelies.net
END:VEVENT
BEGIN:VEVENT
DTSTART;TZID=Europe/Paris:20240427T203000
DTEND;TZID=Europe/Paris:20240427T203000
DTSTAMP:20260419T212847
CREATED:20240316T071314Z
LAST-MODIFIED:20240411T075059Z
UID:4414-1714249800-1714249800@rockthistown-pau.fr
SUMMARY:SOIREE D'OUVERTURE - Peter Doherty : Stranger In My Own Skin
DESCRIPTION:SOIRÉE D’OUVERTURE ROCK THIS TOWN #17\n!!!! OUVERTURE BILLETTERIE EN LIGNE + TICKETS : MARDI 2 AVRIL 2024 !!!! \nFILM + RENCONTRE + SHOWCASE PETER DOHERTY\nDès 18h30 dans le Hall du cinéma Le Méliès / DJ Set spécial rock anglais (des 60’s à nos jours) \nBy DJ Moth\n \n  \n20h30 – Film :  \nPeter Doherty : Stranger In My Own Skin\nKatia DeVidas / 1h32 / Grande-Bretagne\, France / VOSTF / Avec l’aimable collaboration de Canal + \nUn documentaire sur la vie de la rockstar britannique Pete Doherty et son combat contre l’addiction aux drogues dures. La réalisatrice et musicienne Katia deVidas\, qui est également la compagne de Peter Doherty a tourné plus de 200 heures de rush de l’artiste\, sur une période de 10 ans. Ce matériel\, brut et intime\, a servi de base à ce film de 90 minutes\, qui documente la descente aux enfers du chanteur et songwriter des Libertines et des Babyshambles\, alors même que sa popularité atteignait des sommets. Avec les mots et les émotions propres à l’artiste\, nous découvrons peu à peu le combat du chanteur pour vaincre ses démons. Et l’on découvre qu’une autre addiction\, plus artistique cette fois\, peut sauver un destin. Un film en forme de lettre d’amour\, un récit poignant et intime. \n \n22h45 : Rencontre aveec Katia DeVidas et Peter Doherty\n+ Show case Pete Doherty\n \nPete Doherty (Royaume-Uni\, France) \nSorte de héros des rêveurs marginaux\, plutôt mignon et bien looké\, avec ses airs de poète maudit\, Pete Doherty électrise le public dès le début de sa carrière musicale. Très vite\, le succès le dépasse\, il ne résiste pas à l’envolée médiatique qui l’entoure et tombe dans la spirale infernale des drogues dures\, menant une vie tumultueuse\, faisant malgré lui galoper les médias à ses trousses. Pete Doherty est né en 1979 dans le nord de l’Angleterre\, à Hexham\, d’une mère infirmière militaire Jacqueline\, et d’un père militaire\, très strict\, Peter John Doherty. Très bon élève\, il cultive ses idées dans la littérature\, la poésie et la musique. Enfermé dans cette vie en caserne\, il s’évade avec les Stone Roses et les Smiths. Ils forment avec son acolyte Carl Barât\, The Libertines et en 2002\, Mick Jones des Clash produit leur premier album\, Up the Bracket. C‘est le début d‘une longue série de hauts et de bas\, car en parallèle de ses succès\, Pete sombre dans l’addiction à l‘héroïne et au crack. Les Libertines sont au sommet\, mais pour Carl\, la coupe est pleine : Pete\, submergé par ses problèmes de drogue\, devient un boulet pour le groupe et c’est la fin des Libertines. Pete fonde les Babyshambles. Il alterne séjours en prison et cure en centre de désintoxication. En 2009\, le premier album solo de Pete Doherty\, Grace/Wastelands\, est acclamé par la critique et Pete Doherty part en cure de désintoxication en Thaïlande pour en finir avec la drogue. Les Libertines se reforment et enregistrent leur troisième album Anthems for doomed youth et jouent une série de concerts à guichets fermés. En 2016\, Pete sort son deuxième album solo\, Hamburg Demonstrations. L’année d’après\, il forme un nouveau groupe\, The Puta Madres dont le premier album sort dans la foulée. Depuis\, sevré et vivant en Normandie\, Pete sort en 2022 un album avec le musicien français Frédéric Lo\, The Fantasy life of Poetry and crime. En 2023\, il travaille sur son troisième album solo et le quatrième album des Libertines sort. \nKatia DeVidas (France) \nDiplômée en cinéma de l’Université de la Sorbonne à Paris\, Katia aspire à rejoindre les rangs des réalisateurs qu’elle admire : Chaplin\, Godard\, Carné\, Audiard\, Cassavetes\, et étudie pendant un an au Danemark à l’European Film College pour se perfectionner. Elle y rencontre Jan Harlan\, le producteur de Stanley Kubrick\, avec qui elle travaillera pendant 10 ans. Elle filme et monte tous les documentaires qui accompagnent les rééditions des films de Kubrick et assiste les réalisateurs Pablo Berger\, Leos Carax\, Claude Lelouch… Katia rejoint les équipes de Christian Fevret dans les années 2000 en tant que cadreuse et est missionnée pour capter l’intégralité des concerts des Babyshambles. Elle fait alors la rencontre de Peter Doherty qu’elle suivra pendant de nombreuses années\, le filmant sur scène puis dans son intimité. Parallèlement\, Katia est la claviériste du groupe Pete Doherty and The Puta Madres depuis sa création en 2017. Elle fonde sa société de production\, Wendy Productions Ltd. en 2019.
URL:https://rockthistown-pau.fr/event/peterdoherty/
LOCATION:le Foirail\, 15 Place du Foirail\, Pau\, 64000\, France
CATEGORIES:Concert,DJ set,Séances spéciales
ATTACH;FMTTYPE=image/jpeg:https://rockthistown-pau.fr/wp-content/uploads/2024/03/DOHERTY-POSTER-A3A4-scaled.jpg
ORGANIZER;CN="Cin%C3%A9ma Le M%C3%A9li%C3%A8s":MAILTO:contact@lemelies.net
END:VEVENT
BEGIN:VEVENT
DTSTART;TZID=Europe/Paris:20240429T183000
DTEND;TZID=Europe/Paris:20240429T183000
DTSTAMP:20260419T212847
CREATED:20240323T093757Z
LAST-MODIFIED:20240327T170603Z
UID:4686-1714415400-1714415400@rockthistown-pau.fr
SUMMARY:SERGE BOZON / DJ SET 60's
DESCRIPTION:@Café Méliès en préambule à la séance du film HUNG UP ON A DREAM – THE STORY OF THE ZOMBIES\n \nDJ set spécial 60’s : British beat\, northern soul\, 60’s pop\, garage\, freakbeat ! \nPar le réalisateur Serge Bozon \nSerge Bozon est un réalisateur\, critique de cinéma et acteur français. Il collabore aux revues La Lettre du cinéma\, Trafic\, Vertigo\, Les Cahiers du Cinéma. Il tourne en neuf jours\, avec quelques économies personnelles\, son premier long métrage intitulé L’AMITIE\, sorti en 1998. En novembre 2010\, il organise avec Pascale Bodet au Centre Pompidou une série de conférences\, Beaubourg\, la dernière major \, revisitant 100 ans de cinéma français. À cette occasion\, il tourne un documentaire fiction de 45 minutes intitulé L’IMPRESARIO. Son univers a déjà gagné ses galons sur la scène internationale : de MODS (Festival de Locarno 2003\, Prix Léo Scheer au Festival de Belfort 2002) à Madame Hyde (Prix d’interprétation pour Isabelle Huppert au Festival de Locarno 2017\, sélection à la Semaine de la Critique de la Berlinale) en passant par LA FRANCE (Quinzaine des réalisateurs 2007 et Prix Jean Vigo) et TIP TOP (Quinzaine des Cinéastes 2013)\, chacun de ses films est sélectionné dans plus de 50 festivals et diffusé sur une vingtaine de territoires. Serge Bozon est également acteur et a notamment tourné pour Jean-Paul Civeyrac\, Judith Cahen\, Cédric Kahn\, Mathieu Amalric\, Axelle Ropert\, Valérie Donzelli\, Bertrand Bonello… Son dernier long-métrage\, DON JUAN\, avec Tahar Rahim et Virginie Efira\, est présenté dans la Sélection Officielle du Festival de Cannes en 2022. \nLun. 29 avril à 20h Serge Bozon présentera son court métrage LES GRANDS ENFANTS et assurera un DJ set spécial 60’s avant et après la projection du film HUNG UP ON A DREAM\, THE STORY OF THE ZOMBIES \n  \n  \n 
URL:https://rockthistown-pau.fr/event/serge-bozon-dj-set-60s/
LOCATION:Cinéma Le Méliès\, 15 Place du Foirail\, Pau\, 64000\, France
CATEGORIES:DJ set
ATTACH;FMTTYPE=image/jpeg:https://rockthistown-pau.fr/wp-content/uploads/2024/03/Serge-Bozon.jpeg
ORGANIZER;CN="Cin%C3%A9ma Le M%C3%A9li%C3%A8s":MAILTO:contact@lemelies.net
END:VEVENT
END:VCALENDAR