BEGIN:VCALENDAR
VERSION:2.0
PRODID:-//Rock This Town - ECPv6.10.2//NONSGML v1.0//EN
CALSCALE:GREGORIAN
METHOD:PUBLISH
X-WR-CALNAME:Rock This Town
X-ORIGINAL-URL:https://rockthistown-pau.fr
X-WR-CALDESC:Évènements pour Rock This Town
REFRESH-INTERVAL;VALUE=DURATION:PT1H
X-Robots-Tag:noindex
X-PUBLISHED-TTL:PT1H
BEGIN:VTIMEZONE
TZID:Europe/Paris
BEGIN:DAYLIGHT
TZOFFSETFROM:+0100
TZOFFSETTO:+0200
TZNAME:CEST
DTSTART:20230326T010000
END:DAYLIGHT
BEGIN:STANDARD
TZOFFSETFROM:+0200
TZOFFSETTO:+0100
TZNAME:CET
DTSTART:20231029T010000
END:STANDARD
END:VTIMEZONE
BEGIN:VEVENT
DTSTART;TZID=Europe/Paris:20230423T120000
DTEND;TZID=Europe/Paris:20230423T140000
DTSTAMP:20260420T165844
CREATED:20230316T142908Z
LAST-MODIFIED:20230317T082023Z
UID:3888-1682251200-1682258400@rockthistown-pau.fr
SUMMARY:DJ set Paul Memphis (Musique traditionnelle du monde)
DESCRIPTION:En écho à la programmation du dimanche 23 avril où s’enchainent des films qui évoque les musiques du monde (gnawa\, reggae\, world music)\, Paul Memphis viendra piocher dans son impressionnante collection de vinyls pour proposer un DJ set rare et rempli de perles rares pour découvrir les musiques traditionnelles du monde. Un voyage musical qui traversera les continents et les genres
URL:https://rockthistown-pau.fr/event/dj-set-paul-memphis-world-music-trad-reggae/
LOCATION:Cinéma Le Méliès\, 15 Place du Foirail\, Pau\, 64000\, France
CATEGORIES:DJ set
ATTACH;FMTTYPE=image/jpeg:https://rockthistown-pau.fr/wp-content/uploads/2023/03/IMG_20230317_090400-e1679041201272.jpg
ORGANIZER;CN="CERC":MAILTO:contact@cerc-creacion.org
END:VEVENT
BEGIN:VEVENT
DTSTART;TZID=Europe/Paris:20230423T190000
DTEND;TZID=Europe/Paris:20230423T220000
DTSTAMP:20260420T165844
CREATED:20230316T150401Z
LAST-MODIFIED:20230317T081108Z
UID:3901-1682276400-1682287200@rockthistown-pau.fr
SUMMARY:DJ set Souldigga (Reggae\, Soul)
DESCRIPTION:Musicien dès le plus jeune âge et éclectique dans ses influences\, les platines lui permettent aujourd’hui de partager sa passion à travers des sets et sur scène. Activiste hip-hop\, animateur radio\, cratedigger en quête du groove ultime\, Dj Souldigga recherche ce son qui vous captera\, vous fera bouger\, vous dira peut-être quelque chose… ou pas ! \nÀ l’occasion de la première française du film Studio 17 / The Lost Reggae Tapes\, l’incontournable DJ Souldigga (Pau) prendra les commandes des platines pour un DJ set spécial reggae & soul au Café Mélièsdès 19h.
URL:https://rockthistown-pau.fr/event/dj-set-souligna/
LOCATION:Cinéma Le Méliès\, 15 Place du Foirail\, Pau\, 64000\, France
CATEGORIES:DJ set
ATTACH;FMTTYPE=image/jpeg:https://rockthistown-pau.fr/wp-content/uploads/2023/03/PAL_2556-nb-scaled-e1678979115760.jpg
ORGANIZER;CN="Cin%C3%A9ma Le M%C3%A9li%C3%A8s":MAILTO:contact@lemelies.net
END:VEVENT
BEGIN:VEVENT
DTSTART;TZID=Europe/Paris:20230425T183000
DTEND;TZID=Europe/Paris:20230425T200000
DTSTAMP:20260420T165844
CREATED:20230316T145605Z
LAST-MODIFIED:20230317T081034Z
UID:3899-1682447400-1682452800@rockthistown-pau.fr
SUMMARY:DJ set MOTH (Synth Wave\, BO SF\, New Wave\,  80's)
DESCRIPTION:Au Café Méliès\, en première partie du ciné concert ROBOCOP\, Moth aux platines pour un mix 100% vinyl à base de bandes originales films SF 80’s et 90’s\, synth wave\, new wave\, ambiant space rock… \nAprès le ciné concert\, Moth reprend place pour une conclusion musicale au Café Méliès à partir de 21h30. \n  \n 
URL:https://rockthistown-pau.fr/event/dj-set-moth-synth-wave-bo-sf-new-wave-80s/
LOCATION:Cinéma Le Méliès\, 15 Place du Foirail\, Pau\, 64000\, France
CATEGORIES:DJ set
ATTACH;FMTTYPE=image/jpeg:https://rockthistown-pau.fr/wp-content/uploads/2022/04/IMG_20230316_081046.jpg
ORGANIZER;CN="Cin%C3%A9ma Le M%C3%A9li%C3%A8s":MAILTO:contact@lemelies.net
END:VEVENT
BEGIN:VEVENT
DTSTART;TZID=Europe/Paris:20230428T223000
DTEND;TZID=Europe/Paris:20230429T004500
DTSTAMP:20260420T165844
CREATED:20230316T144217Z
LAST-MODIFIED:20230317T080915Z
UID:3891-1682721000-1682729100@rockthistown-pau.fr
SUMMARY:DJ set electro Durango Café
DESCRIPTION:Première partie de soirée : 21h30 au cinéma le Méliès  \nThe Sound Of Cologne – En compétition \nKristina Schippling / Allemagne / 2022 / 1h33  / Documentaire / VOSTF \nen présence de la réalisatrice Kristina Schippling  \n  \nAfter Party Electro – 22h30 DJ set au Durango Café\, 20 rue du Hédas 64000 Pau \nEntrée libre
URL:https://rockthistown-pau.fr/event/dj-set-electro-durango-cafe/
LOCATION:Durango Café\, 20 rue du Hédas\, Pau\, 64000\, France
CATEGORIES:DJ set
ATTACH;FMTTYPE=image/jpeg:https://rockthistown-pau.fr/wp-content/uploads/2023/03/2023-commerce-durango-cafe-e1678977712798.jpg
END:VEVENT
BEGIN:VEVENT
DTSTART;TZID=Europe/Paris:20230430T190000
DTEND;TZID=Europe/Paris:20230430T210000
DTSTAMP:20260420T165844
CREATED:20230316T144838Z
LAST-MODIFIED:20230317T080808Z
UID:3895-1682881200-1682888400@rockthistown-pau.fr
SUMMARY:DJ set Fred Lostsoul (Hard bop\, post bop\, soul-jazz fin 50's - mid 60's)
DESCRIPTION:Fred Lostsoul\, toulousain grand amateur de musiques afro américaine\, disquaire enthousiaste\, collectionneur et DJ à ses heures\, il saura partager avec vous son amour du Jazz de la fin des années 50 au début des années 70. \n \n 
URL:https://rockthistown-pau.fr/event/dj-set-fred-lostsoul-hard-bop-post-bop-soul-jazz-fin-50s-mid-60s/
LOCATION:Cinéma Le Méliès\, 15 Place du Foirail\, Pau\, 64000\, France
CATEGORIES:DJ set
ATTACH;FMTTYPE=image/jpeg:https://rockthistown-pau.fr/wp-content/uploads/2023/03/DJ-fred-Lostsoul-Jazz-e1678977889696.jpg
ORGANIZER;CN="Cin%C3%A9ma Le M%C3%A9li%C3%A8s":MAILTO:contact@lemelies.net
END:VEVENT
END:VCALENDAR