BEGIN:VCALENDAR
VERSION:2.0
PRODID:-//Rock This Town - ECPv6.10.2//NONSGML v1.0//EN
CALSCALE:GREGORIAN
METHOD:PUBLISH
X-ORIGINAL-URL:https://rockthistown-pau.fr
X-WR-CALDESC:Évènements pour Rock This Town
REFRESH-INTERVAL;VALUE=DURATION:PT1H
X-Robots-Tag:noindex
X-PUBLISHED-TTL:PT1H
BEGIN:VTIMEZONE
TZID:Europe/Paris
BEGIN:DAYLIGHT
TZOFFSETFROM:+0100
TZOFFSETTO:+0200
TZNAME:CEST
DTSTART:20240331T010000
END:DAYLIGHT
BEGIN:STANDARD
TZOFFSETFROM:+0200
TZOFFSETTO:+0100
TZNAME:CET
DTSTART:20241027T010000
END:STANDARD
END:VTIMEZONE
BEGIN:VEVENT
DTSTART;TZID=Europe/Paris:20240505T140000
DTEND;TZID=Europe/Paris:20240505T140000
DTSTAMP:20260420T130319
CREATED:20240409T112736Z
LAST-MODIFIED:20240409T112741Z
UID:4816-1714917600-1714917600@rockthistown-pau.fr
SUMMARY:Court métrage : The Record
DESCRIPTION:en première partie du film MAX ROACH: THE DRUM ALSO WALTZES\nThe Record\nJonathan Laskar Suisse / 2020 / 9’ / Animation \n \nUn voyageur offre à un antiquaire un vinyle magique. «Il lit dans votre esprit et joue ce que vous avez en mémoire». Obsédé par ce disque sans fin\, l’antiquaire l’écoute encore et encore\, et les souvenirs refont surface. \nen première partie du film MAX ROACH: THE DRUM ALSO WALTZES
URL:https://rockthistown-pau.fr/event/court-metrage-the-record-2/
LOCATION:Cinéma Le Méliès\, 15 Place du Foirail\, Pau\, 64000\, France
CATEGORIES:Court métrage
ATTACH;FMTTYPE=image/jpeg:https://rockthistown-pau.fr/wp-content/uploads/2024/04/festival-film-europeen-leurope-autour-de-leurope-poster-movie-the-record.jpg
ORGANIZER;CN="Cin%C3%A9ma Le M%C3%A9li%C3%A8s":MAILTO:contact@lemelies.net
END:VEVENT
END:VCALENDAR