BEGIN:VCALENDAR
VERSION:2.0
PRODID:-//Rock This Town - ECPv6.10.2//NONSGML v1.0//EN
CALSCALE:GREGORIAN
METHOD:PUBLISH
X-WR-CALNAME:Rock This Town
X-ORIGINAL-URL:https://rockthistown-pau.fr
X-WR-CALDESC:Évènements pour Rock This Town
REFRESH-INTERVAL;VALUE=DURATION:PT1H
X-Robots-Tag:noindex
X-PUBLISHED-TTL:PT1H
BEGIN:VTIMEZONE
TZID:Europe/Paris
BEGIN:DAYLIGHT
TZOFFSETFROM:+0100
TZOFFSETTO:+0200
TZNAME:CEST
DTSTART:20240331T010000
END:DAYLIGHT
BEGIN:STANDARD
TZOFFSETFROM:+0200
TZOFFSETTO:+0100
TZNAME:CET
DTSTART:20241027T010000
END:STANDARD
END:VTIMEZONE
BEGIN:VEVENT
DTSTART;TZID=Europe/Paris:20240427T203000
DTEND;TZID=Europe/Paris:20240427T203000
DTSTAMP:20260420T125829
CREATED:20240409T112025Z
LAST-MODIFIED:20240409T112139Z
UID:4806-1714249800-1714249800@rockthistown-pau.fr
SUMMARY:Court métrage : The Innocent Bystander
DESCRIPTION:en première partie du film Peter DOHERTY: STRANGER IN MY OWN SKIN\nThe Innocent Bystander\n \nSally Eckhoff États-Unis / 2023 / 6’ / Musical \nFilm d’animation musical et expérimental fait main et rendant un vibrant hommage affectueux à Dan Hicks\, musicien de San Francisco aujourd’hui décédé. \nen première partie du film Peter DOHERTY: STRANGER IN MY OWN SKIN en présence de la réalisatrice Sally Eckhoff (Etats-Unis)\n \n 
URL:https://rockthistown-pau.fr/event/the-innocent-bystander/
LOCATION:le Foirail\, 15 Place du Foirail\, Pau\, 64000\, France
CATEGORIES:Court métrage
ATTACH;FMTTYPE=image/jpeg:https://rockthistown-pau.fr/wp-content/uploads/2024/04/characters-looking-at-the-moon.jpg
ORGANIZER;CN="Cin%C3%A9ma Le M%C3%A9li%C3%A8s":MAILTO:contact@lemelies.net
END:VEVENT
BEGIN:VEVENT
DTSTART;TZID=Europe/Paris:20240429T200000
DTEND;TZID=Europe/Paris:20240429T200000
DTSTAMP:20260420T125829
CREATED:20240409T110921Z
LAST-MODIFIED:20240409T120014Z
UID:4793-1714420800-1714420800@rockthistown-pau.fr
SUMMARY:Grands enfants + Rencontre avec Serge Bozon & Charles-Baptiste
DESCRIPTION:en première partie du film HUNG UP ON A DREAM: THE STORY OF THE ZOMBIES\nCourt métrage : Grands Enfants\n\nSerge Bozon / France / 2023 / 15’ / Comédie musicale \nUne terrasse de café. Des couples d’adolescents sont installés ici et là. Ils discutent de choses de la vie\, mais curieusement avec l’expérience de personnes bien plus âgées qu’ils\nn’y paraissent. Attentif et bienveillant\, le serveur du café leur répond en chanson\, offrant ainsi une fantaisie filmée. \nLun. 29 AVRIL 20 H\nen première partie du film HUNG UP ON A DREAM: THE STORY OF THE ZOMBIES\nen présence du réalisateur Serge Bozon et du musicien Charles-Baptiste
URL:https://rockthistown-pau.fr/event/grands-enfants-rencontre-s-bozon-charles-baptiste/
LOCATION:Cinéma Le Méliès\, 15 Place du Foirail\, Pau\, 64000\, France
CATEGORIES:Court métrage
ATTACH;FMTTYPE=image/png:https://rockthistown-pau.fr/wp-content/uploads/2024/04/Capture-décran-2023-12-20-à-17.32.48.png
END:VEVENT
BEGIN:VEVENT
DTSTART;TZID=Europe/Paris:20240430T173000
DTEND;TZID=Europe/Paris:20240430T173000
DTSTAMP:20260420T125829
CREATED:20240409T111203Z
LAST-MODIFIED:20240409T111742Z
UID:4799-1714498200-1714498200@rockthistown-pau.fr
SUMMARY:Le cinquième silence + Ascenseur pour l'échafaud (clip)
DESCRIPTION:2 courts métrages en première partie du film Ascenseur pour l’échafaud\nLe cinquième silence\nNicolas Boualami / France / 2023 05’45 / Musique : Erik Truffaz \nCe court métrage musical est une relecture de « La lettre de Rosalie » extraite de « César et Rosalie » de Claude Sautet. Ici\, Sandrine Bonnaire succède à Romy Schneider et la musique de Philippe Sarde change de peau sous les doigts de Erik Truffaz. Le cinquième silence est un hommage au cinéma\, aux actrices\, aux musiques de films. \n  \nen présence du réalisateur Nicolas Boualami\, du musicien Erik Truffaz et de l’actrice Sandrine Bonnaire \nAscenseur pour l’échafaud (clip)\nSandrine Bonnaire / France / 2023 / 3’31 \nen présence du réalisateur Nicolas Boualami\, du musicien Erik Truffaz et de l’actrice Sandrine Bonnaire
URL:https://rockthistown-pau.fr/event/le-cinquieme-silence-ascenseur-pour-lechafaud-clip/
LOCATION:Cinéma Le Méliès\, 15 Place du Foirail\, Pau\, 64000\, France
CATEGORIES:Court métrage
ATTACH;FMTTYPE=image/jpeg:https://rockthistown-pau.fr/wp-content/uploads/2024/03/S.-Bonnaire-GianmarcoChieregato-922a-scaled.jpg
ORGANIZER;CN="Cin%C3%A9ma Le M%C3%A9li%C3%A8s":MAILTO:contact@lemelies.net
END:VEVENT
BEGIN:VEVENT
DTSTART;TZID=Europe/Paris:20240430T204500
DTEND;TZID=Europe/Paris:20240430T204500
DTSTAMP:20260420T125829
CREATED:20240409T112630Z
LAST-MODIFIED:20240409T112638Z
UID:4812-1714509900-1714509900@rockthistown-pau.fr
SUMMARY:Court métrage : The Record
DESCRIPTION:en première partie du film MAX ROACH: THE DRUM ALSO WALTZES\nThe Record\nJonathan Laskar Suisse / 2020 / 9’ / Animation \n \nUn voyageur offre à un antiquaire un vinyle magique. «Il lit dans votre esprit et joue ce que vous avez en mémoire». Obsédé par ce disque sans fin\, l’antiquaire l’écoute encore et encore\, et les souvenirs refont surface. \nen première partie du film MAX ROACH: THE DRUM ALSO WALTZES
URL:https://rockthistown-pau.fr/event/court-metrage-the-record/
LOCATION:Cinéma Le Méliès\, 15 Place du Foirail\, Pau\, 64000\, France
CATEGORIES:Court métrage
ATTACH;FMTTYPE=image/jpeg:https://rockthistown-pau.fr/wp-content/uploads/2024/04/festival-film-europeen-leurope-autour-de-leurope-poster-movie-the-record.jpg
ORGANIZER;CN="Cin%C3%A9ma Le M%C3%A9li%C3%A8s":MAILTO:contact@lemelies.net
END:VEVENT
END:VCALENDAR