BEGIN:VCALENDAR
VERSION:2.0
PRODID:-//Rock This Town - ECPv6.10.2//NONSGML v1.0//EN
CALSCALE:GREGORIAN
METHOD:PUBLISH
X-ORIGINAL-URL:https://rockthistown-pau.fr
X-WR-CALDESC:Évènements pour Rock This Town
REFRESH-INTERVAL;VALUE=DURATION:PT1H
X-Robots-Tag:noindex
X-PUBLISHED-TTL:PT1H
BEGIN:VTIMEZONE
TZID:Europe/Paris
BEGIN:DAYLIGHT
TZOFFSETFROM:+0100
TZOFFSETTO:+0200
TZNAME:CEST
DTSTART:20240331T010000
END:DAYLIGHT
BEGIN:STANDARD
TZOFFSETFROM:+0200
TZOFFSETTO:+0100
TZNAME:CET
DTSTART:20241027T010000
END:STANDARD
END:VTIMEZONE
BEGIN:VEVENT
DTSTART;TZID=Europe/Paris:20240421T101500
DTEND;TZID=Europe/Paris:20240421T101500
DTSTAMP:20260419T163812
CREATED:20240323T091328Z
LAST-MODIFIED:20240411T075746Z
UID:4674-1713694500-1713694500@rockthistown-pau.fr
SUMMARY:Des dimanches et des films
DESCRIPTION:En partenariat avec la Médiathèque André Labarrère \nDim. 21 avril – 10h15 – @ Médiathèque André Labarrère – 3ème étage \nDans le cadre de l’animation mensuelle « Des Dimanches et des films ». \nSur le thème du « monde de la musique au cinéma » : présentation d’une sélection de films\, empruntables à l’issue de l’échange. \n 
URL:https://rockthistown-pau.fr/event/des-dimanches-et-des-films/
LOCATION:Médiathèque André Labarrère\, 10 Place Marguerite Laborde\, Pau\, 64000
CATEGORIES:Conférence
ATTACH;FMTTYPE=image/jpeg:https://rockthistown-pau.fr/wp-content/uploads/2024/03/dim_films_musique_21-avril.jpg
ORGANIZER;CN="M%C3%A9diath%C3%A8que Andr%C3%A9 Labarr%C3%A8re":MAILTO:mediatheques@agglo-pau.fr
END:VEVENT
END:VCALENDAR