BEGIN:VCALENDAR
VERSION:2.0
PRODID:-//Rock This Town - ECPv6.10.2//NONSGML v1.0//EN
CALSCALE:GREGORIAN
METHOD:PUBLISH
X-WR-CALNAME:Rock This Town
X-ORIGINAL-URL:https://rockthistown-pau.fr
X-WR-CALDESC:Évènements pour Rock This Town
REFRESH-INTERVAL;VALUE=DURATION:PT1H
X-Robots-Tag:noindex
X-PUBLISHED-TTL:PT1H
BEGIN:VTIMEZONE
TZID:Europe/Paris
BEGIN:DAYLIGHT
TZOFFSETFROM:+0100
TZOFFSETTO:+0200
TZNAME:CEST
DTSTART:20230326T010000
END:DAYLIGHT
BEGIN:STANDARD
TZOFFSETFROM:+0200
TZOFFSETTO:+0100
TZNAME:CET
DTSTART:20231029T010000
END:STANDARD
END:VTIMEZONE
BEGIN:VEVENT
DTSTART;TZID=Europe/Paris:20230429T110000
DTEND;TZID=Europe/Paris:20230429T123000
DTSTAMP:20260420T124830
CREATED:20220411T180446Z
LAST-MODIFIED:20230317T084635Z
UID:3281-1682766000-1682771400@rockthistown-pau.fr
SUMMARY:Rencontre-dédicace avec Alain Gardinier
DESCRIPTION:Proposé par la Médiathèque André Labarrère \nRencontre-dédicace avec Alain Gardinier pour son livre « Neil Young\, sept décennies au sommet du rock ». \nFolk\, rock\, country\, blues…depuis plus de 40 albums (dont le génial Harvest\, qui a fêté en 2022 ses cinquante ans)\, Neil Young a emprunté toutes les pistes musicales sans jamais se perdre\, traçant à chaque fois une nouvelle voie. Fan de l’artiste\, Alain Gardinier a conservé depuis plus de 35 ans infos et documents de toutes sortes sur son musicien préféré. Cette biographie très complète\, truffée d’anecdotes\, d’extraits d’interviews et de nombreuses infos inédites\, retrace sa vie tumultueuse faite d’alliances et de ruptures\, de gloire et de trahisons\, de combats comme l’écologie ou la lutte anti OGM\, de concerts et tournées légendaires mais aussi\, au travers de sous-chapitres illustrés\, de passions comme les trains électriques\, les guitares ou les voitures anciennes… \n \nInvité : Alain Gardinier est journaliste\, réalisateur de documentaires et auteur. Désormais écrivain à plein temps\, auteur de romans\, de livres thématiques et de biographies\, il a toujours fait partager sa passion de la musique à travers de multiples articles\, plusieurs livres (‘Noms d’un Rock’\, ‘Punk sur la Ville’\, ‘365 jours de l’histoire du rock’\, ‘Bob Marley et la légende du reggae’\, Neil Young : sept décennies au sommet du rock’…) et des émissions de télévision (‘Nulle Part Ailleurs’ et ‘Top 50’ sur Canal +\, ‘Culture Rock’ sur M6\, ‘Top Bab’ sur Canal Jimmy). Le surf est une autre de ses passions\, à laquelle il a consacré des dizaines d’articles\,  dix livres et autant de documentaires.
URL:https://rockthistown-pau.fr/event/rencontre-alain-gardinier/
LOCATION:Médiathèque André Labarrère\, 10 Place Marguerite Laborde\, Pau\, 64000
CATEGORIES:Conférence
ATTACH;FMTTYPE=image/jpeg:https://rockthistown-pau.fr/wp-content/uploads/2022/04/NeilYoung_Couverture-scaled-e1677339061284.jpg
ORGANIZER;CN="M%C3%A9diath%C3%A8que Andr%C3%A9 Labarr%C3%A8re":MAILTO:mediatheques@agglo-pau.fr
END:VEVENT
END:VCALENDAR