BEGIN:VCALENDAR
VERSION:2.0
PRODID:-//Rock This Town - ECPv6.10.2//NONSGML v1.0//EN
CALSCALE:GREGORIAN
METHOD:PUBLISH
X-WR-CALNAME:Rock This Town
X-ORIGINAL-URL:https://rockthistown-pau.fr
X-WR-CALDESC:Évènements pour Rock This Town
REFRESH-INTERVAL;VALUE=DURATION:PT1H
X-Robots-Tag:noindex
X-PUBLISHED-TTL:PT1H
BEGIN:VTIMEZONE
TZID:Europe/Paris
BEGIN:DAYLIGHT
TZOFFSETFROM:+0100
TZOFFSETTO:+0200
TZNAME:CEST
DTSTART:20230326T010000
END:DAYLIGHT
BEGIN:STANDARD
TZOFFSETFROM:+0200
TZOFFSETTO:+0100
TZNAME:CET
DTSTART:20231029T010000
END:STANDARD
END:VTIMEZONE
BEGIN:VEVENT
DTSTART;VALUE=DATE:20230501
DTEND;VALUE=DATE:20230502
DTSTAMP:20260420T095057
CREATED:20230315T152648Z
LAST-MODIFIED:20230315T152732Z
UID:3826-1682899200-1682985599@rockthistown-pau.fr
SUMMARY:Stand littérature rock - P. Scarzello / E. Buffard
DESCRIPTION:Stand Littérature rock – Deux auteurs bordelais \nAu Salon du disque / Halle de Billère / Lundi 1er mai de 10h à 18h.  \nPatrick Scarzello \nAuteur-interprète et signature rock\, Patrick Scarzello a publié quatre albums et plusieurs récits\, dont la biographie Camera Silens\, et « Roll\, Roll\, Roll ! (40 ans de répertoires live) » en 2022. Il joue en groupe avec Le Club\, Scarzello unlimited combo\, et en duo acoustique\, Les Derniers Sucrés. \n  \n  \n  \n  \n  \n  \nEric Buffard – « Il n’a jamais fait aussi beau »  \nAux antipodes de l’ambiance feutrée des salons parisiens\, Il n’a jamais fait aussi beau s’ouvre sur le Bordeaux rock des années 80\, ses squats et week-ends sauvages. Treize années d’errance durant lesquelles vous allez faire connaissance de mes petites amies\, trinquer avec mes potes\, rencontrer de drôles de lustucrus. Chaque chapitre\, un disque est à l’honneur.  Bon ou mauvais souvenir\, il a laissé son empreinte.  J’ai coutume de dire «La musique est une aiguille que je n’enlèverai pas de mon bras.» Dans les années 80 être rock était un mode de vie\, pas une appli pour iPhone.
URL:https://rockthistown-pau.fr/event/rencontre-dedicace-p-scarzello-e-buffard-2/
LOCATION:Halle de Billère\, 31 route de Bayonne\, Billère\, 64140\, France
CATEGORIES:Conférence
ATTACH;FMTTYPE=image/jpeg:https://rockthistown-pau.fr/wp-content/uploads/2023/03/COLLECTION-PATRICK-SCARZELLO.jpg
ORGANIZER;CN="Cin%C3%A9ma Le M%C3%A9li%C3%A8s":MAILTO:contact@lemelies.net
END:VEVENT
END:VCALENDAR