BEGIN:VCALENDAR
VERSION:2.0
PRODID:-//Rock This Town - ECPv6.10.2//NONSGML v1.0//EN
CALSCALE:GREGORIAN
METHOD:PUBLISH
X-WR-CALNAME:Rock This Town
X-ORIGINAL-URL:https://rockthistown-pau.fr
X-WR-CALDESC:Évènements pour Rock This Town
REFRESH-INTERVAL;VALUE=DURATION:PT1H
X-Robots-Tag:noindex
X-PUBLISHED-TTL:PT1H
BEGIN:VTIMEZONE
TZID:Europe/Paris
BEGIN:DAYLIGHT
TZOFFSETFROM:+0100
TZOFFSETTO:+0200
TZNAME:CEST
DTSTART:20260329T010000
END:DAYLIGHT
BEGIN:STANDARD
TZOFFSETFROM:+0200
TZOFFSETTO:+0100
TZNAME:CET
DTSTART:20261025T010000
END:STANDARD
END:VTIMEZONE
BEGIN:VEVENT
DTSTART;TZID=Europe/Paris:20260425T110000
DTEND;TZID=Europe/Paris:20260425T110000
DTSTAMP:20260425T024119
CREATED:20260221T141556Z
LAST-MODIFIED:20260221T143304Z
UID:5656-1777114800-1777114800@rockthistown-pau.fr
SUMMARY:IN\, OFF\, 10 ANS DE TONNERRE DE JAZZ
DESCRIPTION:Médiathèque André-Labarrère – Auditorium\n\nLes archives inédites de l’association Tonnerre de Jazz \, filmées dans l’intimité des balances et d’autres moments off ou in !
URL:https://rockthistown-pau.fr/event/in-off-10-ans-de-tonnerre-de-jazz/
LOCATION:Médiathèque André Labarrère\, 10 Place Marguerite Laborde\, Pau\, 64000
CATEGORIES:Conférence,Séances spéciales
ATTACH;FMTTYPE=image/png:https://rockthistown-pau.fr/wp-content/uploads/2026/02/tremplin-800-x-500.png
ORGANIZER;CN="M%C3%A9diath%C3%A8que Andr%C3%A9 Labarr%C3%A8re":MAILTO:mediatheques@agglo-pau.fr
END:VEVENT
BEGIN:VEVENT
DTSTART;TZID=Europe/Paris:20260425T140000
DTEND;TZID=Europe/Paris:20260425T170000
DTSTAMP:20260425T024119
CREATED:20260221T140926Z
LAST-MODIFIED:20260222T091403Z
UID:5652-1777125600-1777136400@rockthistown-pau.fr
SUMMARY:GUITAR HERO - Jeu vidéo
DESCRIPTION:Animation musicale autour du jeu vidéo Guitar Heroes avec l’association Gaming Palois. \nGuitar Hero sur PS2 est le premier d’une longue lignée de jeux musicaux introduisant la célèbre guitare en plastique. Le but est simple : appuyez en rythme sur les touches qui apparaissent à l’écran et donnez un coup de mediator pour faire comme les vrais guitaristes. Une tracklist variée et bien rock’n roll permet de faire du bon gros son\, et différents modes de difficulté sont là pour tester votre dextérité.
URL:https://rockthistown-pau.fr/event/jeux-video-guitar-hero/
LOCATION:Médiathèque André Labarrère\, 10 Place Marguerite Laborde\, Pau\, 64000
CATEGORIES:The Kids Are Allright - Famille et jeune public
ATTACH;FMTTYPE=image/jpeg:https://rockthistown-pau.fr/wp-content/uploads/2026/02/35ea0a93dce8a8d7c61fb2b4d1e24970bb38e8ef.jpg
ORGANIZER;CN="M%C3%A9diath%C3%A8que Andr%C3%A9 Labarr%C3%A8re":MAILTO:mediatheques@agglo-pau.fr
END:VEVENT
BEGIN:VEVENT
DTSTART;TZID=Europe/Paris:20260425T161500
DTEND;TZID=Europe/Paris:20260425T161500
DTSTAMP:20260425T024119
CREATED:20260407T052141Z
LAST-MODIFIED:20260411T111818Z
UID:5907-1777133700-1777133700@rockthistown-pau.fr
SUMMARY:IT'S NEVER OVER\, JEFF BUCKLEY
DESCRIPTION:It’s Never Over\, Jeff Buckley\nAmy Berg / États-Unis / 2025 1h46 / VOSTF / Documentaire \n \nIt’s Never Over\, Jeff Buckley\, réalisé par la cinéaste nommée aux Oscars Amy Berg\, retrace la vie de ce jeune prodige à la voix céleste et à l’art audacieux\, dont la mort brutale à 30 ans a choqué le monde musical des années 90\, peu après la sortie de son premier album acclamé par la critique\, Grace. \nÀ travers des archives inédites et des témoignages intimes de sa mère Mary Guibert\, de ses anciennes compagnes Rebecca Moore et Joan Wasser\, de ses ex-musiciens Michael Tighe et Parker Kindred\, ainsi que de personnalités comme Ben Harper et Aimee Mann\, le film éclaire l’une des icônes les plus influentes et énigmatiques de la musique moderne. Des débuts dans un bar new-yorkais à sa noyade accidentelle dans le Mississippi\, la vie de l’auteur de Grace est racontée avec délicatesse par Amy Berg\, qui avait déjà dressé le portrait de Janis Joplin dans son documentaire Janis. \nAutre séance : Sam. 2 mai 18h15 \n 
URL:https://rockthistown-pau.fr/event/its-never-over-jeff-buckley/
LOCATION:Cinéma Le Méliès\, 15 Place du Foirail\, Pau\, 64000\, France
CATEGORIES:Film hors compétition
ATTACH;FMTTYPE=image/jpeg:https://rockthistown-pau.fr/wp-content/uploads/2026/04/JeffBuckley-INO_Poster-1Sheet_FR_ACTUEL_inrockuptibles.jpg
ORGANIZER;CN="Cin%C3%A9ma Le M%C3%A9li%C3%A8s":MAILTO:contact@lemelies.net
END:VEVENT
BEGIN:VEVENT
DTSTART;TZID=Europe/Paris:20260425T180000
DTEND;TZID=Europe/Paris:20260425T180000
DTSTAMP:20260425T024119
CREATED:20260407T065446Z
LAST-MODIFIED:20260407T065856Z
UID:5987-1777140000-1777140000@rockthistown-pau.fr
SUMMARY:MARC DUFAUD - Rencontre-dédicace
DESCRIPTION:Rencontre-dédicace avec Marc Dufaud autour du mouvement punk\nMarc Dufaud est un réalisateur et écrivain français\, né le 18 mai 1966. Il est surtout connu pour son travail autour de la culture rock\, notamment punk\, et pour ses œuvres consacrées à des figures musicales marginales. Marc Dufaud commence dans les années 1990 en réalisant des courts-métrages et documentaires liés à la scène rock underground. Il se fait remarquer avec des films sur le chanteur Daniel Darc et la génération punk\, comme : LES ENFANTS DE LA BLANK GENERATION (1994) LE GARÇON SAUVAGE – DANIEL DARC (1993). Après la sortie du long métrage primé DANIEL DARC PIECES OF MY LIFE (succès de l’été 2019)\, son 3ème film consacré à son ami-frère Daniel Darc\, Marc revient à la littérature avec ce roman « Les imprudents\, la nuit » dans la lignée du remarqué « Les peaux transparentes”. Il a également publié une quinzaine d’ouvrages (essai « les décadents français fin de siècle »\, « Les rebelles du rock »\, « Rebuts du diable »… ) \n \n  \n  \n  \n  \n  \n  \n  \n \nLa grande histoire du Punk  (Ed. Rock&Follk) \nMarc Dufaud\, auteur rock et réalisateur de rockumentaires sur Daniel Darc\, se concentre sur ce punk originel\, dont les racines remontent au début des seventies\, de New York à Londres en passant par Paris \n  \n  \n  \n  \n  \n  \n  \n \nPunk – Collector’s book (Ed. Le Boulon) \nUn condensé de culture rock pour fans et profanes Collector’s BOOK présente 16 groupes ou artistes\, des Sex Pistols\, à The Clash\, en passant par Sham 69. \n  \n  \n  \n  \n  \n  \n 
URL:https://rockthistown-pau.fr/event/marc-dufaud-rencontre-dedicace/
LOCATION:Cinéma Le Méliès\, 15 Place du Foirail\, Pau\, 64000\, France
CATEGORIES:Conférence
ATTACH;FMTTYPE=image/png:https://rockthistown-pau.fr/wp-content/uploads/2026/04/Capture-decran-2026-04-07-a-08.55.25.png
ORGANIZER;CN="Librairie l'Escampette":MAILTO:lescampette@greli.net
END:VEVENT
BEGIN:VEVENT
DTSTART;TZID=Europe/Paris:20260425T183000
DTEND;TZID=Europe/Paris:20260425T183000
DTSTAMP:20260425T024119
CREATED:20260407T060349Z
LAST-MODIFIED:20260411T111931Z
UID:5944-1777141800-1777141800@rockthistown-pau.fr
SUMMARY:MICHAEL ET MOI
DESCRIPTION:Michael et Moi\nRégis Coussot\, Nicolas-Alexandre Tremblay / Canada / 2024 / 1h17 / Documentaire \n \nÀ travers un entraînement épuisant\, des chirurgies esthétiques radicales et une dévotion sans pareille\, Frédérick se lance dans une poursuite redoutable de transformation physique et artistique\, bravant de nombreux obstacles sur son chemin\, équilibrant délicatement entre la raison et l’obsession. « Avec MICHAEL ET MOI\, les réalisateurs Régis Coussot et Nicolas-Alexandre Tremblay signent ainsi le portrait nuancé d’un imitateur qui dépasse le pastiche. Frédérick Dufour ne se contente en effet pas de reproduire les pas du roi de la pop\, il se reconstruit à travers et autour de lui. Entraînements rigoureux\, performances millimétrées\, mais aussi opérations esthétiques radicales… le film dévoile un chemin semé d’embûches où la passion flirte avec l’obsession. Pourtant\, loin de moquer ou de diagnostiquer son sujet\, la caméra observe avec empathie\, sensibilité et acuité un artiste habité\, complexe\, qui a trouvé refuge dans une icône salvatrice après des années d’intimidation. Le documentaire s’intéresse à ce qu’on est prêt à sacrifier pour exister pleinement — et ce que l’on gagne à incarner ses rêves\, aussi fous soient-ils. » Le Devoir
URL:https://rockthistown-pau.fr/event/michael-et-moi/
LOCATION:Cinéma Le Méliès\, 15 Place du Foirail\, Pau\, 64000\, France
CATEGORIES:Film hors compétition
ATTACH;FMTTYPE=image/png:https://rockthistown-pau.fr/wp-content/uploads/2026/04/Affiche_Festival_ENG.png
ORGANIZER;CN="Cin%C3%A9ma Le M%C3%A9li%C3%A8s":MAILTO:contact@lemelies.net
END:VEVENT
BEGIN:VEVENT
DTSTART;TZID=Europe/Paris:20260425T191500
DTEND;TZID=Europe/Paris:20260425T191500
DTSTAMP:20260425T024119
CREATED:20260407T070307Z
LAST-MODIFIED:20260409T155828Z
UID:5994-1777144500-1777144500@rockthistown-pau.fr
SUMMARY:DJ SET Lady Miss Penelope & Doubleface Richard
DESCRIPTION:Lady Miss Penelope & Doubleface Richard\nDJ set spécial punk & rock anglais \nEn première partie de soirée d’ouverture \n@ Café Méliès
URL:https://rockthistown-pau.fr/event/dj-set-lady-miss-penelope-doubleface-richard/
LOCATION:Cinéma Le Méliès\, 15 Place du Foirail\, Pau\, 64000\, France
CATEGORIES:DJ set
ATTACH;FMTTYPE=image/jpeg:https://rockthistown-pau.fr/wp-content/uploads/2026/04/UONMLbA-1.jpg
ORGANIZER;CN="Cin%C3%A9ma Le M%C3%A9li%C3%A8s":MAILTO:contact@lemelies.net
END:VEVENT
BEGIN:VEVENT
DTSTART;TZID=Europe/Paris:20260425T203000
DTEND;TZID=Europe/Paris:20260425T203000
DTSTAMP:20260425T024119
CREATED:20260404T161556Z
LAST-MODIFIED:20260411T112028Z
UID:5789-1777149000-1777149000@rockthistown-pau.fr
SUMMARY:I WAS A TEENAGE SEX PISTOLS - Soirée d'ouverture
DESCRIPTION:@Café Méliès\nDès 17h : espace musique et littérature stand – vente librairie l’Escampette\n18h : rencontre-dédicace Marc Dufaud autour du mouvement punk\n19h : DJ set punk et rock anglais Lady Miss Penelope & Doubleface Richard (Wild Women – Mucho Bizarre)\n\n20h30 : film\nI Was A Teenage Sex Pistols + rencontre avec Glen Matlock\n\nAndre Relis\, Nick Mead Royaume-Uni / 2025 / 1h38 VOSTF / Documentaire\nAvec Glen Matlock\, Steve Jones\, Paul Cook\, John Lyndon\, Sid Vicious\, Malcolm McLaren\, Debbie Harry… \nUn documentaire sur les Sex Pistols\, basé sur les mémoires de Glen Matlock\, bassiste et membre fondateur du groupe. Basé sur le roman éponyme écrit il y a déjà 30 ans\, I Was a Teenage Sex Pistols retrace le parcours de Glen Matlock en tant que membre fondateur d’un des groupes punk les plus influents : les Sex Pistols. Ayant coécrit dix des douze chansons de leur seul album studio Never Mind the Bollocks\, sa contribution a été essentielle au succès du groupe. On découvre avec le film l’ascension fulgurante des Pistols vers la notoriété mondiale à travers le récit honnête et perspicace de Matlock. Éjecté du groupe au moment où les provocations et les hymnes balancés à fond de caisse affolaient la planète\, Matlock semble parfois avoir été effacé de la photo de famille\, au profit de son remplaçant\, le très médiatique – et musicalement plutôt incompétent – Sid Vicious. Il règle ici quelques comptes mais rappelle également les prémices d’un mouvement punk qui continue à faire des émules. Un film de souvenirs\, de fausses rumeurs\, de vraies histoires et de légendes : l’histoire d’un héros oublié\, racontée par des membres du groupe\, l’histoire d’une Angleterre qui allait bientôt exploser au son de God Save The Queen ou d’Anarchy In The UK! \n \n  \nInvité : Glen Matlock\nGlen Matlock\, membre fondateur du groupe The Sex Pistols\, bassiste originel\, auteur-compositeur du groupe\, présent pour l’ouverture de la 19e édition du festival Rock This Town ! Glen Matlock s’est imposé comme l’une des figures emblématiques du Punk Rock. Il a coécrit plusieurs des hymnes les plus marquants du groupe. Il a fait la connaissance du guitariste Steve Jones et du batteur Paul Cook alors qu’il travaillait chez Let It Rock\, le précurseur de SEX\, la boutique de vêtements de Malcolm McLaren et Vivienne Westwood à Londres.\nIl est crédité en tant qu’auteur-compositeur sur 10 des 12 titres du seul album des Sex Pistols\, Never Mind The Bollocks. Au-delà des Pistols\, il a poursuivi son insatiable créativité à travers des formations comme The Rich Kids\, Vicious White Kids\, Hot Club\, The Philistines\, The Flying Padovanis (avec Henri Padovani\, le guitariste originel de the Police) ou encore Slinky Vagabond.\nIl tourne en Europe et aux Etats-Unis avec Iggy Pop\, jouant de la basse et coécrivant des morceaux pour son album « Soldier » et réinvente sans cesse son parcours musical tout en restant fidèle à son esprit rebelle. Rencontre historique pour tous les fans des Pistols et du rock anglais !
URL:https://rockthistown-pau.fr/event/i-was-a-teenage-sex-pistols-soiree-douverture/
LOCATION:Cinéma Le Méliès\, 15 Place du Foirail\, Pau\, 64000\, France
CATEGORIES:Film hors compétition,Séances spéciales
ATTACH;FMTTYPE=image/jpeg:https://rockthistown-pau.fr/wp-content/uploads/2026/04/IWATSP.40x30pstr-copie.jpg
ORGANIZER;CN="Cin%C3%A9ma Le M%C3%A9li%C3%A8s":MAILTO:contact@lemelies.net
END:VEVENT
END:VCALENDAR