BEGIN:VCALENDAR
VERSION:2.0
PRODID:-//Rock This Town - ECPv6.10.2//NONSGML v1.0//EN
CALSCALE:GREGORIAN
METHOD:PUBLISH
X-WR-CALNAME:Rock This Town
X-ORIGINAL-URL:https://rockthistown-pau.fr
X-WR-CALDESC:Évènements pour Rock This Town
REFRESH-INTERVAL;VALUE=DURATION:PT1H
X-Robots-Tag:noindex
X-PUBLISHED-TTL:PT1H
BEGIN:VTIMEZONE
TZID:Europe/Paris
BEGIN:DAYLIGHT
TZOFFSETFROM:+0100
TZOFFSETTO:+0200
TZNAME:CEST
DTSTART:20260329T010000
END:DAYLIGHT
BEGIN:STANDARD
TZOFFSETFROM:+0200
TZOFFSETTO:+0100
TZNAME:CET
DTSTART:20261025T010000
END:STANDARD
END:VTIMEZONE
BEGIN:VEVENT
DTSTART;TZID=Europe/Paris:20260424T200000
DTEND;TZID=Europe/Paris:20260424T200000
DTSTAMP:20260424T015455
CREATED:20260404T153132Z
LAST-MODIFIED:20260409T171207Z
UID:5765-1777060800-1777060800@rockthistown-pau.fr
SUMMARY:TWIST AND SHORT ! Séance courts métrages
DESCRIPTION:TWIST AND SHORT ! Programme de courts métrages musicaux\nBEFORE DU FESTIVAL !!\nEn préambule du festival\, une séance exceptionnelle qui présente 7 courts métrages internationaux qui chacun à leur façon\, raconte la musique. Documentaire\, animation\, comédie… les films s’enchainent et composent une belle partition en plusieurs mouvements. \nDurée totale du programme : 1h45 \nChet’s Romance\nBertrand Fèvre / France / 1988 / 9’50 / Documentaire \nLe film raconte l’histoire d’un faisceau de lumière qui tombe d’une note de musique. C’est aussi un hommage au musicien Chet Baker… C’est la musique d’une légende\, le portrait d’une romance. Bertrand Fèvre transforme l’hommage au mythique musicien Chet Baker en poème visuel. Métaphore délicate de la romance éternelle entre l’art et la beauté\, le film transcende le portrait traditionnel pour créer une méditation lyrique sur le destin solitaire et romantique d’une légende du jazz\, sculptant dans l’image la fragilité de sa voix et de sa trompette. \n \nWonderwall\nRoisin Burns / France\, Grande-Bretagne / 2025 27’ / Fiction \nLiverpool\, 1995\, les dockers sont en grève. Siobhan\, neuf ans\, n’a qu’une chose en tête : voir si Oasis va remporter le duel de la pop face à Blur. Mais une dispute éclate avec son grand frère Rory\, entraînant la petite fille dans une fugue à la tombée de la nuit. Au fil de son errance\, la ville en déclin prend une allure irréelle. \n \nOpa-Locka Will Be Beautiful\nArmand Morin / France / 2011 / 21’ / Documentaire\, expérimental \nOpa-Locka est une banlieue de Miami construite en 1926 dans un style orientaliste inspiré du film Le Voleur de Bagdad. Aujourd’hui\, les habitants\, communauté noire\, majoritaire\, doivent faire face à une situation sociale extrême que Brisco\, la star du rap\, raconte dans sa musique. Le film glisse sur toutes les facettes de cette ville mirage. \n \nLast Summer\nNicolas Bernardi\, Alessandra De Stefano\, Gabriela Lewandowska\, Chloé Van Becelaere\, Camille Van Delft\, Elodie Xia / France / 6’40 / Animation \nAlors que la fin de l’été approche\, les amis d’enfance de Ren se préparent à partir pour l’université. Il tente avec difficulté d’écrire les paroles de leur dernière chanson. \n \nThe Other Queen Of Memphis\nLuna Mahoux / France / 2024 / 22’ / Documentaire \nMemphis\, Tennessee. La rappeuse Lachat (Chastity Daniels) nous emmène à travers différents récits\, les siens\, pour nous guider dans cette ville peuplée de fantômes et de rêves. \n \nApocalypse\nBenoit Mery / France / 2024 / 15’ / Documentaire \nAu cœur du Hellfest\, la musique prend petit à petit possession des metalheads. \n \nConference of the Birds\nSally Eckhoff / Etats-Unis / 2026 / 5’ / Animation \nUne œuvre qui s’appuie sur le morceau de jazz de Dave Holland pour mettre en musique les inspirations de la réalisatrice. C’est une réflexion sur l’identité et la mort\, et\, en fin de compte\, sur l’honnêteté. \n 
URL:https://rockthistown-pau.fr/event/twist-and-short-seance-courts-metrages-2/
CATEGORIES:Court métrage,Film hors compétition
ATTACH;FMTTYPE=image/jpeg:https://rockthistown-pau.fr/wp-content/uploads/2026/04/Coin-de-la-rue-1.jpg
END:VEVENT
END:VCALENDAR