BEGIN:VCALENDAR
VERSION:2.0
PRODID:-//Rock This Town - ECPv6.10.2//NONSGML v1.0//EN
CALSCALE:GREGORIAN
METHOD:PUBLISH
X-ORIGINAL-URL:http://rockthistown-pau.fr
X-WR-CALDESC:Évènements pour Rock This Town
REFRESH-INTERVAL;VALUE=DURATION:PT1H
X-Robots-Tag:noindex
X-PUBLISHED-TTL:PT1H
BEGIN:VTIMEZONE
TZID:Europe/Paris
BEGIN:DAYLIGHT
TZOFFSETFROM:+0100
TZOFFSETTO:+0200
TZNAME:CEST
DTSTART:20240331T010000
END:DAYLIGHT
BEGIN:STANDARD
TZOFFSETFROM:+0200
TZOFFSETTO:+0100
TZNAME:CET
DTSTART:20241027T010000
END:STANDARD
END:VTIMEZONE
BEGIN:VEVENT
DTSTART;TZID=Europe/Paris:20240502T190000
DTEND;TZID=Europe/Paris:20240502T235500
DTSTAMP:20260420T100905
CREATED:20220411T180027Z
LAST-MODIFIED:20240502T054653Z
UID:3276-1714676400-1714694100@rockthistown-pau.fr
SUMMARY:Africa is the future : Film FENEEN + Rencontre + DJ Set
DESCRIPTION:En partenariat avec La Centrifugeuse \nLa Centrifugeuse s’associe au festival palois Rock This Town pour une soirée « film et concert » Africa Is The Future !! \n19h : OUVERTURE DES PORTES / DJ SET LOS ULTIMOS TACOS \n19h30 : FILM \n \nFeneen \nGiulia Rosco / 1h / 2022 / Italie\, Sénégal / VOSTF \nFENEEN est un voyage dans la musique urbaine sénégalaise contemporaine. Une histoire née de la rencontre entre le producteur italien Frank Sativa et les rappeurs Leuz Diwane G\, sénégalais\, et F.U.L.A.\, italo-sénégalais\, qui a donné lieu à la genèse d’une chanson\, d’un clip vidéo et d’un documentaire du même nom. Le documentaire plonge dans la musique actuelle et la scène urbaine de Dakar pour créer un portrait complexe et inattendu du mouvement culturel urbain fort et florissant de la ville\, un contexte essentiel pour le développement d’une conscience civique critique et consciente chez les jeunes\, mais aussi un terrain extrêmement fertile pour des opportunités d’emploi concrètes au sein d’une industrie naissante. En se démarquant des Etats-Unis\, cette génération de rappeurs africains se réapproprie une culture et l’intègre à l’histoire de son pays. En utilisant les instruments traditionnels\, les sonorités de la musique sénégalaise\, les artistes présentés dans le film réinventent\, créent et affirment la musique de leur génération. Engagé\, féministe\, débrouillarde\, ce mouvement artistique a beaucoup à nous apprendre. \nRencontre avec la réalisatrice Giulia Rosco (Italie) et de l’artiste F.U.L.A (Sénégal\, Italie) \n \n \n \n21h30 : CONCERT ANNULÉ MAIS SOIRÉE MAINTENUE\n \nINFORMATION : Kabeaushé / CONCERT ANNULÉ\n \n\n\n\n\n\nNous sommes contraints de vous annoncer l’annulation de la venue de Kabeaushé… Ce dernier n’ayant pas obtenu de visa\, le début de sa tournée européenne est dès lors annulé (Pau Bordeaux Bruxelles). Nous travaillons à un report de sa venue au printemps 2025.\n\n\nConcernant la soirée Africa is the future! Elle est maintenue gratuitement avec le Film Feneen\, la rencontre avec sa réalisatrice Giulia Rosco (Italie) et de l’artiste F.U.L.A (Sénégal\, Italie). Le dj set de Los Ultimos Tacos (Lee strach pourri et Un jeune homme épatant) est également maintenu.\n\n\nON DANSERA QUAND MÊME!!\n\n\nPour les personnes qui ont déjà réservé et donc payé leurs places\, ces-dernières restent valables sur la date de report de Kabeaushé ou sur le concert ou spectacle de votre choix la saison prochaine… On annonce tout ça bientôt.\n\n\n\n\n\n  \n  \n  \n  \n  \n  \n  \n  \n  \n 
URL:http://rockthistown-pau.fr/event/astereotypie/
LOCATION:La Centrifugeuse\, Université de Pau et des Pays de l'Adour\, Pau\, 64000\, France
CATEGORIES:Concert,DJ set,Film hors compétition
ATTACH;FMTTYPE=image/png:http://rockthistown-pau.fr/wp-content/uploads/2022/04/KABEAUSHÉ-IMAGE-POTRAIT.png
ORGANIZER;CN="Cin%C3%A9ma Le M%C3%A9li%C3%A8s":MAILTO:contact@lemelies.net
END:VEVENT
END:VCALENDAR