BEGIN:VCALENDAR
VERSION:2.0
PRODID:-//Rock This Town - ECPv6.10.2//NONSGML v1.0//EN
CALSCALE:GREGORIAN
METHOD:PUBLISH
X-ORIGINAL-URL:http://rockthistown-pau.fr
X-WR-CALDESC:Évènements pour Rock This Town
REFRESH-INTERVAL;VALUE=DURATION:PT1H
X-Robots-Tag:noindex
X-PUBLISHED-TTL:PT1H
BEGIN:VTIMEZONE
TZID:Europe/Paris
BEGIN:DAYLIGHT
TZOFFSETFROM:+0100
TZOFFSETTO:+0200
TZNAME:CEST
DTSTART:20230326T010000
END:DAYLIGHT
BEGIN:STANDARD
TZOFFSETFROM:+0200
TZOFFSETTO:+0100
TZNAME:CET
DTSTART:20231029T010000
END:STANDARD
END:VTIMEZONE
BEGIN:VEVENT
DTSTART;TZID=Europe/Paris:20230501T190000
DTEND;TZID=Europe/Paris:20230501T210000
DTSTAMP:20260421T044355
CREATED:20220324T062444Z
LAST-MODIFIED:20230312T085213Z
UID:3097-1682967600-1682974800@rockthistown-pau.fr
SUMMARY:Concert The Anomalys (NL)
DESCRIPTION:The Anomalys (Garage Punk – Slovenly Recordings – Amsterdam\,NL)\n@La Route du Son / Billère \n19h30 – 10 € tarif Unique \n« The Anomalys\, certainement le groupe européen de garage punk primitif le plus exporté du 21e siècle… Sauvage\, frénétique\, provoquant les Anomalys ont joué dans le monde entier sur tous les continents\, de la cave concert\, jusqu’à remplir des stades en Amérique du sud. Depuis 20 ans\, Bone guitariste chanteur du groupe\, prêche la bonne parole d’un rock’n’roll punk pur où l’on peut retrouver toutes ses influences rock’n’roll 50’s 60’s 70’s teintées de blues\, garage et punk … Il est de retour avec un nouveau Line Up et pas des moindres\, plus détonnant et percutant que jamais: on y retrouve à la batterie: Remy Pablo (Weird Omen\, Escobar\,..) et pour la deuxième guitare Sir Looch Vibrato (Magnetix\, King Khan Unlimited\,..) » \nNouveau LP « GLITCH » \, janvier 2022 //  Slovenly Recordings
URL:http://rockthistown-pau.fr/event/concert-the-anomalys/
LOCATION:Ampli\, 51 allée Montesquieu\, Billère\, 64140\, France
CATEGORIES:Concert
ATTACH;FMTTYPE=image/jpeg:http://rockthistown-pau.fr/wp-content/uploads/2022/03/IMG_4128-e1677335659236.jpg
ORGANIZER;CN="Ampli":MAILTO:contact@ampli.asso.fr
END:VEVENT
END:VCALENDAR