BEGIN:VCALENDAR
VERSION:2.0
PRODID:-//Rock This Town - ECPv6.10.2//NONSGML v1.0//EN
CALSCALE:GREGORIAN
METHOD:PUBLISH
X-WR-CALNAME:Rock This Town
X-ORIGINAL-URL:http://rockthistown-pau.fr
X-WR-CALDESC:Évènements pour Rock This Town
REFRESH-INTERVAL;VALUE=DURATION:PT1H
X-Robots-Tag:noindex
X-PUBLISHED-TTL:PT1H
BEGIN:VTIMEZONE
TZID:Europe/Paris
BEGIN:DAYLIGHT
TZOFFSETFROM:+0100
TZOFFSETTO:+0200
TZNAME:CEST
DTSTART:20230326T010000
END:DAYLIGHT
BEGIN:STANDARD
TZOFFSETFROM:+0200
TZOFFSETTO:+0100
TZNAME:CET
DTSTART:20231029T010000
END:STANDARD
END:VTIMEZONE
BEGIN:VEVENT
DTSTART;TZID=Europe/Paris:20230409T190000
DTEND;TZID=Europe/Paris:20230409T220000
DTSTAMP:20260421T061026
CREATED:20230206T203358Z
LAST-MODIFIED:20230317T140807Z
UID:3426-1681066800-1681077600@rockthistown-pau.fr
SUMMARY:Before du Festival - Concert Holly Golightly
DESCRIPTION:BEFORE DU FESTIVAL – CONCERT HOLLY GOLIGHTLY\nEn partenariat avec La Forge Moderne \nAttention : sur place\, la billeterie n’accepte pas la carte bleue : chèque ou espèces. Merci \nHolly Golightly à Pau\, pour la soirée de présentation de Rock This Town fest # 16.  \nCette ex-Thee Headcoatees (son groupe 100% féminin\, référence indéniable du rock garage anglais) se produira à la Forge Moderne pour le Before de notre festival. \nSa carrière solo compte 13 albums studio au compteur. dans un son rhythm and blues rockabilly ou country. Ses collaborations sont nombreuses : Billy Childish\, Rocket From The Crypt et The White Stripes (sur It’s True That We Love One Another de leur album culte « Elephant »). Son nom tiré du roman de Truman Capote et du personnage joué par Audrey Hepburn dans Breakfast At Tiffany’s et son apparition dans la bande son du film Broken Flowers de Jim Jarmusch en font une guest impeccable pour la 16e édition du festival du film musical de Pau ! Rare sur scène\, qui plus est dans nos contrées\, Holly Golightly à Pau\, c’est à coup sûr un rendez-vous classe et incontournable de cette année 2023 ! \nEn première partie : diffusion des bandes annonces des films du festival+ DJ set garage\, rythm’n’blues\, rockabilly…\nSur place : foodtruck et bar !
URL:http://rockthistown-pau.fr/event/concert-holly-golightly-uk-le-before-du-festival/
LOCATION:La Forge Moderne\, 19 avenue Gaston Lacoste\, Pau\, 64000\, France
CATEGORIES:Concert
ATTACH;FMTTYPE=image/jpeg:http://rockthistown-pau.fr/wp-content/uploads/2023/02/cropped-cropped-328501666_467821512068021_7837641057910335076_n-e1675712450699.jpg
ORGANIZER;CN="Cin%C3%A9ma Le M%C3%A9li%C3%A8s":MAILTO:contact@lemelies.net
END:VEVENT
END:VCALENDAR