BEGIN:VCALENDAR
VERSION:2.0
PRODID:-//Rock This Town - ECPv6.10.2//NONSGML v1.0//EN
CALSCALE:GREGORIAN
METHOD:PUBLISH
X-WR-CALNAME:Rock This Town
X-ORIGINAL-URL:http://rockthistown-pau.fr
X-WR-CALDESC:Évènements pour Rock This Town
REFRESH-INTERVAL;VALUE=DURATION:PT1H
X-Robots-Tag:noindex
X-PUBLISHED-TTL:PT1H
BEGIN:VTIMEZONE
TZID:Europe/Paris
BEGIN:DAYLIGHT
TZOFFSETFROM:+0100
TZOFFSETTO:+0200
TZNAME:CEST
DTSTART:20240331T010000
END:DAYLIGHT
BEGIN:STANDARD
TZOFFSETFROM:+0200
TZOFFSETTO:+0100
TZNAME:CET
DTSTART:20241027T010000
END:STANDARD
END:VTIMEZONE
BEGIN:VEVENT
DTSTART;TZID=Europe/Paris:20240427T203000
DTEND;TZID=Europe/Paris:20240427T203000
DTSTAMP:20260420T100501
CREATED:20240316T071314Z
LAST-MODIFIED:20240411T075059Z
UID:4414-1714249800-1714249800@rockthistown-pau.fr
SUMMARY:SOIREE D'OUVERTURE - Peter Doherty : Stranger In My Own Skin
DESCRIPTION:SOIRÉE D’OUVERTURE ROCK THIS TOWN #17\n!!!! OUVERTURE BILLETTERIE EN LIGNE + TICKETS : MARDI 2 AVRIL 2024 !!!! \nFILM + RENCONTRE + SHOWCASE PETER DOHERTY\nDès 18h30 dans le Hall du cinéma Le Méliès / DJ Set spécial rock anglais (des 60’s à nos jours) \nBy DJ Moth\n \n  \n20h30 – Film :  \nPeter Doherty : Stranger In My Own Skin\nKatia DeVidas / 1h32 / Grande-Bretagne\, France / VOSTF / Avec l’aimable collaboration de Canal + \nUn documentaire sur la vie de la rockstar britannique Pete Doherty et son combat contre l’addiction aux drogues dures. La réalisatrice et musicienne Katia deVidas\, qui est également la compagne de Peter Doherty a tourné plus de 200 heures de rush de l’artiste\, sur une période de 10 ans. Ce matériel\, brut et intime\, a servi de base à ce film de 90 minutes\, qui documente la descente aux enfers du chanteur et songwriter des Libertines et des Babyshambles\, alors même que sa popularité atteignait des sommets. Avec les mots et les émotions propres à l’artiste\, nous découvrons peu à peu le combat du chanteur pour vaincre ses démons. Et l’on découvre qu’une autre addiction\, plus artistique cette fois\, peut sauver un destin. Un film en forme de lettre d’amour\, un récit poignant et intime. \n \n22h45 : Rencontre aveec Katia DeVidas et Peter Doherty\n+ Show case Pete Doherty\n \nPete Doherty (Royaume-Uni\, France) \nSorte de héros des rêveurs marginaux\, plutôt mignon et bien looké\, avec ses airs de poète maudit\, Pete Doherty électrise le public dès le début de sa carrière musicale. Très vite\, le succès le dépasse\, il ne résiste pas à l’envolée médiatique qui l’entoure et tombe dans la spirale infernale des drogues dures\, menant une vie tumultueuse\, faisant malgré lui galoper les médias à ses trousses. Pete Doherty est né en 1979 dans le nord de l’Angleterre\, à Hexham\, d’une mère infirmière militaire Jacqueline\, et d’un père militaire\, très strict\, Peter John Doherty. Très bon élève\, il cultive ses idées dans la littérature\, la poésie et la musique. Enfermé dans cette vie en caserne\, il s’évade avec les Stone Roses et les Smiths. Ils forment avec son acolyte Carl Barât\, The Libertines et en 2002\, Mick Jones des Clash produit leur premier album\, Up the Bracket. C‘est le début d‘une longue série de hauts et de bas\, car en parallèle de ses succès\, Pete sombre dans l’addiction à l‘héroïne et au crack. Les Libertines sont au sommet\, mais pour Carl\, la coupe est pleine : Pete\, submergé par ses problèmes de drogue\, devient un boulet pour le groupe et c’est la fin des Libertines. Pete fonde les Babyshambles. Il alterne séjours en prison et cure en centre de désintoxication. En 2009\, le premier album solo de Pete Doherty\, Grace/Wastelands\, est acclamé par la critique et Pete Doherty part en cure de désintoxication en Thaïlande pour en finir avec la drogue. Les Libertines se reforment et enregistrent leur troisième album Anthems for doomed youth et jouent une série de concerts à guichets fermés. En 2016\, Pete sort son deuxième album solo\, Hamburg Demonstrations. L’année d’après\, il forme un nouveau groupe\, The Puta Madres dont le premier album sort dans la foulée. Depuis\, sevré et vivant en Normandie\, Pete sort en 2022 un album avec le musicien français Frédéric Lo\, The Fantasy life of Poetry and crime. En 2023\, il travaille sur son troisième album solo et le quatrième album des Libertines sort. \nKatia DeVidas (France) \nDiplômée en cinéma de l’Université de la Sorbonne à Paris\, Katia aspire à rejoindre les rangs des réalisateurs qu’elle admire : Chaplin\, Godard\, Carné\, Audiard\, Cassavetes\, et étudie pendant un an au Danemark à l’European Film College pour se perfectionner. Elle y rencontre Jan Harlan\, le producteur de Stanley Kubrick\, avec qui elle travaillera pendant 10 ans. Elle filme et monte tous les documentaires qui accompagnent les rééditions des films de Kubrick et assiste les réalisateurs Pablo Berger\, Leos Carax\, Claude Lelouch… Katia rejoint les équipes de Christian Fevret dans les années 2000 en tant que cadreuse et est missionnée pour capter l’intégralité des concerts des Babyshambles. Elle fait alors la rencontre de Peter Doherty qu’elle suivra pendant de nombreuses années\, le filmant sur scène puis dans son intimité. Parallèlement\, Katia est la claviériste du groupe Pete Doherty and The Puta Madres depuis sa création en 2017. Elle fonde sa société de production\, Wendy Productions Ltd. en 2019.
URL:http://rockthistown-pau.fr/event/peterdoherty/
LOCATION:le Foirail\, 15 Place du Foirail\, Pau\, 64000\, France
CATEGORIES:Concert,DJ set,Séances spéciales
ATTACH;FMTTYPE=image/jpeg:http://rockthistown-pau.fr/wp-content/uploads/2024/03/DOHERTY-POSTER-A3A4-scaled.jpg
ORGANIZER;CN="Cin%C3%A9ma Le M%C3%A9li%C3%A8s":MAILTO:contact@lemelies.net
END:VEVENT
BEGIN:VEVENT
DTSTART;TZID=Europe/Paris:20240428T180000
DTEND;TZID=Europe/Paris:20240428T180000
DTSTAMP:20260420T100501
CREATED:20240316T160332Z
LAST-MODIFIED:20240316T222235Z
UID:4478-1714327200-1714327200@rockthistown-pau.fr
SUMMARY:Play With The Devil\, Becoming Zeal & Ardor
DESCRIPTION:Film + concert noise\, hip-hop\, indus\nA Tant Rêver Du Roi\, The Mansion Press & Le Méliès\nParticipation libre mais nécessaire\n18h : Ouverture des portes /\nStand avec les productions du label A Tant Rêver Du Roi et The Mansion Press + dédicace de Adolf Hibou.\nhttps://themansionpress.com/collections/nils-bertho\nProjection du film :\nPlay with the Devil – Becoming Zeal & Ardor\nOlivier Joliat / 2023 / Suisse / 1h12 / VOSTF \n \nAvec son groupe Zeal & Ardor\, le musicien suisse Manuel Gagneux a été catapulté du jour au lendemain de l’underground vers les grandes scènes du monde. Le mélange audacieux de Black Metal\, de vieux chants de travail et de cris d’esclaves afro-américains – sa réponse à une provocation raciste sur Internet – est politiquement explosif. Religion\, racisme\, ségrégation et appropriation : avec sa musique\, Gagneux questionne et brise les tabous. Mais le fait d’être salué par ses fans comme un leader d’un nouveau genre effraie cet artiste introverti. Comment peut-il faire face à ces attentes démesurées ? En suivant l’artiste de son studio aux routes des tournées\, en explorant à la fois l’intime et les scènes de concerts\, le film décrit un parcours hors norme et un artiste en perpétuelle réflexion. \n \n\n\nConcert :\n\n+ 𝕬𝖉𝖔𝖑𝖋 𝕳𝖎𝖇𝖔𝖚\nNoise ovni – Montpellier – Label : Head records –\n \nLe boys-band bourrin montpellierain Adolf Hibou invoquera les fantômes de (nom de votre salle)\ndans une incantation noise surpuissante pour flirter avec les démons.\nConcert augmenté de vidéos d’animation réalisées pour Adolf Hibou \npar les plus grandes figures de la scène graphique underground.\ngros son + grosse ambiance = amour
URL:http://rockthistown-pau.fr/event/play-with-the-devil-becoming-zeal-ardor/
LOCATION:La Forge Moderne\, 19 avenue Gaston Lacoste\, Pau\, 64000\, France
CATEGORIES:Concert,Film hors compétition
ATTACH;FMTTYPE=image/jpeg:http://rockthistown-pau.fr/wp-content/uploads/2024/03/Play-WTD_Plakat_DIN_Laurels-copie.jpg
ORGANIZER;CN="A Tant R%C3%AAver du Roi":MAILTO:stephane@atrdr.net
END:VEVENT
BEGIN:VEVENT
DTSTART;TZID=Europe/Paris:20240428T180000
DTEND;TZID=Europe/Paris:20240428T220000
DTSTAMP:20260420T100501
CREATED:20240107T103853Z
LAST-MODIFIED:20240317T094346Z
UID:4257-1714327200-1714341600@rockthistown-pau.fr
SUMMARY:Film + concert noise\, hip-hop\, indus
DESCRIPTION:Film + concert noise\, hip-hop\, indus\nA Tant Rêver Du Roi\, The Mansion Press & Le Méliès\nParticipation libre mais nécessaire\n18h : Ouverture des portes /\nStand avec les productions du label A Tant Rêver Du Roi et The Mansion Press + dédicace de Adolf Hibou.\nhttps://themansionpress.com/collections/nils-bertho\nProjection du film :\nPlay with the Devil – Becoming Zeal & Ardor\nOlivier Joliat / 2023 / Suisse / 1h12 / VOSTF \nAvec son groupe Zeal & Ardor\, le musicien suisse Manuel Gagneux a été catapulté du jour au lendemain de l’underground vers les grandes scènes du monde. Le mélange audacieux de Black Metal\, de vieux chants de travail et de cris d’esclaves afro-américains – sa réponse à une provocation raciste sur Internet – est politiquement explosif. Religion\, racisme\, ségrégation et appropriation : avec sa musique\, Gagneux questionne et brise les tabous. Mais le fait d’être salué par ses fans comme un leader d’un nouveau genre effraie cet artiste introverti. Comment peut-il faire face à ces attentes démesurées ? En suivant l’artiste de son studio aux routes des tournées\, en explorant à la fois l’intime et les scènes de concerts\, le film décrit un parcours hors norme et un artiste en perpétuelle réflexion. \n \n\n\nConcert :\n\n𝕬𝖉𝖔𝖑𝖋 𝕳𝖎𝖇𝖔𝖚\nNoise ovni – Montpellier – Label : Head records –\n \nLe boys-band bourrin montpellierain Adolf Hibou invoquera les fantômes de (nom de votre salle)\ndans une incantation noise surpuissante pour flirter avec les démons.\nConcert augmenté de vidéos d’animation réalisées pour Adolf Hibou \npar les plus grandes figures de la scène graphique underground.\ngros son + grosse ambiance = amour
URL:http://rockthistown-pau.fr/event/soiree-atrdr-la-forge-moderne/
LOCATION:La Forge Moderne\, 19 avenue Gaston Lacoste\, Pau\, 64000\, France
CATEGORIES:Concert
ATTACH;FMTTYPE=image/jpeg:http://rockthistown-pau.fr/wp-content/uploads/2024/01/vinyle-Adolf-Hibou.jpg
ORGANIZER;CN="A Tant R%C3%AAver du Roi":MAILTO:stephane@atrdr.net
END:VEVENT
BEGIN:VEVENT
DTSTART;TZID=Europe/Paris:20240429T200000
DTEND;TZID=Europe/Paris:20240429T220000
DTSTAMP:20260420T100501
CREATED:20240310T143219Z
LAST-MODIFIED:20240316T064006Z
UID:4303-1714420800-1714428000@rockthistown-pau.fr
SUMMARY:Concert Erik Truffaz / Rollin' & Clap
DESCRIPTION:Concert Erik Truffaz « Rollin’ & Clap » \nPartenariat Jazz à Pau \nErik Truffaz (trompette)\, Marcello Giuliani (basse)\, Alexis Anérilles (claviers)\, Matthis Pascaud (guitare)\, Valentin Liechti (batterie). \nLe trompettiste franco-suisse Erik Truffaz est l’un des musiciens les plus brillants de sa génération. Référence mondiale du jazz\, son style est souvent comparé à celui de Mile Davis et sa musique est portée par la fusion et la découverte sonore. Dans son 17ème album Roll\, Truffaz revisite et ajoute sa touche unique à certaines des plus grandes pièces musicales de l’âge d’or du cinéma\, dont LE CASSE avec Jean-Paul Belmondo\, LA STRADA réalisée par Fellini\, ONE SILVER DOLLAR avec Marilyn Monroe. Même esprit dans l’album Clap!\, sorti fin octobre et clôturant le diptyque autour des musiques de films. Une tracklist pleine de mélodies émouvantes et reconnaissables qui nous ont fait rêver\, rire et pleurer. \nLundi 29 avril 2024 à 20h (il reste des places) et mardi 30 avril 2024 à 20h (complet). \nMardi 30 avril à 17h30\, projection des films Le 5e Silence (court-métrage)\, Ascenseur pour l’échafaud (clip) en présence de la réalisatrice et actrice Sandrine Bonnaire\, du réalisateur Nicolas Boualami et Carte Blanche à Erik Truffaz : « Ascenseur pour l’Echafaud » de Louis Malle \nERIC TRUFFAZ
URL:http://rockthistown-pau.fr/event/concert-erik-truffaz-rollin-clap/
LOCATION:le Foirail\, 15 Place du Foirail\, Pau\, 64000\, France
CATEGORIES:Concert
ATTACH;FMTTYPE=image/jpeg:http://rockthistown-pau.fr/wp-content/uploads/2024/03/Erik-Truffaz-Photo-by-Vincent-Guignet-2-2022-scaled.jpg
END:VEVENT
END:VCALENDAR