BEGIN:VCALENDAR
VERSION:2.0
PRODID:-//Rock This Town - ECPv6.10.2//NONSGML v1.0//EN
CALSCALE:GREGORIAN
METHOD:PUBLISH
X-ORIGINAL-URL:http://rockthistown-pau.fr
X-WR-CALDESC:Évènements pour Rock This Town
REFRESH-INTERVAL;VALUE=DURATION:PT1H
X-Robots-Tag:noindex
X-PUBLISHED-TTL:PT1H
BEGIN:VTIMEZONE
TZID:Europe/Paris
BEGIN:DAYLIGHT
TZOFFSETFROM:+0100
TZOFFSETTO:+0200
TZNAME:CEST
DTSTART:20250330T010000
END:DAYLIGHT
BEGIN:STANDARD
TZOFFSETFROM:+0200
TZOFFSETTO:+0100
TZNAME:CET
DTSTART:20251026T010000
END:STANDARD
END:VTIMEZONE
BEGIN:VEVENT
DTSTART;TZID=Europe/Paris:20250504T151500
DTEND;TZID=Europe/Paris:20250504T151500
DTSTAMP:20260419T231246
CREATED:20250323T110521Z
LAST-MODIFIED:20250323T110548Z
UID:4981-1746371700-1746371700@rockthistown-pau.fr
SUMMARY:Ciné-Concert : Mini Mini Chat Mini Mini Show
DESCRIPTION:Ciné Concert : Mini Mini Chat\, Mini Mini Show \nLe Club Des Chats / création 2016 / Images de Maïa Roger / 40mn / dès 3 ans / Musical \nMini Mini Chat Mini Mini Show est un ciné concert live pour enfants\, réalisé\, bruité et mis en musique par le Club des Chats. Il se présente comme un programme télévisuel musical espiègle et décalé. Au menu : les aventures burlesques de Claude la cacahuète\, Mifune le chaton bleu\, Minilait le hérisson et Canard le Canard\, mais aussi la visite d’une étrange planète en 3D anaglyphe. Tout un programme ! \nLes courts métrages \nOn y retrouve quatre personnages récurrents : Minilait le hérisson\, Mifüne la petite chatte bleue\, Canard le canard et Claude la cacahuète\, mis en scène dans des situations de leur vie quotidienne : des mercredis après-midi ponctués de petits événements singuliers et drôles comme des blagues au téléphone\, un anniversaire… Mission Minérus est un documentaire qui nous emmène à la découverte d’une planète imaginaire. Les différentes vues sont réalisées à partir de photomontages animés de minéraux. Véritable ovni graphique\, l’étrangeté et l‘onirisme de ces paysages sont soulignés par une projection en 3D anaglyphe à visionner avec des lunettes rouge et cyan. Le documentaire est commenté en direct et accompagné de musique expérimentale. Un présentateur chat annonce tantôt les courts métrages tantôt des pages de publicités espiègles et décalées. L’univers graphique de Mini Mini Chat Mini Mini Show est signé Maïa Roger. \nMusique \nLe club des chats est un duo batterie /guitare/ flûte à bec / voix\, composé de Maïa Roger et Le Chevalier de Rinchy. Ils interprètent joyeusement des ritournelles dynamiques dans un langage approximatif parfois proche de l’onomatopée. Pop bancale ou punk enfantin régressif ce duo sillonne depuis maintenant plus de dix ans les routes de France et d’Europe jouant leur musique aussi bien devant des adultes consentants que des enfants survoltés. Ils éditent leur disques et autres joyeusetés sur leur label le vilain chien. Mini Mini Chat Mini Mini Show est un ciné concert live pour enfants\, réalisé bruité et mis en musique par leur soins. \nTarif Unique film + concert : 6\,50 euros
URL:http://rockthistown-pau.fr/event/cine-concert-mini-mini-chat-mini-mini-show/
LOCATION:Cinéma Le Méliès\, 15 Place du Foirail\, Pau\, 64000\, France
CATEGORIES:Ciné Concert,The Kids Are Allright - Famille et jeune public
ATTACH;FMTTYPE=image/jpeg:http://rockthistown-pau.fr/wp-content/uploads/2025/03/mini-mini-chat.jpg
ORGANIZER;CN="Cin%C3%A9ma Le M%C3%A9li%C3%A8s":MAILTO:contact@lemelies.net
END:VEVENT
END:VCALENDAR