BEGIN:VCALENDAR
VERSION:2.0
PRODID:-//Rock This Town - ECPv6.10.2//NONSGML v1.0//EN
CALSCALE:GREGORIAN
METHOD:PUBLISH
X-WR-CALNAME:Rock This Town
X-ORIGINAL-URL:http://rockthistown-pau.fr
X-WR-CALDESC:Évènements pour Rock This Town
REFRESH-INTERVAL;VALUE=DURATION:PT1H
X-Robots-Tag:noindex
X-PUBLISHED-TTL:PT1H
BEGIN:VTIMEZONE
TZID:Europe/Paris
BEGIN:DAYLIGHT
TZOFFSETFROM:+0100
TZOFFSETTO:+0200
TZNAME:CEST
DTSTART:20240331T010000
END:DAYLIGHT
BEGIN:STANDARD
TZOFFSETFROM:+0200
TZOFFSETTO:+0100
TZNAME:CET
DTSTART:20241027T010000
END:STANDARD
END:VTIMEZONE
BEGIN:VEVENT
DTSTART;TZID=Europe/Paris:20240428T160000
DTEND;TZID=Europe/Paris:20240428T160000
DTSTAMP:20260420T184657
CREATED:20240323T092944Z
LAST-MODIFIED:20240411T074831Z
UID:4646-1714320000-1714320000@rockthistown-pau.fr
SUMMARY:Le tout p'tit ciné-concert (Jeune Public)
DESCRIPTION:Le tout p’tit ciné-concert – Spectacle tout public à partir de 18 mois\n \n30 minutes de films d’animation accompagnés par des musiciens sur scène \nUn spectacle en duo :\n• Laurent BERNARD (piano\, claviers)\n• Julien KAMOUN (baXerie\, scie musicale\, theremin)\nPublic : tout public dès 2 ans \nUne coproduction Philharmonique de la Roquette\, Studio Phosphore et Forum des images \nDessins animés\, peinture\, films d’animation\, autant de techniques grâce auxquelles le Tout p’tit Ciné-concert transporte les enfants dans un univers poétique\, drôle\, contemplatif ou rythmé\, permettant aux musiciens de s’amuser à créer différentes ambiances sonores et styles musicaux. \nAccompagné en direct par le Philharmonique de la Roquette \n\n\n\n \nLe Philharmonique de la Roquette est une compagnie de musiciens spécialisée dans la composition de musique originale et l’accompagnement en direct d’autres formes d’expression artistique : films muets\, pièces de théâtre\, danse\, projections\, lectures\, etc.\nNé à Arles dans le quartier de la Roquette\, le Philharmonique propose des ciné-concerts depuis vingt ans. Cette forme de spectacle vivant existe depuis les débuts du cinéma à l’époque où\, non sonores\, les films étaient accompagnés par un pianiste lors de leur projection.\nLa musique est parfois écrite\, parfois improvisée et il faut aller chercher dans la musique de film\, la pop\, le classique\, le jazz et l’électro pour appréhender l’étendue de ses sonorités. Apportant plus qu’une simple illustration\, les compositions du Philharmonique guident le spectateur pendant le film. Le déroulement du scénario sert de cadre\, de partition aux\nmusiciens. L’écriture musicale répond à la mise en scène et les aléas de l’improvisation jouent avec les mouvements de caméra. Depuis 2002\, la compagnie propose également des ateliers d’initiation au ciné-concert pour musiciens débutants ou confirmés. Plusieurs créations ont ainsi vu le jour : de la musique improvisée par des enfants sur des dessins animés à la composition d’une partition pour orchestre en collaboration avec des écoles de musique pour accompagner un film muet. \n\n\n\n\n\n\n  \n  \n  \n\n\n\n  \n  \n  \n 
URL:http://rockthistown-pau.fr/event/le-tout-ptit-cine-concert-jeune-public/
LOCATION:Cinéma Le Méliès\, 15 Place du Foirail\, Pau\, 64000\, France
CATEGORIES:Ciné Concert,The Kids Are Allright - Famille et jeune public
ATTACH;FMTTYPE=image/jpeg:http://rockthistown-pau.fr/wp-content/uploads/2022/03/affiche_TPCC_web.jpg
ORGANIZER;CN="Cin%C3%A9ma Le M%C3%A9li%C3%A8s":MAILTO:contact@lemelies.net
END:VEVENT
END:VCALENDAR