BEGIN:VCALENDAR
VERSION:2.0
PRODID:-//Rock This Town - ECPv6.10.2//NONSGML v1.0//EN
CALSCALE:GREGORIAN
METHOD:PUBLISH
X-ORIGINAL-URL:http://rockthistown-pau.fr
X-WR-CALDESC:Évènements pour Rock This Town
REFRESH-INTERVAL;VALUE=DURATION:PT1H
X-Robots-Tag:noindex
X-PUBLISHED-TTL:PT1H
BEGIN:VTIMEZONE
TZID:Europe/Paris
BEGIN:DAYLIGHT
TZOFFSETFROM:+0100
TZOFFSETTO:+0200
TZNAME:CEST
DTSTART:20260329T010000
END:DAYLIGHT
BEGIN:STANDARD
TZOFFSETFROM:+0200
TZOFFSETTO:+0100
TZNAME:CET
DTSTART:20261025T010000
END:STANDARD
END:VTIMEZONE
BEGIN:VEVENT
DTSTART;TZID=Europe/Paris:20260429T180000
DTEND;TZID=Europe/Paris:20260503T180000
DTSTAMP:20260425T174630
CREATED:20260407T064953Z
LAST-MODIFIED:20260407T064953Z
UID:5982-1777485600-1777831200@rockthistown-pau.fr
SUMMARY:EXPOSITION YANN TAILLEFER
DESCRIPTION:Cette année c’est l’artiste toulousain Yann Taillefer qui a signé le visuel de Rock This Town. Diplômé de l’école des Beaux-Arts d’Angoulême\, Yann Taillefer est un des membres fondateurs de La Maison Qui Pue\, collectif dont sont également issus d’autres auteurs de La boîte à bulles tels que Clément Baloup ou Laureline Matiussi. Il y publie notamment De mort à trépas en 2002. Avec sa patte naturelle plutôt  « underground »\, il rejoint le catalogue des Requins Marteaux en 2008 avec Rut\, puis publie Ito aux éditions Le Dernier Cri\, œuvre qui décroche le Prix BD au concours des plus beaux livres français. Il a rejoint depuis la maison The Mansion Press. Et comme on ne fait pas les choses à moitié\, Yann Taillefer viendra à Pau présenter ses ouvrages\, dédicacer quelques albums et une exposition de quelques unes de ses œuvres sera proposée ! \n  \n@Salle exposition Passage Carnot / 1er étage (en face d’Aquiu) \nHoraires  d’ouverture:  \nMercredi 29 avril\, 18h Vernissage exposition en présence de l’artiste \nVen. 1er mai\, 14h-18h / Sam. 2 mai\, 16h-20h / Dim. 3 mai\, 15h-18h
URL:http://rockthistown-pau.fr/event/exposition-yann-taillefer/
LOCATION:Passage Carnot\, 18 rue Carnot\, Pau\, 64000\, France
CATEGORIES:Exposition
ATTACH;FMTTYPE=image/png:http://rockthistown-pau.fr/wp-content/uploads/2026/04/Capture-decran-2026-04-07-a-08.48.22.png
ORGANIZER;CN="Cin%C3%A9ma Le M%C3%A9li%C3%A8s":MAILTO:contact@lemelies.net
END:VEVENT
BEGIN:VEVENT
DTSTART;TZID=Europe/Paris:20260503T090000
DTEND;TZID=Europe/Paris:20260503T170000
DTSTAMP:20260425T174630
CREATED:20260219T145954Z
LAST-MODIFIED:20260411T121049Z
UID:5642-1777798800-1777827600@rockthistown-pau.fr
SUMMARY:15e SALON DU DISQUE DE PAU
DESCRIPTION:15e Salon Du Disque de Pau\n\nOrganisé par Ampli & Rock This Town festival. \nOrganisé aux Halles de Pau (Carreau des Halles) \nLe rendez-vous incontournable des mélomanes amateurs et collectionneurs ! \nStands professionnels et particuliers + labels indépendants / Vinyls\, CD\, cassettes\, produits dérivés… \nToutes les époques\, tous les styles\, tous les prix \nSur place : restauration des Halles\, bar\, brasserie\, toilettes\, parking sous terrain\, accès de plein pied \nContact / réservation stand : Xavier au 06 03 42 37 70 / xlefalher@hotmail.com \nHalles de Pau / 8 rue Carnot / de 9h à 17h00 / entrée libre \n \n 
URL:http://rockthistown-pau.fr/event/15e-salon-du-disque-de-pau/
LOCATION:Halles de Pau\, 8 rue Carnot\, Pau\, 64000
CATEGORIES:Salon du Disque
ATTACH;FMTTYPE=application/pdf:http://rockthistown-pau.fr/wp-content/uploads/2026/02/affiche-salon.pdf
ORGANIZER;CN="Ampli":MAILTO:contact@ampli.asso.fr
END:VEVENT
BEGIN:VEVENT
DTSTART;TZID=Europe/Paris:20260503T100000
DTEND;TZID=Europe/Paris:20260503T180000
DTSTAMP:20260425T174630
CREATED:20260407T064513Z
LAST-MODIFIED:20260407T064513Z
UID:5979-1777802400-1777831200@rockthistown-pau.fr
SUMMARY:VENTE D'AFFICHES CINÉMA
DESCRIPTION:Stand Méliès : Affiches des films diffusés au Méliès (depuis son ouverture au Foirail)  \nStand Cinexpo : grande vente d’affiches originales des années 50 à aujourd’hui\, tous formats\, tous les genres\, tous les prix. \nDe 10h à 18h dans le hall du cinéma le Méliès
URL:http://rockthistown-pau.fr/event/vente-daffiches-cinema-3/
LOCATION:Cinéma Le Méliès\, 15 Place du Foirail\, Pau\, 64000\, France
CATEGORIES:Vente d'affiches cinéma
ATTACH;FMTTYPE=image/jpeg:http://rockthistown-pau.fr/wp-content/uploads/2026/04/vente-affiches.jpg
ORGANIZER;CN="Cin%C3%A9ma Le M%C3%A9li%C3%A8s":MAILTO:contact@lemelies.net
END:VEVENT
BEGIN:VEVENT
DTSTART;TZID=Europe/Paris:20260503T110000
DTEND;TZID=Europe/Paris:20260503T110000
DTSTAMP:20260425T174630
CREATED:20260406T193515Z
LAST-MODIFIED:20260410T041337Z
UID:5885-1777806000-1777806000@rockthistown-pau.fr
SUMMARY:BROKEN ENGLISH
DESCRIPTION:Broken English\nIain Forsyth\, Jane Pollard / Royaume-Uni / 2026 / 1h39 / VOSTF / Documentaire\nAvec Marianne Faithfull\, Tilda Swinton\, Nick Cave\, Courtney Love… \nIain Forsyth et Jane Pollard\, réalisateurs nominés aux BAFTA et lauréats du prix Sundance pour 20 000 DAYS ON EARTH (documentaire sur Nick Cave\, présenté lors de la 8e édition de Rock This Town)\, reviennent avec le très attendu BROKEN ENGLISH\, un documentaire audacieux qui dresse le portrait de la chanteuse\, compositrice et icône inimitable Marianne Faithfull. \n \n  \n  \n  \n  \n  \nÉgérie des sixties\, junkie sauvée des eaux… Voici les mille vies de l’actrice et chanteuse qui a passé plus de six décennies à défier les attentes\, sortant plus de 35 albums tout en se réinventant\nconstamment. Réalisé avec sa pleine collaboration\, BROKEN ENGLISH est une exploration intime et sans concession d’une vie fracturée mais indestructible\, façonnée par la célébrité\, la créativité\net l’attention incessante du public. Le film\, entre documentaire et fiction\, se déroule au sein du Ministry of Not Forgetting\, une institution cinématographique imaginaire où mémoire et mythologie s’entrechoquent. Avec un casting mené par Tilda Swinton et George MacKay\, et des performances musicales impeccables d’amis et collaborateurs tels que Nick Cave et Warren Ellis\, Courtney Love et Suki Waterhouse\, BROKEN ENGLISH est un acte de résilience et de rébellion qui défie les genres. C’est aussi la dernière apparitioninattendue et émouvante de Marianne Faithfull\, son chant du cygne\nprovocateur et bouleversant. Un portrait post-mortem qui aborde également les comportements déplacés de la presse\, les relations toxiques et les souvenirs d’une vie pleine de rencontres et de combats. \n \nAutre séance : dim. 26 avril 20h45 en présence des réalisateurs
URL:http://rockthistown-pau.fr/event/broken-english/
LOCATION:Cinéma Le Méliès\, 15 Place du Foirail\, Pau\, 64000\, France
CATEGORIES:Film hors compétition
ATTACH;FMTTYPE=application/pdf:http://rockthistown-pau.fr/wp-content/uploads/2026/04/MF-BE-BAFTA-1.4.pdf
ORGANIZER;CN="Cin%C3%A9ma Le M%C3%A9li%C3%A8s":MAILTO:contact@lemelies.net
END:VEVENT
BEGIN:VEVENT
DTSTART;TZID=Europe/Paris:20260503T110000
DTEND;TZID=Europe/Paris:20260503T110000
DTSTAMP:20260425T174630
CREATED:20260407T071713Z
LAST-MODIFIED:20260407T071724Z
UID:6003-1777806000-1777806000@rockthistown-pau.fr
SUMMARY:OLIVIER CACHIN - Rencontre-dédicace
DESCRIPTION:Rencontre-dédicace avec Olivier Cachin\nOlivier Cachin est journaliste\, écrivain\, documentariste et conférencier. Fondateur du magazine L’Affiche ainsi que des émissions télévisée Rapline\, Fax’O (M6) et Le Mag (MCM) dans les années 1990\, il a écrit une trentaine de livres parmi lesquels Nino Ferrer C’Était Pourtant Bien\, Les 100 Albums Légendaires Du Rap (préfacé par JoeyStarr)\, Michael Jackson Pop Life\, Rap Story (préface de Soprano)\, la bio Suprême NTM\, Dutronc Une Vie En Chansons (avec Éric Jean-Jean) et Rapologie\, un roman graphique avec Alain « Gaston » Rémy. Il a réalisé plusieurs documentaires dont La Story NTM sur CStar et animé durant dix ans l’émission Collection Privée sur Mouv’. Spécialiste reconnu des musiques contemporaines\, Olivier Cachin collabore notamment aux magazines Rock & Folk\, Gonzaï et Schnock ainsi qu’au site RFI Musique. \n \n  \n  \n  \n  \n  \n  \n  \n  \n  \n \nRéédition du livre Michael Jackson Pop Life \nMarc Dufaud\, auteur rock et réalisateur de rockumentaires sur Daniel Darc\, se concentre sur ce punk originel\, dont les racines remontent au début des seventies\, de New York à Londres en passant par Paris \n  \n  \n  \n  \n  \n  \n  \n  \n  \n  \n  \n  \n  \n  \n 
URL:http://rockthistown-pau.fr/event/olivier-cachin-rencontre-dedicace/
LOCATION:Cinéma Le Méliès\, 15 Place du Foirail\, Pau\, 64000\, France
CATEGORIES:Conférence
ATTACH;FMTTYPE=image/png:http://rockthistown-pau.fr/wp-content/uploads/2026/04/Capture-decran-2026-04-07-a-09.15.26.png
ORGANIZER;CN="Librairie l'Escampette":MAILTO:lescampette@greli.net
END:VEVENT
BEGIN:VEVENT
DTSTART;TZID=Europe/Paris:20260503T140000
DTEND;TZID=Europe/Paris:20260503T140000
DTSTAMP:20260425T174630
CREATED:20260404T161853Z
LAST-MODIFIED:20260410T041329Z
UID:5797-1777816800-1777816800@rockthistown-pau.fr
SUMMARY:I WAS A TEENAGE SEX PISTOLS
DESCRIPTION:I Was A Teenage Sex Pistols\n\nAndre Relis\, Nick Mead Royaume-Uni / 2025 / 1h38 VOSTF / Documentaire\nAvec Glen Matlock\, Steve Jones\, Paul Cook\, John Lyndon\, Sid Vicious\, Malcolm McLaren\, Debbie Harry… \nUn documentaire sur les Sex Pistols\, basé sur les mémoires de Glen Matlock\, bassiste et membre fondateur du groupe. Basé sur le roman éponyme écrit il y a déjà 30 ans\, I Was a Teenage Sex Pistols retrace le parcours de Glen Matlock en tant que membre fondateur d’un des groupes punk les plus influents : les Sex Pistols. Ayant coécrit dix des douze chansons de leur seul album studio Never Mind the Bollocks\, sa contribution a été essentielle au succès du groupe. On découvre avec le film l’ascension fulgurante des Pistols vers la notoriété mondiale à travers le récit honnête et perspicace de Matlock. Éjecté du groupe au moment où les provocations et les hymnes balancés à fond de caisse affolaient la planète\, Matlock semble parfois avoir été effacé de la photo de famille\, au profit de son remplaçant\, le très médiatique – et musicalement plutôt incompétent – Sid Vicious. Il règle ici quelques comptes mais rappelle également les prémices d’un mouvement punk qui continue à faire des émules. Un film de souvenirs\, de fausses rumeurs\, de vraies histoires et de légendes : l’histoire d’un héros oublié\, racontée par des membres du groupe\, l’histoire d’une Angleterre qui allait bientôt exploser au son de God Save The Queen ou d’Anarchy In The UK! \n \nAutre séance : samedi 25 avril à 20h30\, soirée d’ouverture en présence de Glen Matlock (Sex Pistols) \n 
URL:http://rockthistown-pau.fr/event/i-was-a-teenage-sex-pistols/
LOCATION:Cinéma Le Méliès\, 15 Place du Foirail\, Pau\, 64000\, France
CATEGORIES:Film hors compétition
ATTACH;FMTTYPE=image/jpeg:http://rockthistown-pau.fr/wp-content/uploads/2026/04/IWATSP.40x30pstr-copie.jpg
ORGANIZER;CN="Cin%C3%A9ma Le M%C3%A9li%C3%A8s":MAILTO:contact@lemelies.net
END:VEVENT
BEGIN:VEVENT
DTSTART;TZID=Europe/Paris:20260503T144500
DTEND;TZID=Europe/Paris:20260503T144500
DTSTAMP:20260425T174630
CREATED:20260407T063421Z
LAST-MODIFIED:20260410T041322Z
UID:5970-1777819500-1777819500@rockthistown-pau.fr
SUMMARY:FUGA LA SÉRIE (CLIPS) + Rencontre
DESCRIPTION:Fuga La Série\n3 épisodes de 10 min (en moyenne) \nCarte blanche au collectif La Houle \nLe réseau La Houle réunit les pros de l’audiovisuel au Pays Basque. Rencontres\, projets\, entraide\, événements : La Houle construit un écosystème créatif et ambitieux\, ouvert à toutes celles et ceux qui veulent faire bouger le territoire.  \nDécouvrez des groupes de musiques actuelles à travers des déambulations sonores dans des lieux insolites au Pays Basque. Dans chaque épisode\, un groupe nous interprète deux morceaux de son répertoire\, adaptés au lieu\, le tout dans une balade visuelle et sonore\, insolite et immersive. \nEn présence du réalisateur Mathias Bracho \n \nAprès des premières années à travailler sous son propre nom\, Mathias Bracho Lapeyre\, lance la société de production BONAMBI\, spécialisée dans les projets culturels\, de la musique à l’image aux reportages vidéos de projets autour du spectacle vivant … Travaillant en collaboration avec de nombreux profils variés\, directeur·rice artistiques\, chargé·e de production\, réalisateur·rice\, ingénieur·se du son\, étalonneur·se\, monteur·se\, mixeur·se. L’objectif est de continuer à créer de nombreux clips\, sessions live et captations de concerts destinés à être diffusés sur les réseaux sociaux\, chaînes YouTube des groupes\, et chaînes de télévision.
URL:http://rockthistown-pau.fr/event/fuga-la-serie-clips-rencontre/
LOCATION:Cinéma Le Méliès\, 15 Place du Foirail\, Pau\, 64000\, France
CATEGORIES:Carte blanche,Film hors compétition
ATTACH;FMTTYPE=image/jpeg:http://rockthistown-pau.fr/wp-content/uploads/2026/04/FUGA_PHOTOS_SABINA_HOURCADE_DSC07758.jpg
ORGANIZER;CN="Cin%C3%A9ma Le M%C3%A9li%C3%A8s":MAILTO:contact@lemelies.net
END:VEVENT
BEGIN:VEVENT
DTSTART;TZID=Europe/Paris:20260503T161500
DTEND;TZID=Europe/Paris:20260503T161500
DTSTAMP:20260425T174630
CREATED:20260407T054914Z
LAST-MODIFIED:20260410T041315Z
UID:5929-1777824900-1777824900@rockthistown-pau.fr
SUMMARY:UKRAINE FIRE + rencontre
DESCRIPTION:Ukraine Fire\nNayan Ducruet / États-Unis\, France / 2024 / 52’ / VOSTF / Documentaire \n \n  \n  \n  \n  \n  \n« Nous étions à la maison\, on dormait. C’était si bon de pouvoir dormir… ». Mais à 4 heures du matin\, ce 24 février 2022\, Vladimir Poutine annonce son « opération spéciale ». Et Damien\, l’enfant de Ganna\, n’ira pas à l’école. « La fin d’une vie normale ».  \nDepuis\, elle et ses amies du groupe des Dakh Daughters\, accueillies en Normandie par le Théâtre du Préau\, sillonnent l’Europe pour continuer de chanter\, jouer et témoigner\, même pour un aller-retour à Kiev sous les alarmes et les bombes. “Créer un front artistique” avait décidé Vlad\, leur manager\, dès les premiers jours de l’invasion. Le voici\, fort\, musclé\, déjanté\, sans concession : “Hitler-Poutine\, tu es un enc…”. Talentueux surtout. “Notre art\, c’est notre arme. C’est banal\, peut-être\, mais notre réalité”. Dans le public\, des larmes et une spectatrice qui s’enfouit le visage dans ses mains. Quelle puissance ! À l’issue de la projection\, qui pourrait encore penser que la résistance sur scène est une guerre d’opérette ? Tout au long de ce remarquable voyage\, musique\, chant\, coups de gueule et parfois doute s’invitent : “Sommes-nous vraiment utiles ?” résonne le message d’alerte de Vlad : “Si nous ne comprenons pas ce qu’est la liberté et le prix à payer pour elle\, nous ne pouvons pas défendre notre avenir”. \nProjection suivie d’une rencontre avec Nayan Ducruet \nPorté par ses origines multiculturelles\, Nayan Ducruet explore depuis plusieurs années les marges de la société à travers ses documentaires et ses courts métrages. Son regard empathique et sensible donne voix à des personnages exclus ou en quête d’identité. Il assume souvent les rôles de réalisateur et de chef opérateur pour créer des portraits intimes et engagés. Son travail mêle humanité\, diversité et engagement social. Il a aussi été impliqué dans la création de contenus vidéo pour des spectacles vivants\, par exemple sur des projets de performance mêlant théâtre\, danse et arts numériques. \n \n  \n 
URL:http://rockthistown-pau.fr/event/ukraine-fire-rencontre/
LOCATION:Cinéma Le Méliès\, 15 Place du Foirail\, Pau\, 64000\, France
CATEGORIES:Film hors compétition
ATTACH;FMTTYPE=image/jpeg:http://rockthistown-pau.fr/wp-content/uploads/2026/04/20250630_ukraine_fire_LowQ-scaled.jpg
ORGANIZER;CN="Cin%C3%A9ma Le M%C3%A9li%C3%A8s":MAILTO:contact@lemelies.net
END:VEVENT
BEGIN:VEVENT
DTSTART;TZID=Europe/Paris:20260503T180000
DTEND;TZID=Europe/Paris:20260503T180000
DTSTAMP:20260425T174630
CREATED:20260407T061948Z
LAST-MODIFIED:20260410T041309Z
UID:5959-1777831200-1777831200@rockthistown-pau.fr
SUMMARY:NOUS L'ORCHESTRE + rencontre OPPB
DESCRIPTION:Nous l’orchestre\nPhilippe Béziat / France / 2026 / 1h30 / Documentaire \nComment jouer ensemble sans se sentir disparaître dans la masse ? Comment cohabiter si longtemps sans que le groupe explose ? Quel rôle joue vraiment le chef d’orchestre ?  \nPour la première fois\, caméras et micros se faufilent parmi les 120 musiciens de l’Orchestre de Paris\, sous la baguette de leur jeune chef prodige\, Klaus Mäkelä. Un film immersif au cœur de la musique en train de se faire ; au plus près de l’expérience des musiciens\, de leurs émotions et de la beauté. C’est une œuvre passionnante et profondément humaine\, qui met en lumière à la fois la rigueur musicale et les émotions des musiciens. Le film est également vu comme une réflexion sur le travail collectif\, montrant comment l’individu s’efface au profit d’un ensemble. La mise en scène de Philippe Béziat se révèle très efficace dans sa capacité à capter les tensions et l’harmonie du groupe. \nProjection suivie d’une rencontre avec l’orchestre de Pau : Angélique Charlopain\, violon solo ; Cyril Lefrançois\, hautbois solo ; Fayçal Karoui\, Chef d’orchestre \n  \nAutres séances du film \nMer. 22 avril\, 20h / Jeu. 23 avril\, 15h45 / Ven. 24 avril\, 18h / Sam. 25 avril\, 18h30 / Dim 26 avril\, 16h30 / Lun. 27 avril\, 14h \nMar. 28 avril\, 17h45 / Mer. 29 avril\, 14h / Jeu. 30 avril\, 16h / Ven. 1er mai\, 16h  / Lun. 4 mai\, 16h
URL:http://rockthistown-pau.fr/event/nous-lorchestre-rencontre-oppb/
LOCATION:Cinéma Le Méliès\, 15 Place du Foirail\, Pau\, 64000\, France
CATEGORIES:Film hors compétition
ATTACH;FMTTYPE=image/jpeg:http://rockthistown-pau.fr/wp-content/uploads/2026/04/nous-lorchestre-120x160hd-scaled.jpg
ORGANIZER;CN="Cin%C3%A9ma Le M%C3%A9li%C3%A8s":MAILTO:contact@lemelies.net
END:VEVENT
BEGIN:VEVENT
DTSTART;TZID=Europe/Paris:20260503T181500
DTEND;TZID=Europe/Paris:20260503T181500
DTSTAMP:20260425T174630
CREATED:20260405T075221Z
LAST-MODIFIED:20260410T041258Z
UID:5839-1777832100-1777832100@rockthistown-pau.fr
SUMMARY:WE WANT THE FUNK
DESCRIPTION:We Want The Funk – Première française\nStanley Nelson\, Nicole London / États-Unis 2025 / 1h24 / VOSTF / Documentaire \n \nUn voyage syncopé à travers l’histoire de la musique funk\, depuis ses racines gospel\, soul\, highlife et jazz\, jusqu’à son essor et son influence sur le new wave et le hip-hop\, qui ont transcendé tant les créateurs que les auditeurs. \nLes moments révolutionnaires de ce mouvement sont capturés à travers le dynamisme de James Brown\, le funk extraterrestre du groupe Parliament Funkadelic de George Clinton\, le groupe féminin Labelle\, l’afrobeat de Fela Kuti et d’autres musiciens influents. Qu’est-ce que le funk ? La question s’avère plus complexe qu’il n’y paraît. « Tout ce dont nous avons besoin\, c’est d’un batteur »\, a déclaré un jour Sly Stone. S’agit-il donc d’une musique où seul le rythme compte ? We Want The Funk va beaucoup plus loin. Le funk était la bande originale d’une époque\, la fin des années 1960\, où les Noirs américains exprimaient leur identité avec une urgence croissante. James Brown\, père fondateur du funk\, électrisait le public avec une musique entièrement construite sur des riffs répétés. Ses chansons donnaient voix à une nouvelle conscience noire : « Say It Loud—I’m Black and I’m Proud ! ». Des musiciens comme Sly Stone et Prince ont perpétué le funk\, ouvrant la voie à l’émergence du hip-hop au début des années 1980. À travers une riche série d’entretiens et des images historiques rares\, le film explore également le funk sous l’angle de la religion\, de la géographie et de la théorie musicale. \n \nAutre séance : Lun. 28 avril 18h30
URL:http://rockthistown-pau.fr/event/we-want-the-funk-2/
LOCATION:Cinéma Le Méliès\, 15 Place du Foirail\, Pau\, 64000\, France
CATEGORIES:Film en compétition
ATTACH;FMTTYPE=image/jpeg:http://rockthistown-pau.fr/wp-content/uploads/2026/04/WEWANTFUNK_IG_Shareable_Evergreen.jpg
ORGANIZER;CN="Cin%C3%A9ma Le M%C3%A9li%C3%A8s":MAILTO:contact@lemelies.net
END:VEVENT
BEGIN:VEVENT
DTSTART;TZID=Europe/Paris:20260503T203000
DTEND;TZID=Europe/Paris:20260503T203000
DTSTAMP:20260425T174630
CREATED:20260404T163137Z
LAST-MODIFIED:20260410T041245Z
UID:5805-1777840200-1777840200@rockthistown-pau.fr
SUMMARY:DAYTIME REVOLUTION - Séance de clôture
DESCRIPTION:Daytime Revolution\nErik Nelson / Etats-Unis / 2024 / 1h48 / VOSTF / Documentaire\nAvec John Lennon\, Yoko Ono\, Chuck Berry \n \nDocumentaire inédit sur la légendaire semaine de résidence de John Lennon et Yoko Ono en 1972\, en tant qu’invités du Mike Douglas Show\, l’émission-débat la plus regardée à l’époque\, et sur son impact.\nEn février 1972\, Yoko Ono et John Lennon eurent une idée brillante : transformer un talk-show grand public en un “happening” d’art conceptuel en cinq parties\, présentant la fine fleur de la contre-culture politique et musicale. Leur co-conspirateur était Mike Douglas\, un animateur affable et extrêmement convivial\, qui donna pratiquement à John et Yoko les clés de son talk-show\, un programme regardé par 40 millions de téléspectateurs par jour. Le couple a trié sur le volet ses invités\, parmi lesquels Ralph Nader\, Jerry Rubin (fondateur des Yippies)\, Bobby Seale (Black Panthers) et l’humoriste George Carlin. Le film présente la musique de Lennon et Ono\, notamment une superbe interprétation de Imagine et une collaboration (un brin lunaire) avec Chuck Berry\, mémorable par la réaction amusée de ce dernier face au chant strident de Yoko. Un message durable d’amour\, de tolérance et de grand rock & roll. \n \n 
URL:http://rockthistown-pau.fr/event/daytime-revolution-seance-de-cloture/
LOCATION:Cinéma Le Méliès\, 15 Place du Foirail\, Pau\, 64000\, France
CATEGORIES:Film hors compétition
ATTACH;FMTTYPE=image/jpeg:http://rockthistown-pau.fr/wp-content/uploads/2026/04/Daytime-Revolution-poster-1-Fist-v2-A4-ESPRESSO-scaled.jpg
ORGANIZER;CN="Cin%C3%A9ma Le M%C3%A9li%C3%A8s":MAILTO:contact@lemelies.net
END:VEVENT
END:VCALENDAR