BEGIN:VCALENDAR
VERSION:2.0
PRODID:-//Rock This Town - ECPv6.10.2//NONSGML v1.0//EN
CALSCALE:GREGORIAN
METHOD:PUBLISH
X-WR-CALNAME:Rock This Town
X-ORIGINAL-URL:http://rockthistown-pau.fr
X-WR-CALDESC:Évènements pour Rock This Town
REFRESH-INTERVAL;VALUE=DURATION:PT1H
X-Robots-Tag:noindex
X-PUBLISHED-TTL:PT1H
BEGIN:VTIMEZONE
TZID:Europe/Paris
BEGIN:DAYLIGHT
TZOFFSETFROM:+0100
TZOFFSETTO:+0200
TZNAME:CEST
DTSTART:20260329T010000
END:DAYLIGHT
BEGIN:STANDARD
TZOFFSETFROM:+0200
TZOFFSETTO:+0100
TZNAME:CET
DTSTART:20261025T010000
END:STANDARD
END:VTIMEZONE
BEGIN:VEVENT
DTSTART;TZID=Europe/Paris:20260429T180000
DTEND;TZID=Europe/Paris:20260503T180000
DTSTAMP:20260425T174322
CREATED:20260407T064953Z
LAST-MODIFIED:20260407T064953Z
UID:5982-1777485600-1777831200@rockthistown-pau.fr
SUMMARY:EXPOSITION YANN TAILLEFER
DESCRIPTION:Cette année c’est l’artiste toulousain Yann Taillefer qui a signé le visuel de Rock This Town. Diplômé de l’école des Beaux-Arts d’Angoulême\, Yann Taillefer est un des membres fondateurs de La Maison Qui Pue\, collectif dont sont également issus d’autres auteurs de La boîte à bulles tels que Clément Baloup ou Laureline Matiussi. Il y publie notamment De mort à trépas en 2002. Avec sa patte naturelle plutôt  « underground »\, il rejoint le catalogue des Requins Marteaux en 2008 avec Rut\, puis publie Ito aux éditions Le Dernier Cri\, œuvre qui décroche le Prix BD au concours des plus beaux livres français. Il a rejoint depuis la maison The Mansion Press. Et comme on ne fait pas les choses à moitié\, Yann Taillefer viendra à Pau présenter ses ouvrages\, dédicacer quelques albums et une exposition de quelques unes de ses œuvres sera proposée ! \n  \n@Salle exposition Passage Carnot / 1er étage (en face d’Aquiu) \nHoraires  d’ouverture:  \nMercredi 29 avril\, 18h Vernissage exposition en présence de l’artiste \nVen. 1er mai\, 14h-18h / Sam. 2 mai\, 16h-20h / Dim. 3 mai\, 15h-18h
URL:http://rockthistown-pau.fr/event/exposition-yann-taillefer/
LOCATION:Passage Carnot\, 18 rue Carnot\, Pau\, 64000\, France
CATEGORIES:Exposition
ATTACH;FMTTYPE=image/png:http://rockthistown-pau.fr/wp-content/uploads/2026/04/Capture-decran-2026-04-07-a-08.48.22.png
ORGANIZER;CN="Cin%C3%A9ma Le M%C3%A9li%C3%A8s":MAILTO:contact@lemelies.net
END:VEVENT
BEGIN:VEVENT
DTSTART;TZID=Europe/Paris:20260430T180000
DTEND;TZID=Europe/Paris:20260430T180000
DTSTAMP:20260425T174322
CREATED:20260406T185124Z
LAST-MODIFIED:20260411T114438Z
UID:5861-1777572000-1777572000@rockthistown-pau.fr
SUMMARY:THE MAGIC CITY - BIRMINGHAM ACCORDING TO SUN RA
DESCRIPTION:The Magic City -Birmingham According To Sun Ra\nLe 22 mai 1914\, Herman Poole Blount arrive à Birmingham\, en Alabama. Il deviendra\,\nbien des années plus tard\, Sun Ra\, l’un des musiciens de jazz les plus extraordinaires et\nprolifiques de son siècle. \nGuillaume Maupin\, Pablo Guarise / Belgique / 2025 / 1h36 / VOSTF / Documentaire \n \n  \n  \n  \n  \n  \nSun Ra\, est l’un des musiciens de jazz les plus extraordinaires et prolifiques de son siècle\, ainsi que le fondateur d’une étrange philosophie cosmique. Surnommée « la ville magique »\, Birmingham était une ville ségréguée du sud industriel des États-Unis. C’est là que Sun Ra posa les fondements de sa pensée mystique et de sa musique\, voyant dans sa ville un monde incroyable\, plein de signes. Il la quitte pour Chicago à l’âge de 32 ans et n’y revient qu’en 1992\, peu avant sa mort. Portrait de l’artiste dans sa jeunesse autant que de la ville\, THE MAGIC CITY raconte les débuts de Sun Ra dans un univers urbain à la fois politique et magique\, commun et fantastique\, dérangeant et fascinant. Film musical ludique et flamboyant tourné en 16 mm\, il évite\nles interviews classiques et propose une approche mêlant roman initiatique et étude anthropologique. Sun Ra y est décrit comme un musicien ingénieux\, participant à une communauté riche et créative. Tourné avec les communautés de Birmingham\, le film combine images d’archives\, mise en scène ludique et reconstitutions\, devenant\nà la fois encyclopédique et joyeux\, historique et mythique. Wilhelmina Thomas\, griotte locale\, en devient la narratrice pleine d’esprit\, séduisant à la fois les fans inconditionnels de Sun Ra et les novices. \n \nAutre séance : Sam. 2 mai 17h45 en présence des réalisateurs Guillaume Maupin et Pablo Guarise
URL:http://rockthistown-pau.fr/event/the-magic-city-birmingham-according-to-sun-ra/
LOCATION:Cinéma Le Méliès\, 15 Place du Foirail\, Pau\, 64000\, France
CATEGORIES:Film en compétition
ATTACH;FMTTYPE=image/jpeg:http://rockthistown-pau.fr/wp-content/uploads/2026/04/Sun-ra-poster-def.jpeg
ORGANIZER;CN="Cin%C3%A9ma Le M%C3%A9li%C3%A8s":MAILTO:contact@lemelies.net
END:VEVENT
BEGIN:VEVENT
DTSTART;TZID=Europe/Paris:20260430T180000
DTEND;TZID=Europe/Paris:20260430T180000
DTSTAMP:20260425T174322
CREATED:20260407T054242Z
LAST-MODIFIED:20260411T114215Z
UID:5923-1777572000-1777572000@rockthistown-pau.fr
SUMMARY:ROOTS OF FRENCH DUB\, THE STORY OF IMPROVISATORS DUB + rencontre / DJ set
DESCRIPTION:Roots of French Dub – The Story of Improvisators Dub\nJean-Christophe Lasbennes\, Manu Mazaux / France / 2025  1h25 / Documentaire \n \nDébut des années 2000\, début d’une aventure unique\, les premiers pas d’Improvisators Dub\, pionniers du dub en France\, et début d’un film terminé 25 ans plus tard. À la fin des années 1990\, un groupe bordelais visionnaire bouleverse la scène musicale française : Improvisators Dub\, pionniers du dub hexagonal. Inspirés par la Jamaïque et par le dub anglais (Jah Shaka\, The Disciples\, The Scientist\, Mad Professor\, Winston McAnuff) et portés par une énergie expérimentale\, ils ouvrent la voie à toute une génération d’artistes et de sound systems. À travers des archives rares\, des images de concerts intenses et les témoignages de Jonah Dan\, Winston McAnuff\, Mark Iration\, High Tone ou encore Culture Dub\, Roots of French Dub raconte l’épopée d’un son\, d’un mouvement et d’une révolution musicale toujours vivante. « Nous avons voulu rendre hommage à Improvisators Dub\, mais aussi à toute une scène qui a su inventer une musique enracinée dans la tradition jamaïcaine tout en affirmant une identité française. Le dub est plus qu’un style : c’est une culture de liberté\, de partage et d’expérimentation. Ce film est notre façon de préserver cette mémoire et de la transmettre aux nouvelles générations »\, témoignent les deux réalisateurs. \nSéance suivie d’une rencontre avec Jean-Christophe Lasbennes et Manu Mazaux \nJean-Christophe Lasbennes : journaliste\, réalisateur\, passionné par les contre-cultures et l’histoire des musiques populaires. \nManu Mazaux: Artiste\, musicien\, réalisateur\, ancien étudiant en Anthropologie. Ensemble\, ils mêlent leurs regards pour raconter une histoire sensible et incarnée \n  \nSuivi d’un DJ set de Gary Clunk et Dub Machinist\n \n@ Durango Café\, 21h
URL:http://rockthistown-pau.fr/event/roots-of-french-dub-the-story-of-improvisators-dub-rencontre-dj-set/
LOCATION:Cinéma Le Méliès\, 15 Place du Foirail\, Pau\, 64000\, France
CATEGORIES:DJ set,Film hors compétition
ATTACH;FMTTYPE=image/png:http://rockthistown-pau.fr/wp-content/uploads/2026/04/Capture-decran-2026-04-07-a-07.40.09.png
ORGANIZER;CN="Cin%C3%A9ma Le M%C3%A9li%C3%A8s":MAILTO:contact@lemelies.net
END:VEVENT
BEGIN:VEVENT
DTSTART;TZID=Europe/Paris:20260430T200000
DTEND;TZID=Europe/Paris:20260430T200000
DTSTAMP:20260425T174322
CREATED:20260306T075401Z
LAST-MODIFIED:20260409T164650Z
UID:5726-1777579200-1777579200@rockthistown-pau.fr
SUMMARY:FILM : SUN RA\, DO THE IMPOSSIBLE + CONCERT : NICOLE JOHANNTGEN TRIO ROBIN
DESCRIPTION:JOURNÉE INTERNATIONALE DU JAZZ \n20h : film \n22h : Concert \nPartenaire Tonnerre de Jazz \nTarif plein : 25 € / Adhérents – abonnés : 20€ / réduit / 10 € \n  \nSun Ra Do The Impossible – Première française\nChristine Turner / Etats-Unis / 2026 / 1h24 / VOSTF / Documentaire \nUn portrait kaléidoscopique du musicien de jazz\, compositeur et poète visionnaire connu sous le nom de Sun Ra\, ainsi que des courants musicaux\, historiques et philosophiques qui l’ont façonné. Poète\, philosophe\, égyptologue\, chef d’orchestre. Le visionnaire du jazz Sun Ra était tout cela\, et bien plus encore. Avec son groupe en constante mutation\, le Sun Ra Arkestra\, il a produit plus de 200 albums\, repoussant les limites du free jazz tout en invoquant l’Égypte ancienne\, des métaphores interstellaires et des réflexions scientifiques dans une vision musicale et spirituelle singulière de l’afrofuturisme qui continue de résonner à travers les générations. La réalisatrice Christine Turner nous emmène dans un voyage passionnant à travers la vie de cet artiste aux multiples facettes\, équilibrant avec élégance les souvenirs des membres et danseurs toujours dévoués de l’Arkestra avec des interviews de spécialistes musicaux et des images inoubliables de films et de performances de Sun Ra lui-même. Le résultat est un portrait époustouflant d’un homme dont la vision audacieuse\, l’imagination hors du commun et le talent artistique sans compromis ont contribué à façonner non seulement le son du jazz\, mais aussi le paysage culturel du XXe siècle et au-delà. \n  \n\nConcert Nicole Johanntgen trio « Robin »\nNicole Johänntgen\, saxophone\nJon Hansen\, tuba\nDavid Stauffacher\, batterie \nNous l’avions accueillie en 2020 au cinéma Le Méliès avec son mini brass band\, pour un hommage à la Nouvelle-Orléans\, suscitant un enthousiasme unanime.\nNicole artiste allemande prolifique (elle anime de nombreuses formations\, écrit des méthodes) revient cette saison\, avec un trio original associant sax\, batterie et tuba !\nElle joue une musique festive puisant dans les rythmes afro-cubains qui enchante par sa vitalité joyeuse et donne envie de danser. Une occasion unique de découvrir cette artiste méconnue en France où ses apparitions se font rares. \n \n 
URL:http://rockthistown-pau.fr/event/international-jazz-day-film-concert/
LOCATION:Cinéma Le Méliès\, 15 Place du Foirail\, Pau\, 64000\, France
CATEGORIES:Concert,Film hors compétition
ATTACH;FMTTYPE=image/jpeg:http://rockthistown-pau.fr/wp-content/uploads/2026/03/NicoleJoahenntgen_by_Daniel_Bernet-scaled.jpg
END:VEVENT
BEGIN:VEVENT
DTSTART;TZID=Europe/Paris:20260430T210000
DTEND;TZID=Europe/Paris:20260430T210000
DTSTAMP:20260425T174322
CREATED:20260407T070937Z
LAST-MODIFIED:20260409T164613Z
UID:5997-1777582800-1777582800@rockthistown-pau.fr
SUMMARY:DJ SET Gary Clunk & Dub Machinist
DESCRIPTION:Gary Clunk & Dub Machinist \nDJ set dub / 1ère partie : Film ROOTS OF FRENCH DUB\, THE STORY OF IMPROVISATORS DUB \nJean-Christophe Lasbennes\, Manu Mazaux / France / 2025  1h25 / Documentaire \n@ Le Méliès – 18h \n  \n@ Durango Café \nCes deux producteurs et amis se sont rencontrés au début des années 2000. À l’époque où ils évoluaient respectivement au sein des collectifs Uzinabus et Natty Breakz. Deux parcours singuliers\, marqués par une exploration constante des possibilités infinies de la musique et de l’art du dub fortement influencés par le dub anglais et la musique jamaïcaine. Entre live et sélection\, ils vous invitent à plonger dans un univers où la tradition rencontre l’évolution musicale.
URL:http://rockthistown-pau.fr/event/dj-set-gary-clunk-dub-machinist/
LOCATION:Durango Café\, 20 rue du Hédas\, Pau\, 64000\, France
CATEGORIES:DJ set
ATTACH;FMTTYPE=image/jpeg:http://rockthistown-pau.fr/wp-content/uploads/2026/04/GCDM-pix-02-scaled.jpg
END:VEVENT
END:VCALENDAR