BEGIN:VCALENDAR
VERSION:2.0
PRODID:-//Rock This Town - ECPv6.10.2//NONSGML v1.0//EN
CALSCALE:GREGORIAN
METHOD:PUBLISH
X-WR-CALNAME:Rock This Town
X-ORIGINAL-URL:http://rockthistown-pau.fr
X-WR-CALDESC:Évènements pour Rock This Town
REFRESH-INTERVAL;VALUE=DURATION:PT1H
X-Robots-Tag:noindex
X-PUBLISHED-TTL:PT1H
BEGIN:VTIMEZONE
TZID:Europe/Paris
BEGIN:DAYLIGHT
TZOFFSETFROM:+0100
TZOFFSETTO:+0200
TZNAME:CEST
DTSTART:20260329T010000
END:DAYLIGHT
BEGIN:STANDARD
TZOFFSETFROM:+0200
TZOFFSETTO:+0100
TZNAME:CET
DTSTART:20261025T010000
END:STANDARD
END:VTIMEZONE
BEGIN:VEVENT
DTSTART;TZID=Europe/Paris:20260429T150000
DTEND;TZID=Europe/Paris:20260429T150000
DTSTAMP:20260425T174308
CREATED:20260221T142222Z
LAST-MODIFIED:20260221T142222Z
UID:5659-1777474800-1777474800@rockthistown-pau.fr
SUMMARY:LA PIE VOLEUSE d'Emanuele Luzzati\, Giulio Gianini
DESCRIPTION:Une adaptation de trois opéras de Rossini : « L’Italienne à Alger »\, « Polichinelle » et « La Pie voleuse ». Des courts métrages d’animation\, pour les petits et les grands\, hauts en couleur et chorégraphiés comme des ballets…\nTout public
URL:http://rockthistown-pau.fr/event/la-pie-voleuse-demanuele-luzzati-giulio-gianini/
LOCATION:Médiathèque de Lons\, Avenue de Santona\, Lons\, 64140
CATEGORIES:Film hors compétition,The Kids Are Allright - Famille et jeune public
ATTACH;FMTTYPE=image/jpeg:http://rockthistown-pau.fr/wp-content/uploads/2026/02/420259.jpg
END:VEVENT
BEGIN:VEVENT
DTSTART;TZID=Europe/Paris:20260429T180000
DTEND;TZID=Europe/Paris:20260503T180000
DTSTAMP:20260425T174308
CREATED:20260407T064953Z
LAST-MODIFIED:20260407T064953Z
UID:5982-1777485600-1777831200@rockthistown-pau.fr
SUMMARY:EXPOSITION YANN TAILLEFER
DESCRIPTION:Cette année c’est l’artiste toulousain Yann Taillefer qui a signé le visuel de Rock This Town. Diplômé de l’école des Beaux-Arts d’Angoulême\, Yann Taillefer est un des membres fondateurs de La Maison Qui Pue\, collectif dont sont également issus d’autres auteurs de La boîte à bulles tels que Clément Baloup ou Laureline Matiussi. Il y publie notamment De mort à trépas en 2002. Avec sa patte naturelle plutôt  « underground »\, il rejoint le catalogue des Requins Marteaux en 2008 avec Rut\, puis publie Ito aux éditions Le Dernier Cri\, œuvre qui décroche le Prix BD au concours des plus beaux livres français. Il a rejoint depuis la maison The Mansion Press. Et comme on ne fait pas les choses à moitié\, Yann Taillefer viendra à Pau présenter ses ouvrages\, dédicacer quelques albums et une exposition de quelques unes de ses œuvres sera proposée ! \n  \n@Salle exposition Passage Carnot / 1er étage (en face d’Aquiu) \nHoraires  d’ouverture:  \nMercredi 29 avril\, 18h Vernissage exposition en présence de l’artiste \nVen. 1er mai\, 14h-18h / Sam. 2 mai\, 16h-20h / Dim. 3 mai\, 15h-18h
URL:http://rockthistown-pau.fr/event/exposition-yann-taillefer/
LOCATION:Passage Carnot\, 18 rue Carnot\, Pau\, 64000\, France
CATEGORIES:Exposition
ATTACH;FMTTYPE=image/png:http://rockthistown-pau.fr/wp-content/uploads/2026/04/Capture-decran-2026-04-07-a-08.48.22.png
ORGANIZER;CN="Cin%C3%A9ma Le M%C3%A9li%C3%A8s":MAILTO:contact@lemelies.net
END:VEVENT
BEGIN:VEVENT
DTSTART;TZID=Europe/Paris:20260429T181500
DTEND;TZID=Europe/Paris:20260429T181500
DTSTAMP:20260425T174308
CREATED:20260407T063815Z
LAST-MODIFIED:20260411T114048Z
UID:5974-1777486500-1777486500@rockthistown-pau.fr
SUMMARY:KÖLN TRACKS + rencontre
DESCRIPTION:Köln Tracks\nVincent Duceau/ France / 2026 / 1h15 / Documentaire \nCarte blanche au festival Sœurs Jumelles de Rochefort \nFilm présenté par Julie Delord\, programmatrice du festival Sœurs Jumelles \n \n  \n  \n  \n  \n  \nC’est l’histoire d’une représentation de Keith Jarrett qui faillit ne pas avoir lieu. Pourtant\, son enregistrement donnera l’album de jazz solo le plus vendu dans le monde. \nAu cours d’une enquête rocambolesque à la recherche du mystérieux piano du Köln Concert se dévoilent peu à peu les coulisses d’un mythe\, et d’un génie à l’ œuvre. Derrière l’éclat d’un soi-disant miracle se cache le chaos : un piano défaillant\, un artiste épuisé\, un jeune organisateur\, des contradictions et des rencontres fortuites. Mais c’est aussi une histoire de résilience\, où les limites se transforment en force\, et où l’imperfection devient beauté. Le film rend hommage à la fois à la musique et au mythe\, tout en mettant en lumière le paradoxe d’un chef-d’œuvre renié par son créateur.  \n 
URL:http://rockthistown-pau.fr/event/koln-tracks/
LOCATION:Cinéma Le Méliès\, 15 Place du Foirail\, Pau\, 64000\, France
CATEGORIES:Carte blanche,Film hors compétition
ATTACH;FMTTYPE=image/png:http://rockthistown-pau.fr/wp-content/uploads/2026/04/Capture-decran-2026-04-07-a-08.39.10.png
ORGANIZER;CN="Cin%C3%A9ma Le M%C3%A9li%C3%A8s":MAILTO:contact@lemelies.net
END:VEVENT
BEGIN:VEVENT
DTSTART;TZID=Europe/Paris:20260429T183000
DTEND;TZID=Europe/Paris:20260429T183000
DTSTAMP:20260425T174308
CREATED:20260407T061003Z
LAST-MODIFIED:20260410T041522Z
UID:5948-1777487400-1777487400@rockthistown-pau.fr
SUMMARY:HEX
DESCRIPTION:Hex\nMaja Holand / Norvège / 2026  1h32 / VOSTF / Documentaire \n \nTout cela se passe au cœur de la grande scène black metal norvégienne. Celle-ci est mondialement connue\, dominée par les hommes\, macabre\, et constitue le terreau idéal pour que les sorcières renaissent.  \nC’est l’histoire de trois jeunes femmes ordinaires – Nikoline\, Victoria et Johanna – qui concluent un pacte de trois ans pour se transformer en un véritable groupe de black metal. Elles se baptisent « Witch Club Satan » et veulent utiliser leur musique pour exprimer les pouvoirs bruts et cachés des femmes\, sans savoir jouer d’un seul instrument au départ. Pour y parvenir\, elles cherchent à puiser leur force auprès des sorcières. Au cours des trois années où nous les suivons\, nous voyons le groupe s’enflammer rapidement. Le groupe Witch Club Satan acquiert une volonté et un pouvoir propres qui les entraînent dans des directions différentes. Nous suivons leur lutte pour préserver le rêve de liberté et de magie dans un monde souvent contradictoire\, masculin\, et l’équilibre difficile à trouver. Que se passe-t-il lorsqu’elles commencent à douter de leur propre liberté et qu’elles questionnent leur féminisme ? Dans l’ombre planent les anciens procès de sorcières. Condamnons-nous encore aujourd’hui les sorcières au silence ? \n  \n \n  \n 
URL:http://rockthistown-pau.fr/event/hex/
LOCATION:Cinéma Le Méliès\, 15 Place du Foirail\, Pau\, 64000\, France
CATEGORIES:Film hors compétition
ATTACH;FMTTYPE=image/png:http://rockthistown-pau.fr/wp-content/uploads/2026/04/Capture-decran-2026-04-07-a-08.09.25.png
ORGANIZER;CN="Cin%C3%A9ma Le M%C3%A9li%C3%A8s":MAILTO:contact@lemelies.net
END:VEVENT
BEGIN:VEVENT
DTSTART;TZID=Europe/Paris:20260429T200000
DTEND;TZID=Europe/Paris:20260429T200000
DTSTAMP:20260425T174308
CREATED:20260407T055459Z
LAST-MODIFIED:20260410T041512Z
UID:5939-1777492800-1777492800@rockthistown-pau.fr
SUMMARY:LA LUMIÈRE NE MEURT JAMAIS
DESCRIPTION:La Lumière ne meurt jamais\nLauri-Matti Parppei / Finlande\, Norvège / 2026 / 1h48 / VOSTF / Fiction \n \nPauli\, célèbre flûtiste classique\, retourne dans sa petite ville natale pour se remettre d’une dépression. Il renoue avec une ancienne camarade de classe\, qui lui propose de rejoindre un groupe de musique joyeusement anticonformiste. Comment Pauli\, de nature plutôt perfectionniste\, va-t-il se laisser embarquer dans cette aventure musicale aussi inattendue qu’expérimentale ? \n« D’une grande délicatesse tout en passant par des phases joyeusement sarcastiques\, le film est une pépite modeste mais qui crépite. Loin d’accentuer la marginalité\, la noise serait un chaos libérateur et fédérateur\, voici une des très belles idées de ce film sensible et original. » – Culturopoing.com \n« La douce réussite de ce premier long métrage de l’artiste finlandais·e Lauri-Matti Parppei tient justement au statut qu’il accorde à la musique\, refusant dans un même mouvement les clichés de l’adhésion béate et la facilité de la distance goguenarde. La Lumière ne meurt jamais est d’abord\, à l’image des apparitions du chien bleu fluo qui le parcourent\, un petit miracle non identifié d’une rare sensibilité. » – Les Cahiers du Cinéma \n \nAutre séance : Dim. 26 avril\, 11h
URL:http://rockthistown-pau.fr/event/la-lumiere-ne-meurt-jamais-2/
LOCATION:Cinéma Le Méliès\, 15 Place du Foirail\, Pau\, 64000\, France
CATEGORIES:Film hors compétition
ATTACH;FMTTYPE=image/jpeg:http://rockthistown-pau.fr/wp-content/uploads/2026/04/LLNMJ-AFF-WEB-scaled.jpg
ORGANIZER;CN="Cin%C3%A9ma Le M%C3%A9li%C3%A8s":MAILTO:contact@lemelies.net
END:VEVENT
BEGIN:VEVENT
DTSTART;TZID=Europe/Paris:20260429T203000
DTEND;TZID=Europe/Paris:20260429T203000
DTSTAMP:20260425T174308
CREATED:20260405T081457Z
LAST-MODIFIED:20260410T041516Z
UID:5855-1777494600-1777494600@rockthistown-pau.fr
SUMMARY:KREATOR\, HATE & HOPE + rencontre réalisatrice
DESCRIPTION:Kreator – Hate and Hope + rencontre réalisatrice\nen partenariat avec l’Institut Heinrich Mann \nCordula Kablitz-Post / Allemagne / 2025 1h50 / VOSTF / Documentaire \n \nVenez suivre la tournée mondiale du légendaire groupe de thrash metal Kreator au Japon\, en Inde\, à Los Angeles et en Allemagne\, tout en explorant leur histoire à travers des archives exclusives datant de 1984. \nPour leurs fans du monde entier\, ils sont des dieux\, mais leur musique semble possédée par le diable : plus agressive\, plus rapide et plus intransigeante que les autres. Le groupe allemand Kreator a depuis longtemps atteint le sommet de la scène thrash metal. Kreator – Hate & Hope retrace pour la première fois les quarante ans d’histoire du célèbre groupe\, depuis sa création en tant que groupe de collégiens en 1982 dans la région de la Ruhr jusqu’aux grandes scènes internationales de leur tournée mondiale actuelle. Aujourd’hui comme hier\, ils s’opposent à la haine et aux abîmes de notre société. Des sons stridents\, des riffs de guitare virtuoses et des battements de batterie pleins d’énergie : une belle recette pour traiter les troubles de notre civilisation avec une volonté et une créativité extraordinaires. Entre les citations d’Hannah Arendt et quelques cadavres décapités\, émerge une poésie du chaos bien ficelée\, pleine de symboles d’horreur : un cocktail Molotov musical contre le mal avec un effet cathartique\, mais aussi une bonne dose d’humour\, de second degré et d’esprit d’équipe qui honore une amitié bien réelle. \n \nProjection suivie d’une rencontre avec la réalisatrice Cordula Kablitz-Post \n \n  \nAutre date : Lun. 27 avril 18h
URL:http://rockthistown-pau.fr/event/kreator-hate-hope-rencontre-realisatrice/
LOCATION:Cinéma Le Méliès\, 15 Place du Foirail\, Pau\, 64000\, France
CATEGORIES:Film en compétition
ATTACH;FMTTYPE=image/jpeg:http://rockthistown-pau.fr/wp-content/uploads/2026/04/Kreator_Hate_Hope_10x15.jpeg
ORGANIZER;CN="Cin%C3%A9ma Le M%C3%A9li%C3%A8s":MAILTO:contact@lemelies.net
END:VEVENT
END:VCALENDAR