BEGIN:VCALENDAR
VERSION:2.0
PRODID:-//Rock This Town - ECPv6.10.2//NONSGML v1.0//EN
CALSCALE:GREGORIAN
METHOD:PUBLISH
X-WR-CALNAME:Rock This Town
X-ORIGINAL-URL:http://rockthistown-pau.fr
X-WR-CALDESC:Évènements pour Rock This Town
REFRESH-INTERVAL;VALUE=DURATION:PT1H
X-Robots-Tag:noindex
X-PUBLISHED-TTL:PT1H
BEGIN:VTIMEZONE
TZID:Europe/Paris
BEGIN:DAYLIGHT
TZOFFSETFROM:+0100
TZOFFSETTO:+0200
TZNAME:CEST
DTSTART:20260329T010000
END:DAYLIGHT
BEGIN:STANDARD
TZOFFSETFROM:+0200
TZOFFSETTO:+0100
TZNAME:CET
DTSTART:20261025T010000
END:STANDARD
END:VTIMEZONE
BEGIN:VEVENT
DTSTART;TZID=Europe/Paris:20260427T180000
DTEND;TZID=Europe/Paris:20260427T180000
DTSTAMP:20260425T174328
CREATED:20260405T081204Z
LAST-MODIFIED:20260411T112821Z
UID:5851-1777312800-1777312800@rockthistown-pau.fr
SUMMARY:KREATOR\, HATE & HOPE
DESCRIPTION:Kreator – Hate and Hope\nCordula Kablitz-Post / Allemagne / 2025 1h50 / VOSTF / Documentaire \n \nVenez suivre la tournée mondiale du légendaire groupe de thrash metal Kreator au Japon\, en Inde\, à Los Angeles et en Allemagne\, tout en explorant leur histoire à travers des archives exclusives datant de 1984. \nPour leurs fans du monde entier\, ils sont des dieux\, mais leur musique semble possédée par le diable : plus agressive\, plus rapide et plus intransigeante que les autres. Le groupe allemand Kreator a depuis longtemps atteint le sommet de la scène thrash metal. Kreator – Hate & Hope retrace pour la première fois les quarante ans d’histoire du célèbre groupe\, depuis sa création en tant que groupe de collégiens en 1982 dans la région de la Ruhr jusqu’aux grandes scènes internationales de leur tournée mondiale actuelle. Aujourd’hui comme hier\, ils s’opposent à la haine et aux abîmes de notre société. Des sons stridents\, des riffs de guitare virtuoses et des battements de batterie pleins d’énergie : une belle recette pour traiter les troubles de notre civilisation avec une volonté et une créativité extraordinaires. Entre les citations d’Hannah Arendt et quelques cadavres décapités\, émerge une poésie du chaos bien ficelée\, pleine de symboles d’horreur : un cocktail Molotov musical contre le mal avec un effet cathartique\, mais aussi une bonne dose d’humour\, de second degré et d’esprit d’équipe qui honore une amitié bien réelle. \n \nAutre date : Mer. 29 avril 20h30 en présence de la réalisatrice Cordula Kablitz-Post en partenariat avec l’Institut Heinrich Mann
URL:http://rockthistown-pau.fr/event/kreator-hate-hope/
LOCATION:Cinéma Le Méliès\, 15 Place du Foirail\, Pau\, 64000\, France
CATEGORIES:Film en compétition
ATTACH;FMTTYPE=image/jpeg:http://rockthistown-pau.fr/wp-content/uploads/2026/04/Kreator_Hate_Hope_10x15.jpeg
ORGANIZER;CN="Cin%C3%A9ma Le M%C3%A9li%C3%A8s":MAILTO:contact@lemelies.net
END:VEVENT
BEGIN:VEVENT
DTSTART;TZID=Europe/Paris:20260427T183000
DTEND;TZID=Europe/Paris:20260427T183000
DTSTAMP:20260425T174328
CREATED:20260407T053536Z
LAST-MODIFIED:20260411T113016Z
UID:5919-1777314600-1777314600@rockthistown-pau.fr
SUMMARY:INITIALES BB + rencontre
DESCRIPTION:Initiales BB\nAguérine Zar\, Sacha Trehorel France / 2025 / 52’ / Documentaire \nDe Brigitte Bardot à Burt Bacharach\, la pop culture est pleine d’artistes aux initiales BB. Mais des BB comme Bertrand Burgalat\, il n’en existe qu’un seul en France. \n \nÀ la fois musicien\, producteur (pour les autres)\, patron de label (Tricatel) et du SNEP (Syndicat National de l’Édition Phonographique)\, journaliste (Rock & Folk\, Technikart\, Club Jazzafip) et même lanceur d’alerte sanitaire (contre la méconnaissance du diabète)\, Burgalat écrit depuis 30 ans une partition atypique qu’il dirige avec un dosage unique de maîtrise et d’improvisation. « Burgalat\, c’est un homme au goût absolu\, avec de la liberté et de l’audace » (Etienne Daho). INITIALES BB\, premier documentaire consacré à Bertrand Burgalat\, retrace la philosophie « toutes directions » de cet homme qui a définitivement refusé de choisir entre toutes ses passions. Entre séquences d’enregistrement en studio (pour la série Ça c’est Paris\, France Télévisions)\, témoignages et scènes de vie\, INITIALES BB retrace l’histoire d’un musicien qui\, à force d’avoir perdu en combattant le système\, finit par gagner. Dans la lignée des « derniers grands de la chanson » comme Christophe\, Daho ou Gainsbourg avant lui\, Burgalat s’est imposé comme un personnage clé de la musique française\, autant capable de croiser la route de Valérie Lemercier que celles de Depeche Mode\, Michel Houellebecq\, Alain Chamfort\, Catastrophe\, Chassol ou Christophe Willem. Un éloge de l’indépendance et de la capacité de résistance des petits face aux puissants. \n  \nProjection suivie d’une rencontre avec Bertrand Burgalat\, Thomas Ducrès et Aguérine Zar \n  \n 
URL:http://rockthistown-pau.fr/event/initiales-bb-rencontre/
LOCATION:Cinéma Le Méliès\, 15 Place du Foirail\, Pau\, 64000\, France
CATEGORIES:Film hors compétition
ATTACH;FMTTYPE=image/jpeg:http://rockthistown-pau.fr/wp-content/uploads/2026/04/Initiales-BB-affiche-34.jpg
ORGANIZER;CN="Cin%C3%A9ma Le M%C3%A9li%C3%A8s":MAILTO:contact@lemelies.net
END:VEVENT
BEGIN:VEVENT
DTSTART;TZID=Europe/Paris:20260427T203000
DTEND;TZID=Europe/Paris:20260427T203000
DTSTAMP:20260425T174328
CREATED:20260406T190324Z
LAST-MODIFIED:20260411T113112Z
UID:5868-1777321800-1777321800@rockthistown-pau.fr
SUMMARY:LA 42
DESCRIPTION:Film : La 42 – Première française\nJosé Maria Cabral / République Dominicaine / 2025 / 1h31 / VOSTF / Documentaire \n \n  \n  \n  \n  \n  \n  \n  \n  \n  \nLA 42 plonge dans la vie d’artistes du perreo et du reggaeton. C’est une immersion sensorielle dans la vie de danseurs\, musiciens et artistes avides de célébrités\, confrontés à une répression qui fait face à leurs opinions et mode de vie peu orthodoxes en pleine République Dominicaine. LA 42 dévoile une contre-culture alternative dans le paysage urbain dominicain\, qui s’étend et se déploie sur les 600 mètres d’une rue étonnante et remplie d’histoires. On croise dans ce quartier des figures importantes et des leaders charismatiques : l’incontournable et très actif Demetal\, ou Natasha et Maco et leur approche plus radicale\, on rencontre des rappeurs\, des street-artistes\, des producteurs de musique. Sur cette contre-culture conçue pour secouer l’establishment\, le film apporte un regard sans concession et dévoile un univers rarement mis en lumière. Il va à l’encontre des nombreux a priori sur la jeunesse des quartiers. Car les habitants de la 42 font preuve de courage non pas avec leurs poings\, mais avec la musique\, la danse et l’expression. Leur art est brut\, urgent et profondément humain. En apprenant à connaître ses habitants on comprends mieux leurs motivations\, leurs luttes\, leurs faiblesses et surtout\, leur talent. Confrontée chaque jour à une dure réalité sociale\, qui comprend non seulement des épreuves\, mais aussi des abus de pouvoir\, en particulier de la part de la police\, la jeunesse de la 42 devient un exemple de résilience\, où l’art est à la fois survie et révolution. C’est le portrait d’une rue\, d’une réalité souvent ignorée\, mais c’est aussi un film latino diablement bien ficelé\, avec une structure et une écriture rare dans le documentaire musical.  \n  \nAutre séance : ven. 1er mai suivi du concert de Calle Mambo (Chili)\n \n 
URL:http://rockthistown-pau.fr/event/la-42/
LOCATION:Cinéma Le Méliès\, 15 Place du Foirail\, Pau\, 64000\, France
CATEGORIES:Film en compétition
ATTACH;FMTTYPE=image/jpeg:http://rockthistown-pau.fr/wp-content/uploads/2026/03/La-42-Poster-Final-Espanol-Ingles_logo-1.jpg
ORGANIZER;CN="Cin%C3%A9ma Le M%C3%A9li%C3%A8s":MAILTO:contact@lemelies.net
END:VEVENT
BEGIN:VEVENT
DTSTART;TZID=Europe/Paris:20260427T203000
DTEND;TZID=Europe/Paris:20260427T203000
DTSTAMP:20260425T174328
CREATED:20260406T191050Z
LAST-MODIFIED:20260411T113354Z
UID:5872-1777321800-1777321800@rockthistown-pau.fr
SUMMARY:DESIRE: THE CARL CRAIG STORY + rencontre Carl Craig et Jean-Cosme Delaloye
DESCRIPTION:Desire: The Carl Craig Story\n+ rencontre Carl Craig et Jean-Cosme Delaloye\nJean-Cosme Delaloye / Royaume-Uni\, Suisse / 2024 / 1h30 / VOSTF / Documentaire \nDESIRE: THE CARL CRAIG STORY est un portrait intime du légendaire producteur de\nmusique techno\, DJ et créateur de label Carl Craig\, ainsi qu’une ode à sa ville bien-aimée\,\nDetroit. \n \nÉlevé dans une famille afro-américaine de classe moyenne\, ses parents encouragent ses aspirations artistiques\, même si cela signifie rompre avec la tradition familiale de poursuivre des études supérieures. Avec en toile de fond le déclin et la renaissance de Detroit\, le film retrace la carrière d’un pionnier de la musique techno\, dont les créations\, défiant les genres\, ont été jouées devant des amateurs de jazz au Montreux Jazz Festival et dans les plus grandes salles de concert classiques du monde\, dont le Carnegie Hall. Après trente-cinq ans de carrière musicale\, Carl Craig\, figure de la deuxième génération d’artistes techno de Detroit\, est désormais reconnu par le monde des arts visuels\, avec des expositions récentes au MOCA de Los Angeles et au Dia Beacon de New York. Mais au sommet de son succès créatif et de sa carrière de DJ\, le musicien fait face à des défis qui pourraient le contraindre à s’éloigner des dancefloors. \n  \n  \nProjection suivie d’une rencontre avec Carl Craig et le réalisateur Jean-Cosme Delaloye \n \n  \n  \nDepuis 20 ans\, Jean-Cosme Delaloye parcourt le monde à la recherche d’histoires\, d’abord en tant que reporter\, puis en tant que cinéaste. Avant DESIRE : THE CARL CRAIG STORY\, sélectionné officiellement au Festival du film de Tribeca 2024\, il a réalisé sept longs métrages documentaires\, dont SCARS WE CARRY (2024) et HARLEY. En 2018\, Jean-Cosme a réalisé STRAY BULLET\, un documentaire profondément émouvant sur le meurtre de Genesis Rincon\, 12 ans\, lors d’une fusillade entre gangs à Paterson\, dans le New Jersey\, diffusé sur Netflix. Il a également réalisé deux longs métrages documentaires primés en Amérique centrale\, LA PRENDA\, un film sur l’enlèvement de jeunes femmes au Guatemala qui a été présenté en avant-première à Hot Docs en 2015\, et BY MY SIDE. Ses films ont été projetés dans plus de 50 festivals à travers le monde\, notamment Tribeca\, Hot Docs\, Guadalajara\, Mill Valley\, Sidewalk\, Philadelphie et Thessalonique. Jean-Cosme enseigne dans le cadre du programme de master en documentaire à l’École Supérieure du Journalisme à Paris et est le fondateur de JCDe Productions à Brooklyn\, New York. \n  \n  \n \nCarl Craig est un artiste multidisciplinaire et pionnier majeur de la techno de Detroit\, reconnu pour son indépendance créative et son influence durable sur la musique électronique mondiale. Depuis plus de trente ans\, il explore et repousse les limites du genre grâce à une approche ouverte\, innovante et profondément personnelle. Producteur\, DJ et compositeur\, il s’est imposé avec une identité sonore unique\, mêlant émotion\, funk et audace. Sous plusieurs pseudonymes comme 69\, Paperclip People ou C2\, il a contribué à élargir les frontières de la techno et à inspirer d’autres styles\, notamment la drum’n’bass. Sa carrière comprend de nombreux albums\, remixes et collaborations avec des artistes variés tels que Depeche Mode ou Tori Amos. Son travail a même été nommé aux Grammy Awards pour un remix des Junior Boys. Craig s’est également distingué par des projets innovants mêlant musique électronique\, orchestre et arts visuels\, comme l’album Versus ou l’installation immersive « Party/After Party »\, présentée dans des institutions artistiques majeures. Ambassadeur de Detroit\, il soutient la scène locale à travers ses compilations Detroit Love\, son label Planet E et sa participation au Movement Electronic Music Festival. Il joue également un rôle important de mentor auprès des jeunes artistes\, perpétuant l’héritage culturel de la techno de Detroit. \nSa vie et son parcours ont récemment été racontés dans le documentaire Desire: The Carl Craig Story\, présenté cette année au festival. Fidèle à sa vision artistique et à son esprit d’innovation\, Carl Craig continue aujourd’hui d’explorer de nouvelles formes créatives tout en restant une figure essentielle de la musique électronique. \n  \n 
URL:http://rockthistown-pau.fr/event/desire-the-carl-craig-story-rencontre-carl-craig-et-jean-cosme-delaloye/
LOCATION:Cinéma Le Méliès\, 15 Place du Foirail\, Pau\, 64000\, France
CATEGORIES:Film en compétition,Séances spéciales
ATTACH;FMTTYPE=image/jpeg:http://rockthistown-pau.fr/wp-content/uploads/2026/04/DESIRE_UK_ONESHEET_web.jpg
ORGANIZER;CN="Cin%C3%A9ma Le M%C3%A9li%C3%A8s":MAILTO:contact@lemelies.net
END:VEVENT
END:VCALENDAR