BEGIN:VCALENDAR
VERSION:2.0
PRODID:-//Rock This Town - ECPv6.10.2//NONSGML v1.0//EN
CALSCALE:GREGORIAN
METHOD:PUBLISH
X-ORIGINAL-URL:http://rockthistown-pau.fr
X-WR-CALDESC:Évènements pour Rock This Town
REFRESH-INTERVAL;VALUE=DURATION:PT1H
X-Robots-Tag:noindex
X-PUBLISHED-TTL:PT1H
BEGIN:VTIMEZONE
TZID:Europe/Paris
BEGIN:DAYLIGHT
TZOFFSETFROM:+0100
TZOFFSETTO:+0200
TZNAME:CEST
DTSTART:20260329T010000
END:DAYLIGHT
BEGIN:STANDARD
TZOFFSETFROM:+0200
TZOFFSETTO:+0100
TZNAME:CET
DTSTART:20261025T010000
END:STANDARD
END:VTIMEZONE
BEGIN:VEVENT
DTSTART;TZID=Europe/Paris:20260426T110000
DTEND;TZID=Europe/Paris:20260426T110000
DTSTAMP:20260425T174532
CREATED:20260407T055341Z
LAST-MODIFIED:20260411T112139Z
UID:5935-1777201200-1777201200@rockthistown-pau.fr
SUMMARY:LA LUMIÈRE NE MEURT JAMAIS
DESCRIPTION:La Lumière ne meurt jamais\nLauri-Matti Parppei / Finlande\, Norvège / 2026 / 1h48 / VOSTF / Fiction \n \nPauli\, célèbre flûtiste classique\, retourne dans sa petite ville natale pour se remettre d’une dépression. Il renoue avec une ancienne camarade de classe\, qui lui propose de rejoindre un groupe de musique joyeusement anticonformiste. Comment Pauli\, de nature plutôt perfectionniste\, va-t-il se laisser embarquer dans cette aventure musicale aussi inattendue qu’expérimentale ? \n« D’une grande délicatesse tout en passant par des phases joyeusement sarcastiques\, le film est une pépite modeste mais qui crépite. Loin d’accentuer la marginalité\, la noise serait un chaos libérateur et fédérateur\, voici une des très belles idées de ce film sensible et original. » – Culturopoing.com \n« La douce réussite de ce premier long métrage de l’artiste finlandais·e Lauri-Matti Parppei tient justement au statut qu’il accorde à la musique\, refusant dans un même mouvement les clichés de l’adhésion béate et la facilité de la distance goguenarde. La Lumière ne meurt jamais est d’abord\, à l’image des apparitions du chien bleu fluo qui le parcourent\, un petit miracle non identifié d’une rare sensibilité. » – Les Cahiers du Cinéma \n \nAutre séance : Mar. 29 avril 20h
URL:http://rockthistown-pau.fr/event/la-lumiere-ne-meurt-jamais/
LOCATION:Cinéma Le Méliès\, 15 Place du Foirail\, Pau\, 64000\, France
CATEGORIES:Film hors compétition
ATTACH;FMTTYPE=image/jpeg:http://rockthistown-pau.fr/wp-content/uploads/2026/04/LLNMJ-AFF-WEB-scaled.jpg
ORGANIZER;CN="Cin%C3%A9ma Le M%C3%A9li%C3%A8s":MAILTO:contact@lemelies.net
END:VEVENT
BEGIN:VEVENT
DTSTART;TZID=Europe/Paris:20260426T113000
DTEND;TZID=Europe/Paris:20260426T113000
DTSTAMP:20260425T174532
CREATED:20260404T155235Z
LAST-MODIFIED:20260409T161110Z
UID:5783-1777203000-1777203000@rockthistown-pau.fr
SUMMARY:Concert Lo Truc + Film SOUVENT L'HIVER SE MUTINE
DESCRIPTION:11h30 – Première partie concert Lo Truc @ Café Méliès (gratuit)\nRestauration rapide de 11h30 à 14h30\n \nLo Truc\, ce sont quatre musiciens âgés de 13 à 16 ans du conservatoire traditionnel de Pau. Ils pratiquent des instruments traditionnels\, plus ou moins locaux\, utilisés à l’origine pour animer un bal. \nJohanne\, accordéon diatonique\nGuilhèm\, flûte à trois trous\nJoan\, corneuse landaise\nMax\, vielle à roue \n  \n13h45 : Souvent l’hiver se mutine\n \nBenoît Perraud / France / 2026 / 1h14 / Documentaire \nUne traversée en archives du monde rural du Poitou au XXe siècle\, au son des chants des paysannes et des paysans.\nÀ travers un trésor d’archives rares\, Souvent l’hiver se mutine nous immerge dans la vie paysanne du Poitou au XXe siècle — ses gestes\, ses luttes\, ses rituels. Les voix de celles et ceux qui ont façonné cette terre s’élèvent en chants\, dévoilant une mémoire vive : celle d’une communauté dominée mais résistante\, qui construisait un patrimoine culturel unique. Un monde disparu reprend vie sous nos yeux\, dans une fresque sensible et politique.\n« Des années 1930 aux années 1970 en Poitou-Saintongeais\, des moments de la vie rurale ont été filmés par des caméras amateurs. La rencontre entre ces images d’archives et les chansons collectées aux sujets sociaux\, qui n’ont jamais rien d’anodin\, le tout dans un montage critique à la stimulation incessante\, offre une symphonie visuelle fascinante d’une histoire populaire méconnue. Le film bénéficie d’une inspiration profonde issue de la puissance poétique du cinéma muet et le regard critique aussi bien féministe qu’écologique\, avec une pincée de rafraîchissant anarchisme au cœur d’une histoire populaire de la ruralité qui reste encore à écrire avant de pouvoir occuper ne serait-ce que quelques paragraphes des manuels d’histoire. » – Cédric Lépine\, Médiapart
URL:http://rockthistown-pau.fr/event/souvent-lhiver-se-mutine-concert-lo-truc/
LOCATION:Cinéma Le Méliès\, 15 Place du Foirail\, Pau\, 64000\, France
CATEGORIES:Concert,Film hors compétition
ATTACH;FMTTYPE=image/jpeg:http://rockthistown-pau.fr/wp-content/uploads/2026/04/Lo-Truc-1-1.jpg
ORGANIZER;CN="Cin%C3%A9ma Le M%C3%A9li%C3%A8s":MAILTO:contact@lemelies.net
END:VEVENT
BEGIN:VEVENT
DTSTART;TZID=Europe/Paris:20260426T134500
DTEND;TZID=Europe/Paris:20260426T134500
DTSTAMP:20260425T174532
CREATED:20260409T160200Z
LAST-MODIFIED:20260411T112233Z
UID:6009-1777211100-1777211100@rockthistown-pau.fr
SUMMARY:SOUVENT L'HIVER SE MUTINE + rencontre
DESCRIPTION:11h30 – Première partie concert Lo Truc @ Café Méliès (gratuit)\nRestauration rapide de 11h30 à 14h30\n \nLo Truc\, ce sont quatre musiciens âgés de 13 à 16 ans du conservatoire traditionnel de Pau. Ils pratiquent des instruments traditionnels\, plus ou moins locaux\, utilisés à l’origine pour animer un bal. \nJohanne\, accordéon diatonique\nGuilhèm\, flûte à trois trous\nJoan\, corneuse landaise\nMax\, vielle à roue \n  \n13h45 : Souvent l’hiver se mutine\n \nBenoît Perraud / France / 2026 / 1h14 / Documentaire \nUne traversée en archives du monde rural du Poitou au XXe siècle\, au son des chants des paysannes et des paysans.\nÀ travers un trésor d’archives rares\, Souvent l’hiver se mutine nous immerge dans la vie paysanne du Poitou au XXe siècle — ses gestes\, ses luttes\, ses rituels. Les voix de celles et ceux qui ont façonné cette terre s’élèvent en chants\, dévoilant une mémoire vive : celle d’une communauté dominée mais résistante\, qui construisait un patrimoine culturel unique. Un monde disparu reprend vie sous nos yeux\, dans une fresque sensible et politique.\n« Des années 1930 aux années 1970 en Poitou-Saintongeais\, des moments de la vie rurale ont été filmés par des caméras amateurs. La rencontre entre ces images d’archives et les chansons collectées aux sujets sociaux\, qui n’ont jamais rien d’anodin\, le tout dans un montage critique à la stimulation incessante\, offre une symphonie visuelle fascinante d’une histoire populaire méconnue. Le film bénéficie d’une inspiration profonde issue de la puissance poétique du cinéma muet et le regard critique aussi bien féministe qu’écologique\, avec une pincée de rafraîchissant anarchisme au cœur d’une histoire populaire de la ruralité qui reste encore à écrire avant de pouvoir occuper ne serait-ce que quelques paragraphes des manuels d’histoire. » – Cédric Lépine\, Médiapart
URL:http://rockthistown-pau.fr/event/souvent-lhiver-se-mutine/
LOCATION:Cinéma Le Méliès\, 15 Place du Foirail\, Pau\, 64000\, France
CATEGORIES:Concert,Film hors compétition
ATTACH;FMTTYPE=image/jpeg:http://rockthistown-pau.fr/wp-content/uploads/2026/04/AFFICHE_SOUVENT_LHIVER_SE_MUTINE_SINGULARIS_FILMS-Light.jpeg
ORGANIZER;CN="CERC":MAILTO:contact@cerc-creacion.org
END:VEVENT
BEGIN:VEVENT
DTSTART;TZID=Europe/Paris:20260426T151500
DTEND;TZID=Europe/Paris:20260426T151500
DTSTAMP:20260425T174532
CREATED:20260404T151402Z
LAST-MODIFIED:20260404T151511Z
UID:5759-1777216500-1777216500@rockthistown-pau.fr
SUMMARY:CINÉ-CONCERT JEUNE PUBLIC - Machines à rêves
DESCRIPTION:Ciné-concert Machines à Rêves\nTrio Animatic / création 2016\nProgramme de 4 courts métrages\n35’ / dès 3 ans \nMusiciens :Nicolas Stoica : clavier\, glockenspiel\, percussions\, basseJonathan Leurquin (en alternance avec Pierre Cohen) : piano\, percussions\, guitare électrique\nThomas Rossi (en alternance avec Vincent Lochet ou Clément Caratini) : clarinette\, percussions\, voix\nPassionnés par la musique à l’image\, les trois multi-instrumentistes composent un univers musical aux sonorités inventives\, alliant douceur et rythmes pour mettre en musique la quête de personnages inventeurs et épris de liberté. \nAu programme : \nDeux ballons de Mark C. Smith (2018 – États-Unis)\nJonas et la mer de Marlies Van der Wel (2015 – Pays-Bas)\nLe Petit Cousteau de Jakub Kouřil (2014 – République tchèque)\nGalileo de Ghislain Avrillon (2007 – France)\nCo-production : Forum des images et Cinéma Public / Ciné Junior \n \n \n 
URL:http://rockthistown-pau.fr/event/cine-concert-jeune-public-machines-a-reves/
LOCATION:Cinéma Le Méliès\, 15 Place du Foirail\, Pau\, 64000\, France
CATEGORIES:Ciné Concert,Séance scolaire,The Kids Are Allright - Famille et jeune public
ATTACH;FMTTYPE=image/jpeg:http://rockthistown-pau.fr/wp-content/uploads/2026/04/Cine-concert-Machines-a-reves-29.jpg
ORGANIZER;CN="Cin%C3%A9ma Le M%C3%A9li%C3%A8s":MAILTO:contact@lemelies.net
END:VEVENT
BEGIN:VEVENT
DTSTART;TZID=Europe/Paris:20260426T160000
DTEND;TZID=Europe/Paris:20260426T160000
DTSTAMP:20260425T174532
CREATED:20260409T162824Z
LAST-MODIFIED:20260411T112331Z
UID:6014-1777219200-1777219200@rockthistown-pau.fr
SUMMARY:LE SILENCE DU MUSICIEN + rencontre
DESCRIPTION:Le Silence du musicien\nStéphanie Régnier / France / 2025 / 1h17 / Documentaire \n \nArtiste majeur de la scène expérimentale française\, Thomas Bonvalet explore depuis près de vingt ans\, avec son projet solo L’ocelle mare\, les possibilités d’une musique impliquant tout le corps et échappant à toute tentative de classification. \nNous suivons l’artiste en tournée sur les routes d’Europe et l’accompagnons dans la fabrication de son nouvel album\, enregistré dans une cabane au creux des bois. Mais\, tandis qu’une nouvelle tournée se prépare\, l’hyperacousie le terrasse. Forcé de se protéger des sons qui le blessent\, il doit faire face à la solitude et au silence.\nPortrait intimiste et sensoriel d’un artiste empêché\, déterminé à jouer à nouveau un jour. Un film bucolique\, frappant par ses audaces artistiques et sa mise en scène au coeur de la nature\, baignée dans un halo de tranquillité… jusqu’à ce que tout bascule. C’est le parcours unique d’un musicien qui passe de l’expérimentation musicale à l’expérimentation médicale\, alternant vie quotidienne\, répétitions et rendez-vous où la science pourra peut-être redonner un sens à la musique. \nProjection suivie d’une rencontre avec la réalisatrice Stéphanie Régnier \n  \n  \n 
URL:http://rockthistown-pau.fr/event/le-silence-du-musicien/
LOCATION:Cinéma Le Méliès\, 15 Place du Foirail\, Pau\, 64000\, France
CATEGORIES:Film en compétition
ATTACH;FMTTYPE=application/pdf:http://rockthistown-pau.fr/wp-content/uploads/2026/04/Affiche-A4-300dpi.pdf
ORGANIZER;CN="Cin%C3%A9ma Le M%C3%A9li%C3%A8s":MAILTO:contact@lemelies.net
END:VEVENT
BEGIN:VEVENT
DTSTART;TZID=Europe/Paris:20260426T163000
DTEND;TZID=Europe/Paris:20260426T163000
DTSTAMP:20260425T174532
CREATED:20260405T074230Z
LAST-MODIFIED:20260411T112416Z
UID:5828-1777221000-1777221000@rockthistown-pau.fr
SUMMARY:MIXTAPE
DESCRIPTION:Mixtape\nOmar Acosta / États-Unis / 2023 1h26 / VOSTF / Documentaire \nL’histoire d’un hip-hop qui refuse de se laisser faire. Avant la radio\, internet et les médias sociaux\, il y avait les mixtapes. Les DJ étaient les faiseurs de goût\, les précurseurs de tendances et les créateurs du son qui est devenu le plus grand genre musical de la planète. \n\nL’importance des mixtapes va bien au-delà de la cassette elle-même : elles étaient une forme de monnaie d’échange et un signe que quelqu’un était «dans le coup» et avait l’oreille de la rue. La culture était trop forte pour être arrêtée\, et les artistes trop talentueux pour être ignorés : ils ont donc transformé la sous-culture en courant dominant\, faisant du hip-hop ce qu’il est aujourd’hui. Le film nous rappelle un enjeu primordial : l’histoire de la musique passe aussi par les supports. Cette plongée au cœur de l’univers illégal des mixtapes décrit la bataille qui fait rage entre DJ\, artistes\, vendeurs et consommateurs\, d’un côté\, et les maisons de disques multimilliardaires et les sociétés de gestion de droits d’auteur\, de l’autre. Un documentaire foisonnant\, drôle\, captivant et qui rend hommage à une sous-culture\, un business rebelle et malin\, qui fera date. \n \n  \n 
URL:http://rockthistown-pau.fr/event/mixtape/
LOCATION:Cinéma Le Méliès\, 15 Place du Foirail\, Pau\, 64000\, France
CATEGORIES:Film en compétition
ATTACH;FMTTYPE=image/jpeg:http://rockthistown-pau.fr/wp-content/uploads/2026/04/mixtape_amazon_43.jpg
ORGANIZER;CN="Cin%C3%A9ma Le M%C3%A9li%C3%A8s":MAILTO:contact@lemelies.net
END:VEVENT
BEGIN:VEVENT
DTSTART;TZID=Europe/Paris:20260426T181500
DTEND;TZID=Europe/Paris:20260426T181500
DTSTAMP:20260425T174532
CREATED:20260404T154253Z
LAST-MODIFIED:20260411T112605Z
UID:5776-1777227300-1777227300@rockthistown-pau.fr
SUMMARY:SOUND DREAMS OF ISTANBUL + Concert Anil Eraslan
DESCRIPTION:Sound Dreams Of Istanbul\nAnil Eraslan / France\, Turquie / 2025 1h10 / VOSTF / Documentaire \nAux côtés de ses ami·es musicien·nes\, invité·es à raconter leurs rêves sonores et à les incarner en performances musicales\, le film se transforme en un portrait fantasmagorique d’Istanbul\, entre rêve et réalité. Musicien turc vivant à l’étranger depuis de nombreuses années\, Anil Eraslan dépeint la capitale de son pays comme une nouvelle pièce sonore\, improvisée et hétéroclite\, dans laquelle les bruits s’accumulent. Les inspirations sont très diverses\, mélangeant musiques traditionnelles et expérimentations. À travers les portraits d’artistes se livrant et partageant leurs processus créatifs\, on perçoit comment leur motivation perdure dans une ville où les conditions se dégradent. En révélant cette scène avant-gardiste qui questionne les outils traditionnels de la composition musicale\, c’est un Istanbul unique\, inconnu et halluciné qui nous est offert. Malgré la difficulté\, les protagonistes continuent de s’exprimer par leur art et leur grand rêve partagé. \n \nRENCONTRE + CONCERT ANIL ERASLAN\nAnil Eraslan est un violoncelliste turc né en 1981. Formé à Ankara puis au Conservatoire de Strasbourg\, il mélange dans sa musique plusieurs styles\, tels que l’improvisation\, le jazz\, la musique contemporaine et les musiques traditionnelles. Il collabore avec de nombreux musiciens et participe à différents ensembles\, partageant sa vie entre Berlin\, Strasbourg et Istanbul. Il se produit également en solo dans plusieurs festivals et compose des musiques de films\, tels que La Fin du Silence de Roland Edzard\, A Strange Colour of Dream de Yasemin Akinci et Silent Observers d’Eliza Petkova. Il a participé à plusieurs résidences artistiques\, notamment à Berlin dans le cadre du programme du CEAAC\, où il a développé un projet autour de l’improvisation et de la photographie au sténopé\, ainsi qu’à l’OMI Art Center à New York et au Goethe-Institut à Istanbul pour son projet de film documentaire. Par ailleurs\, il réalise en 2025 son premier documentaire\, Sound Dreams of Istanbul\, présenté dans de nombreux festivals et récompensé par plusieurs prix.
URL:http://rockthistown-pau.fr/event/sound-dreams-of-istanbul-concert-anil-eraslan/
LOCATION:Cinéma Le Méliès\, 15 Place du Foirail\, Pau\, 64000\, France
CATEGORIES:Concert,Film hors compétition
ATTACH;FMTTYPE=image/jpeg:http://rockthistown-pau.fr/wp-content/uploads/2026/04/SDI-poster-fr-copie.jpg
ORGANIZER;CN="Cin%C3%A9ma Le M%C3%A9li%C3%A8s":MAILTO:contact@lemelies.net
END:VEVENT
BEGIN:VEVENT
DTSTART;TZID=Europe/Paris:20260426T204500
DTEND;TZID=Europe/Paris:20260426T204500
DTSTAMP:20260425T174532
CREATED:20260406T193314Z
LAST-MODIFIED:20260411T112734Z
UID:5879-1777236300-1777236300@rockthistown-pau.fr
SUMMARY:BROKEN ENGLISH + rencontre réalisateurs
DESCRIPTION:Broken English\n+ rencontre Jane Pollard et Iain Forsyth\nIain Forsyth\, Jane Pollard / Royaume-Uni / 2026 / 1h39 / VOSTF / Documentaire\nAvec Marianne Faithfull\, Tilda Swinton\, Nick Cave\, Courtney Love… \nIain Forsyth et Jane Pollard\, réalisateurs nominés aux BAFTA et lauréats du prix Sundance pour 20 000 DAYS ON EARTH (documentaire sur Nick Cave\, présenté lors de la 8e édition de Rock This Town)\, reviennent avec le très attendu BROKEN ENGLISH\, un documentaire audacieux qui dresse le portrait de la chanteuse\, compositrice et icône inimitable Marianne Faithfull. \n \n  \n  \n  \n  \n  \nÉgérie des sixties\, junkie sauvée des eaux… Voici les mille vies de l’actrice et chanteuse qui a passé plus de six décennies à défier les attentes\, sortant plus de 35 albums tout en se réinventant\nconstamment. Réalisé avec sa pleine collaboration\, BROKEN ENGLISH est une exploration intime et sans concession d’une vie fracturée mais indestructible\, façonnée par la célébrité\, la créativité\net l’attention incessante du public. Le film\, entre documentaire et fiction\, se déroule au sein du Ministry of Not Forgetting\, une institution cinématographique imaginaire où mémoire et mythologie s’entrechoquent. Avec un casting mené par Tilda Swinton et George MacKay\, et des performances musicales impeccables d’amis et collaborateurs tels que Nick Cave et Warren Ellis\, Courtney Love et Suki Waterhouse\, BROKEN ENGLISH est un acte de résilience et de rébellion qui défie les genres. C’est aussi la dernière apparitioninattendue et émouvante de Marianne Faithfull\, son chant du cygne\nprovocateur et bouleversant. Un portrait post-mortem qui aborde également les comportements déplacés de la presse\, les relations toxiques et les souvenirs d’une vie pleine de rencontres et de combats. \n \nProjection suivie d’une rencontre avec Jane Pollard et Iain Forsyt  \nIain Forsyth Et Jane Pollard sont des artistes et cinéastes qui travaillent ensemble depuis leur rencontre à Goldsmiths au milieu des années 90. Leur premier long métrage\, 20\,000 DAYS ON EARTH\, consacré à Nick Cave et nominé aux BAFTA\, a été présenté en avant-première au festival de Sundance en 2014\, où il a remporté les prix de la mise en scène et du montage. Le jury a déclaré : « C’est le documentaire dans ce qu’il a de plus visionnaire et époustouflant ». Ils ont remporté le prix Douglas Hickox du meilleur premier film aux British Independent Film Awards. Leur dernier film\, THE EXTRAORDINARY MISS FLOWER\, vient de sortir en salles au Royaume-Uni sous l’égide du BFI après avoir été présenté en avant-première au Festival du film de Londres. Leurs œuvres sont collectionnées par des musées du monde entier\, dont la Tate Modern\, et ils ont collaboré avec un large éventail d’artistes musicaux\, parmi lesquels Scott Walker\, Gil Scott-Heron\, St. Vincent\, Bon Iver et Jarvis Cocker. Pour en savoir plus : www.iainandjane.com
URL:http://rockthistown-pau.fr/event/broken-english-rencontre-realisateurs/
LOCATION:Cinéma Le Méliès\, 15 Place du Foirail\, Pau\, 64000\, France
CATEGORIES:Film hors compétition
ATTACH;FMTTYPE=image/png:http://rockthistown-pau.fr/wp-content/uploads/2026/04/Capture-decran-2026-04-07-a-07.57.34.png
ORGANIZER;CN="Cin%C3%A9ma Le M%C3%A9li%C3%A8s":MAILTO:contact@lemelies.net
END:VEVENT
END:VCALENDAR